Workbook

Sheet Info
B1: Date de mise à jour
B2: - 5 mai 2025
B4: Onglet | C4: Contenu | D4: Revalorisation | E4: Dernière valeur connue | F4: Projection
B5: Revalo_RB | C5: Coefficient de revalorisation des salaires portés au compte et revalorisation annuelle | D5: - Depuis la LFSS2016, évolution sur les prix constatés en moyenne annuelle au 1er octobre - Décalage de la date de revalorisation des pensions et de l'ASPA au 1er janvier à partir de 2019 (pas de revalo des pensions au 1er octobre 2018) - Coup de pouce ASPA en 2018, 2019 et 2020 - Revalorisation de 4% au 01/08/2022 est incluse (attention : deux lignes pour 2022) | E5: 45658 | F5: =F7 -> Sur les prix HT
C6: Revalorisation annuelle des pensions liquidées
B7: Revalo_Inval | C7: Coefficient de revalorisation des pensions d'invalidité | E7: 45383 | F7: Sur les prix HT
B8: ASPA | C8: Plafond de ressources et montant annuel de l'ASPA pour une personne seule et pour un couple | E8: =E5 -> 45658 | F8: =F7 -> Sur les prix HT
B9: Minima | C9: Plafond annuel des retraites pour l'attribution du minimum contributif | D9: - Revalorisation de 4% des minima de pension en juillet 2022 - Revalorisation au 1er septembre 2023 - Mise en place d'un plafond pour les retraites déjà servies revalorisées au 1er septembre 2023 | E9: =E8 -> 45658 | F9: Selon scénario
C10: Minimum contributif, minimum contributif majoré, minimum garanti et PMR | D10: À partir de 2024 : évolution sur le SMIC et non plus sur les prix La PMR évolue comme le SMIC à partir de 2024 également. | E10: =E9 -> 45658 | F10: Selon scénario
B11: Prix_HT | C11: Prix hors tabac : hypothèses données par la DSS jusqu'en 2029 puis même hypothèse que les prix | E11: 2024 | F11: Selon scénario
B12: Sal_valid | C12: Montant du salaire validant un trimestre | D12: Selon le Smic | E12: =E5 -> 45658 | F12: Selon scénario
B13: Tx_CNAV | C13: Taux de cotisation CNAV | D13: Voir dans l'onglet | E13: 45292
B14: AGIRC-ARRCO | C14: Valeur d'achat et valeur de service du point AGIRC-ARRCO et taux de cotisation depuis nouveau régime en 2019 (onglets respectifs ARRCO et AGIRC avant 2019) | D14: Les projections prennent en compte les différentes mesures prévues par l’ANI du 5 octobre 2023 : en 2026, la VS est indexée sur l’inflation hors tabac estimée par l’Insee pour l’année en cours, réduite d’un coefficient de soutenabilité de 0,4 point. La VA évolue quant à elle annuellement (au 1er janvier) comme le salaire moyen du secteur privé de l’année précédente. De 2027 à 2038, la VS évolue comme le salaire moyen minoré de 1,16 % et la VA comme le salaire moyen. À partir de 2038, soit après la période couverte par l’ANI, la VS et la VA évoluent conventionnellement de concert, comme le salaire moyen minoré de 0,86 %. | E14: 45658 | F14: Selon scénario
B15: ARRCO | E15: 43465
B16: AGIRC | E16: 43465
B17: Smic_AVPF | C17: Montant du salaire porté au compte en cas d'AVPF | D17: Selon le Smic. | E17: =E12 -> 45658 | F17: Selon scénario
B18: RAFP | C18: Valeur d'achat et valeur de service du point RAFP | D18: Projection selon IPC hors tabac | E18: 44927

Sheet Revalo_RB
B1: Revalorisation annuelle
B2: Source : legislation.cnav
F3: Revalo de date à date | K3: Revalo moyenne sur l'année
B4: Année | C4: Salaires portés au compte | F4: Année | G4: Date de revalorisation | H4: Pensions liquidées Tous scénarios et variantes | K4: Année | L4: Nb de mois de revalo | M4: Pensions liquidées Tous scénarios et variantes
C5: Coefficient au 01/01/2025 | D5: Revalorisation annuelle*
D6: Tous scénarios et variantes | H6: Pension totale <= 2000 euros | I6: Pension totale > 2000 euros | M6: Pension totale <= 2000 euros | N6: Pension totale > 2000 euros
B7: 1947 | C7: 170.736 | D7: =C7/C8-1 -> 0.43228891 | F7: 1947 | K7: 1947
B8: 1948 | C8: 119.205 | D8: =C8/C9-1 -> 0.18311746 | F8: 1948 | K8: 1948
B9: 1949 | C9: 100.755 | D9: =C9/C10-1 -> 0.13990429 | F9: 1949 | K9: 1949
B10: 1950 | C10: 88.389 | D10: =C10/C11-1 -> 0.40921846 | F10: 1950 | K10: 1950
B11: 1951 | C11: 62.722 | D11: =C11/C12-1 -> 0.20007653 | F11: 1951 | K11: 1951
B12: 1952 | C12: 52.265 | D12: =C12/C13-1 -> 0.013948706 | F12: 1952 | K12: 1952
B13: 1953 | C13: 51.546 | D13: =C13/C14-1 -> 0.07010733 | F13: 1953 | K13: 1953
B14: 1954 | C14: 48.169 | D14: =C14/C15-1 -> 0.084960696 | F14: 1954 | K14: 1954
B15: 1955 | C15: 44.397 | D15: =C15/C16-1 -> 0.12020286 | F15: 1955 | K15: 1955
B16: 1956 | C16: 39.633 | D16: =C16/C17-1 -> 0.075084769 | F16: 1956 | K16: 1956
B17: 1957 | C17: 36.865 | D17: =C17/C18-1 -> 0.13518091 | F17: 1957 | K17: 1957
B18: 1958 | C18: 32.475 | D18: =C18/C19-1 -> 0.10508048 | F18: 1958 | K18: 1958
... B67: 2007 | C67: 1.302 | D67: =C67/C68-1 -> 0.0093023256 | F67: 2007 | K67: 2007
B68: 2008 | C68: 1.29 | D68: =C68/C69-1 -> 0.0086004691 | F68: 2008 | G68: 39904 | H68: 0.008 | I68: 0.008 | K68: 2008
B69: 2009 | C69: 1.279 | D69: =C69/C70-1 -> 0.0094711918 | F69: 2009 | G69: 39904 | H69: 0.01 | I69: 0.01 | K69: 2009 | L69: 9 | M69: 0.0155 | N69: 0.0155
B70: 2010 | C70: 1.267 | D70: =C70/C71-1 -> 0.0087579618 | F70: 2010 | G70: 40269 | H70: 0.009 | I70: 0.009 | K70: 2010 | L70: 9 | M70: 0.00925 | N70: 0.00925
B71: 2011 | C71: 1.256 | D71: =C71/C72-1 -> 0.020308692 | F71: 2011 | G71: 40634 | H71: 0.021 | I71: 0.021 | K71: 2011 | L71: 9 | M71: 0.018 | N71: 0.018
B72: 2012 | C72: 1.231 | D72: =C72/C73-1 -> 0.021576763 | F72: 2012 | G72: 41000 | H72: 0.021 | I72: 0.021 | K72: 2012 | L72: =12-MONTH(G72)+1 -> 9 | M72: 0.021 | N72: 0.021
B73: 2013 | C73: 1.205 | D73: =C73/C74-1 -> 0.011754828 | F73: 2013 | G73: 41365 | H73: 0.013 | I73: 0.013 | K73: 2013 | L73: =12-MONTH(G73)+1 -> 9 | M73: 0.015 | N73: 0.015
B74: 2014 | C74: 1.191 | D74: =C74/C75-1 -> 0 | F74: 2014 | G74: 41913 | H74: 0 | I74: 0 | K74: 2014 | L74: =12-MONTH(G74)+1 -> 3 | M74: 0.0032186185 | N74: 0.0032186185
B75: 2015 | C75: 1.191 | D75: =C75/C76-1 -> 0.00084033613 | F75: 2015 | G75: 42278 | H75: 0.001 | I75: 0.001 | K75: 2015 | L75: =12-MONTH(G75)+1 -> 3 | M75: 0.00025 | N75: 0.00025
B76: 2016 | C76: 1.19 | D76: =C76/C77-1 -> 0 | F76: 2016 | G76: =DATE(F76,10,1) -> 42644 | H76: 0 | I76: 0 | K76: 2016 | L76: =12-MONTH(G76)+1 -> 3 | M76: 0.00075 | N76: 0.00075
B77: 2017 | C77: 1.19 | D77: =C77/C78-1 -> 0.0076206605 | F77: 2017 | G77: =DATE(F77,10,1) -> 43009 | H77: 0.008 | I77: 0.008 | K77: 2017 | L77: =12-MONTH(G77)+1 -> 3 | M77: 0.002 | N77: 0.002
B78: 2018 | C78: 1.181 | D78: =C78/C79-1 -> 0.014604811 | F78: 2018 | K78: 2018 | L78: =12-MONTH(G78)+1 -> 12 | M78: 0.005988024 | N78: 0.006
B79: 2019 | C79: 1.164 | D79: =C79/C80-1 -> 0.0095403296 | F79: 2019 | G79: 43466 | H79: 0.003 | I79: 0.003 | K79: 2019 | L79: =12-MONTH(G79)+1 -> 12 | M79: 0.003 | N79: 0.003
B80: 2020 | C80: 1.153 | D80: =C80/C81-1 -> 0.0034812881 | F80: 2020 | G80: =DATE(F80,1,1) -> 43831 | H80: 0.01 | I80: 0.003 | K80: 2020 | L80: =12-MONTH(G80)+1 -> 12 | M80: 0.01 | N80: 0.003
B81: 2021 | C81: 1.149 | D81: =C81/C82-1 -> 0.01055409 | F81: 2021 | G81: =DATE(F81,1,1) -> 44197 | H81: 0.004 | I81: 0.004 | K81: 2021 | L81: =12-MONTH(G81)+1 -> 12 | M81: 0.0039816282 | N81: 0.004
B82: 2022 | C82: 1.137 | D82: =C82/C84-1 -> 0.047926267 | F82: 2022 | G82: =DATE(F82,1,1) -> 44562 | H82: 0.011 | I82: 0.011
F83: 2022 | G83: =DATE(F83,7,1) -> 44743 | H83: 0.04 | I83: 0.04 | K83: 2022 | L83: =12-MONTH(G83)+1 -> 6 | M83: 0.030519485 | N83: =M83 -> 0.030519485
B84: 2023 | C84: 1.085 | D84: =C84/C85-1 -> 0.052376334 | F84: 2023 | G84: =DATE(F84,1,1) -> 44927 | H84: 0.008 | I84: 0.008 | K84: 2023 | L84: =12-MONTH(G84)+1 -> 12 | M84: 0.027990549 | N84: =M84 -> 0.027990549
B85: 2024 | C85: 1.031 | D85: =C85/C86-1 -> 0.021803766 | F85: 2024 | G85: =DATE(F85,1,1) -> 45292 | H85: 0.053 | I85: 0.053 | K85: 2024 | L85: =12-MONTH(G85)+1 -> 12 | M85: 0.053 | N85: =I85 -> 0.053
B86: 2025 | C86: 1.009 | F86: 2025 | G86: =DATE(F86,1,1) -> 45658 | H86: 0.022 | I86: 0.022 | K86: 2025 | L86: =12-MONTH(G86)+1 -> 12 | M86: 0.022 | N86: =I86 -> 0.022
B87: 2026 | C87: 1 | D87: 0.009 | F87: 2026 | G87: =DATE(F87,1,1) -> 46023 | H87: 0.009 | I87: 0.009 | K87: 2026 | L87: =12-MONTH(G87)+1 -> 12 | M87: =H87 -> 0.009 | N87: =I87 -> 0.009
B88: 2027 | D88: 0.016 | F88: 2027 | G88: =DATE(F88,1,1) -> 46388 | H88: 0.016 | I88: 0.016 | K88: 2027 | L88: =12-MONTH(G88)+1 -> 12 | M88: =H88 -> 0.016 | N88: =I88 -> 0.016
...

Sheet Revalo_Inval
B1: Revalorisation annuelle des pensions d'invalidité
B2: Source : dss
B4: Année | C4: Date de revalorisation | D4: Tous scénarios et variantes
B6: 1947
B7: 1948
B8: 1949
B9: 1950
B10: 1951
B11: 1952
B12: 1953
B13: 1954
B14: 1955
B15: 1956
B16: 1957
B17: 1958
... B69: 2010
B70: 2011 | C70: 40634
B71: 2012 | C71: 41000
B72: 2013 | C72: 41365
B73: 2014 | C73: 41913
B74: 2015 | C74: =DATE(B74,4,1) -> 42095 | D74: 0
B75: 2016 | C75: =DATE(B75,4,1) -> 42461 | D75: 0.001
B76: 2017 | C76: =DATE(B76,4,1) -> 42826 | D76: 0.003
B77: 2018
B78: 2019 | C78: =DATE(B78,4,1) -> 43556 | D78: 0.003
B79: 2020 | C79: =DATE(B79,4,1) -> 43922 | D79: 0.003
B80: 2021 | C80: =DATE(B80,4,1) -> 44287 | D80: 0.001
B81: 2022 | C81: =DATE(B81,4,1) -> 44652 | D81: 0.018
B82: 2022 | C82: =DATE(B82,7,1) -> 44743 | D82: 0.04
B83: 2023 | C83: =DATE(B83,4,1) -> 45017 | D83: 0.0154
B84: 2024 | C84: =DATE(B84,4,1) -> 45383 | D84: 0.046
B85: 2025 | C85: =DATE(B85,4,1) -> 45748 | D85: 0.017
B86: 2026 | C86: =DATE(B86,4,1) -> 46113 | D86: 0.008
B87: 2027 | C87: =DATE(B87,4,1) -> 46478 | D87: 0.021
B88: 2028 | C88: =DATE(B88,4,1) -> 46844 | D88: 0.015
B89: 2029 | C89: =DATE(B89,4,1) -> 47209 | D89: 0.018
B90: 2030 | C90: =DATE(B90,4,1) -> 47574 | D90: 0.018
B91: 2031 | C91: =DATE(B91,4,1) -> 47939 | D91: =Revalo_RB!H92 -> 0.0175
B92: 2032 | C92: =DATE(B92,4,1) -> 48305 | D92: =Revalo_RB!H93 -> 0.0175
B93: 2033 | C93: =DATE(B93,4,1) -> 48670 | D93: =Revalo_RB!H94 -> 0.0175
...

Sheet ASPA
B1: Plafond annuel de ressources et montant de l'allocation de solidarité pour une personne âgée
B2: Source : legislation.cnav
B4: Année | C4: Date de revalorisation | D4: Aspa personne seule | H4: Évolution Aspa personne seule* | J4: Aspa couple | N4: Évolution Aspa couple*
D5: Plafond annuel de ressources | E5: Montant annuel de l'allocation | F5: Plafond mensuel de ressources | G5: Montant mensuel de l'allocation | H5: Plafond de ressources | I5: Montant de l'allocation | J5: Plafond annuel de ressources | K5: Montant annuel de l'allocation | L5: Plafond mensuel de ressources | M5: Montant mensuel de l'allocation | N5: Plafond de ressources | O5: Montant annuel de l'allocation
D6: Tous scénarios | E6: Tous scénarios | F6: Tous scénarios | G6: Tous scénarios | H6: Tous scénarios | I6: Tous scénarios | J6: Tous scénarios | K6: Tous scénarios | N6: Tous scénarios | O6: Tous scénarios
B7: =YEAR(C7) -> 2006 | C7: 38718 | D7: 7500.53 | E7: 7323.48 | F7: =D7/12 -> 625.04417 | G7: =E7/12 -> 610.29 | J7: 13137.69 | K7: 13137.69 | L7: =J7/12 -> 1094.8075 | M7: =K7/12 -> 1094.8075
B8: =YEAR(C8) -> 2007 | C8: 39083 | D8: 7635.53 | E8: 7455.3 | F8: =D8/12 -> 636.29417 | G8: =E8/12 -> 621.275 | H8: =D8/D7-1 -> 0.017998728 | I8: =E8/E7-1 -> 0.01799964 | J8: 13374.16 | K8: 13374.16 | L8: =J8/12 -> 1114.5133 | M8: =K8/12 -> 1114.5133 | N8: =J8/J7-1 -> 0.017999359 | O8: =K8/K7-1 -> 0.017999359
B9: =YEAR(C9) -> 2008 | C9: 39448 | D9: 7719.52 | E9: 7537.3 | F9: =D9/12 -> 643.29333 | G9: =E9/12 -> 628.10833 | H9: =D9/D8-1 -> 0.010999891 | I9: =E9/E8-1 -> 0.010998887 | J9: 13521.27 | K9: 13521.27 | L9: =J9/12 -> 1126.7725 | M9: =K9/12 -> 1126.7725 | N9: =J9/J8-1 -> 0.010999569 | O9: =K9/K8-1 -> 0.010999569
B10: =YEAR(C10) -> 2008 | C10: 39692 | D10: 7781.27 | E10: 7597.59 | F10: =D10/12 -> 648.43917 | G10: =E10/12 -> 633.1325 | H10: =D10/D9-1 -> 0.007999202 | I10: =E10/E9-1 -> 0.0079988855 | J10: 13629.44 | K10: 13629.44 | L10: =J10/12 -> 1135.7867 | M10: =K10/12 -> 1135.7867 | N10: =J10/J9-1 -> 0.0079999882 | O10: =K10/K9-1 -> 0.0079999882
B11: =YEAR(C11) -> 2009 | C11: 39814 | D11: 7781.27 | E11: 7597.59 | F11: =D11/12 -> 648.43917 | G11: =E11/12 -> 633.1325 | H11: =D11/D10-1 -> 0 | I11: =E11/E10-1 -> 0 | J11: 13629.44 | K11: 13629.44 | L11: =J11/12 -> 1135.7867 | M11: =K11/12 -> 1135.7867 | N11: =J11/J10-1 -> 0 | O11: =K11/K10-1 -> 0
B12: =YEAR(C12) -> 2009 | C12: 39904 | D12: 8309.27 | E12: 8125.59 | F12: =D12/12 -> 692.43917 | G12: =E12/12 -> 677.1325 | H12: =D12/D11-1 -> 0.067855247 | I12: =E12/E11-1 -> 0.069495722 | J12: 13765.73 | K12: 13765.73 | L12: =J12/12 -> 1147.1442 | M12: =K12/12 -> 1147.1442 | N12: =J12/J11-1 -> 0.0099996772 | O12: =K12/K11-1 -> 0.0099996772
B13: =YEAR(C13) -> 2010 | C13: 40179 | D13: 8309.27 | E13: 8125.59 | F13: =D13/12 -> 692.43917 | G13: =E13/12 -> 677.1325 | H13: =D13/D12-1 -> 0 | I13: =E13/E12-1 -> 0 | J13: 13765.73 | K13: 13765.73 | L13: =J13/12 -> 1147.1442 | M13: =K13/12 -> 1147.1442 | N13: =J13/J12-1 -> 0 | O13: =K13/K12-1 -> 0
B14: =YEAR(C14) -> 2010 | C14: 40269 | D14: 8507.49 | E14: 8507.49 | F14: =D14/12 -> 708.9575 | G14: =E14/12 -> 708.9575 | H14: =D14/D13-1 -> 0.023855285 | I14: =E14/E13-1 -> 0.046999664 | J14: 13889.62 | K14: 13889.62 | L14: =J14/12 -> 1157.4683 | M14: =K14/12 -> 1157.4683 | N14: =J14/J13-1 -> 0.0089998859 | O14: =K14/K13-1 -> 0.0089998859
B15: =YEAR(C15) -> 2011 | C15: 40544 | D15: 8507.49 | E15: 8507.49 | F15: =D15/12 -> 708.9575 | G15: =E15/12 -> 708.9575 | H15: =D15/D14-1 -> 0 | I15: =E15/E14-1 -> 0 | J15: 13889.62 | K15: 13889.62 | L15: =J15/12 -> 1157.4683 | M15: =K15/12 -> 1157.4683 | N15: =J15/J14-1 -> 0 | O15: =K15/K14-1 -> 0
B16: =YEAR(C16) -> 2011 | C16: 40634 | D16: 8907.34 | E16: 8907.34 | F16: =D16/12 -> 742.27833 | G16: =E16/12 -> 742.27833 | H16: =D16/D15-1 -> 0.046999761 | I16: =E16/E15-1 -> 0.046999761 | J16: 14181.3 | K16: 14181.3 | L16: =J16/12 -> 1181.775 | M16: =K16/12 -> 1181.775 | N16: =J16/J15-1 -> 0.020999855 | O16: =K16/K15-1 -> 0.020999855
B17: =YEAR(C17) -> 2012 | C17: 40909 | D17: 8907.34 | E17: 8907.34 | F17: =D17/12 -> 742.27833 | G17: =E17/12 -> 742.27833 | H17: =D17/D16-1 -> 0 | I17: =E17/E16-1 -> 0 | J17: 14181.3 | K17: 14181.3 | L17: =J17/12 -> 1181.775 | M17: =K17/12 -> 1181.775 | N17: =J17/J16-1 -> 0 | O17: =K17/K16-1 -> 0
B18: =YEAR(C18) -> 2012 | C18: 41000 | D18: 9325.98 | E18: 9325.98 | F18: =D18/12 -> 777.165 | G18: =E18/12 -> 777.165 | H18: =D18/D17-1 -> 0.046999441 | I18: =E18/E17-1 -> 0.046999441 | J18: 14479.1 | K18: 14479.1 | L18: =J18/12 -> 1206.5917 | M18: =K18/12 -> 1206.5917 | N18: =J18/J17-1 -> 0.020999485 | O18: =K18/K17-1 -> 0.020999485
B19: =YEAR(C19) -> 2013 | C19: 41275 | D19: 9325.98 | E19: 9325.98 | F19: =D19/12 -> 777.165 | G19: =E19/12 -> 777.165 | H19: =D19/D18-1 -> 0 | I19: =H19 -> 0 | J19: 14479.1 | K19: 14479.1 | L19: =J19/12 -> 1206.5917 | M19: =K19/12 -> 1206.5917 | N19: =J19/J18-1 -> 0 | O19: =N19 -> 0
B20: =YEAR(C20) -> 2013 | C20: 41365 | D20: 9447.21 | E20: 9447.21 | F20: =D20/12 -> 787.2675 | G20: =E20/12 -> 787.2675 | H20: =D20/D19-1 -> 0.01299917 | I20: =H20 -> 0.01299917 | J20: 14667.32 | K20: 14667.32 | L20: =J20/12 -> 1222.2767 | M20: =K20/12 -> 1222.2767 | N20: =J20/J19-1 -> 0.012999427 | O20: =N20 -> 0.012999427
B21: =YEAR(C21) -> 2014 | C21: 41640 | D21: 9447.21 | E21: 9447.21 | F21: =D21/12 -> 787.2675 | G21: =E21/12 -> 787.2675 | H21: =D21/D20-1 -> 0 | I21: =H21 -> 0 | J21: 14667.32 | K21: 14667.32 | L21: =J21/12 -> 1222.2767 | M21: =K21/12 -> 1222.2767 | N21: =J21/J20-1 -> 0 | O21: =N21 -> 0
B22: =YEAR(C22) -> 2014 | C22: 41730 | D22: 9503.89 | E22: 9503.89 | F22: =D22/12 -> 791.99083 | G22: =E22/12 -> 791.99083 | H22: =D22/D21-1 -> 0.0059996549 | I22: =H22 -> 0.0059996549 | J22: 14755.32 | K22: 14755.32 | L22: =J22/12 -> 1229.61 | M22: =K22/12 -> 1229.61 | N22: =J22/J21-1 -> 0.0059997327 | O22: =N22 -> 0.0059997327
B23: =YEAR(C23) -> 2014 | C23: 41913 | D23: 9600 | E23: 9600 | F23: =D23/12 -> 800 | G23: =E23/12 -> 800 | H23: =D23/D22-1 -> 0.010112701 | I23: =H23 -> 0.010112701 | J23: 14904 | K23: 14904 | L23: =J23/12 -> 1242 | M23: =K23/12 -> 1242 | N23: =J23/J22-1 -> 0.010076366 | O23: =N23 -> 0.010076366
B24: =YEAR(C24) -> 2015 | C24: 42005 | D24: 9600 | E24: 9600 | F24: =D24/12 -> 800 | G24: =E24/12 -> 800 | H24: =D24/D23-1 -> 0 | I24: =H24 -> 0 | J24: 14904 | K24: 14904 | L24: =J24/12 -> 1242 | M24: =K24/12 -> 1242 | N24: =J24/J23-1 -> 0 | O24: =N24 -> 0
B25: =YEAR(C25) -> 2016 | C25: 42370 | D25: 9600 | E25: 9600 | F25: =D25/12 -> 800 | G25: =E25/12 -> 800 | H25: =D25/D24-1 -> 0 | I25: =H25 -> 0 | J25: 14904 | K25: 14904 | L25: =J25/12 -> 1242 | M25: =K25/12 -> 1242 | N25: =J25/J24-1 -> 0 | O25: =N25 -> 0
B26: =YEAR(C26) -> 2016 | C26: 42461 | D26: 9609.6 | E26: 9609.6 | F26: =D26/12 -> 800.8 | G26: =E26/12 -> 800.8 | H26: =D26/D25-1 -> 0.001 | I26: =H26 -> 0.001 | J26: 14918.9 | K26: 14918.9 | L26: =J26/12 -> 1243.2417 | M26: =K26/12 -> 1243.2417 | N26: =J26/J25-1 -> 0.00099973162 | O26: =N26 -> 0.00099973162
B27: =YEAR(C27) -> 2017 | C27: 42736 | D27: 9609.6 | E27: 9609.6 | F27: =D27/12 -> 800.8 | G27: =E27/12 -> 800.8 | H27: =D27/D26-1 -> 0 | I27: =H27 -> 0 | J27: 14918.9 | K27: 14918.9 | L27: =J27/12 -> 1243.2417 | M27: =K27/12 -> 1243.2417 | N27: =J27/J26-1 -> 0 | O27: =N27 -> 0
B28: =YEAR(C28) -> 2017 | C28: 42826 | D28: 9638.42 | E28: 9638.42 | F28: =D28/12 -> 803.20167 | G28: =E28/12 -> 803.20167 | H28: =D28/D27-1 -> 0.0029990842 | I28: =H28 -> 0.0029990842 | J28: 14963.65 | K28: 14963.65 | L28: =J28/12 -> 1246.9708 | M28: =K28/12 -> 1246.9708 | N28: =J28/J27-1 -> 0.0029995509 | O28: =N28 -> 0.0029995509
B29: =YEAR(C29) -> 2018 | C29: 43101 | D29: 9638.42 | E29: 9638.42 | F29: =D29/12 -> 803.20167 | G29: =E29/12 -> 803.20167 | H29: =D29/D28-1 -> 0 | I29: =H29 -> 0 | J29: 14963.65 | K29: 14963.65 | L29: =J29/12 -> 1246.9708 | M29: =K29/12 -> 1246.9708 | N29: =J29/J28-1 -> 0 | O29: =N29 -> 0
B30: =YEAR(C30) -> 2018 | C30: 43191 | D30: 9998.4 | E30: 9998.4 | F30: =D30/12 -> 833.2 | G30: =E30/12 -> 833.2 | H30: =D30/D29-1 -> 0.037348445 | I30: =H30 -> 0.037348445 | J30: 15522.54 | K30: 15522.54 | L30: =J30/12 -> 1293.545 | M30: =K30/12 -> 1293.545 | N30: =J30/J29-1 -> 0.037349844 | O30: =N30 -> 0.037349844
... B39: =YEAR(C39) -> 2026 | C39: 46023 | D39: 12523.14 | E39: 12523.14 | F39: =D39/12 -> 1043.595 | G39: =E39/12 -> 1043.595 | H39: =D39/D38-1 -> 0.0089997615 | I39: =H39 -> 0.0089997615 | J39: 19442.21 | K39: 19442.21 | L39: =J39/12 -> 1620.1842 | M39: =K39/12 -> 1620.1842 | N39: =J39/J38-1 -> 0.0089995225 | O39: =N39 -> 0.0089995225
B40: 2027 | C40: =DATE(B40,1,1) -> 46388 | D40: =D39*(1+I40) -> 12723.51 | E40: =D40 -> 12723.51 | F40: =D40/12 -> 1060.2925 | G40: =E40/12 -> 1060.2925 | H40: =Revalo_RB!H88 -> 0.016 | I40: =H40 -> 0.016 | J40: =J39*D40/D39 -> 19753.285 | K40: =J40 -> 19753.285 | L40: =J40/12 -> 1646.1071 | M40: =K40/12 -> 1646.1071 | N40: =I40 -> 0.016 | O40: =K40/K39-1 -> 0.016
B41: 2028 | C41: =DATE(B41,1,1) -> 46753 | D41: =D40*(1+I41) -> 12952.533 | E41: =D41 -> 12952.533 | F41: =D41/12 -> 1079.3778 | G41: =E41/12 -> 1079.3778 | H41: =Revalo_RB!H89 -> 0.018 | I41: =H41 -> 0.018 | J41: =J40*D41/D40 -> 20108.844 | K41: =J41 -> 20108.844 | L41: =J41/12 -> 1675.737 | M41: =K41/12 -> 1675.737 | N41: =I41 -> 0.018 | O41: =K41/K40-1 -> 0.018
B42: 2029 | C42: =DATE(B42,1,1) -> 47119 | D42: =D41*(1+I42) -> 13172.726 | E42: =D42 -> 13172.726 | F42: =D42/12 -> 1097.7272 | G42: =E42/12 -> 1097.7272 | H42: =Revalo_RB!H90 -> 0.017 | I42: =H42 -> 0.017 | J42: =J41*D42/D41 -> 20450.695 | K42: =J42 -> 20450.695 | L42: =J42/12 -> 1704.2246 | M42: =K42/12 -> 1704.2246 | N42: =I42 -> 0.017 | O42: =K42/K41-1 -> 0.017
B43: 2030 | C43: =DATE(B43,1,1) -> 47484 | D43: =D42*(1+I43) -> 13409.836 | E43: =D43 -> 13409.836 | F43: =D43/12 -> 1117.4863 | G43: =E43/12 -> 1117.4863 | H43: =Revalo_RB!H91 -> 0.018 | I43: =H43 -> 0.018 | J43: =J42*D43/D42 -> 20818.807 | K43: =J43 -> 20818.807 | L43: =J43/12 -> 1734.9006 | M43: =K43/12 -> 1734.9006 | N43: =I43 -> 0.018 | O43: =K43/K42-1 -> 0.018
B44: 2031 | C44: =DATE(B44,1,1) -> 47849 | D44: =D43*(1+I44) -> 13644.508 | E44: =D44 -> 13644.508 | F44: =D44/12 -> 1137.0423 | G44: =E44/12 -> 1137.0423 | H44: =Revalo_RB!H92 -> 0.0175 | I44: =H44 -> 0.0175 | J44: =J43*D44/D43 -> 21183.136 | K44: =J44 -> 21183.136 | L44: =J44/12 -> 1765.2614 | M44: =K44/12 -> 1765.2614 | N44: =I44 -> 0.0175 | O44: =K44/K43-1 -> 0.0175
B45: 2032 | C45: =DATE(B45,1,1) -> 48214 | D45: =D44*(1+I45) -> 13883.287 | E45: =D45 -> 13883.287 | F45: =D45/12 -> 1156.9405 | G45: =E45/12 -> 1156.9405 | H45: =Revalo_RB!H93 -> 0.0175 | I45: =H45 -> 0.0175 | J45: =J44*D45/D44 -> 21553.841 | K45: =J45 -> 21553.841 | L45: =J45/12 -> 1796.1534 | M45: =K45/12 -> 1796.1534 | N45: =I45 -> 0.0175 | O45: =K45/K44-1 -> 0.0175
B46: 2033 | C46: =DATE(B46,1,1) -> 48580 | D46: =D45*(1+I46) -> 14126.244 | E46: =D46 -> 14126.244 | F46: =D46/12 -> 1177.187 | G46: =E46/12 -> 1177.187 | H46: =Revalo_RB!H94 -> 0.0175 | I46: =H46 -> 0.0175 | J46: =J45*D46/D45 -> 21931.034 | K46: =J46 -> 21931.034 | L46: =J46/12 -> 1827.5861 | M46: =K46/12 -> 1827.5861 | N46: =I46 -> 0.0175 | O46: =K46/K45-1 -> 0.0175
B47: 2034 | C47: =DATE(B47,1,1) -> 48945 | D47: =D46*(1+I47) -> 14373.453 | E47: =D47 -> 14373.453 | F47: =D47/12 -> 1197.7878 | G47: =E47/12 -> 1197.7878 | H47: =Revalo_RB!H95 -> 0.0175 | I47: =H47 -> 0.0175 | J47: =J46*D47/D46 -> 22314.827 | K47: =J47 -> 22314.827 | L47: =J47/12 -> 1859.5689 | M47: =K47/12 -> 1859.5689 | N47: =I47 -> 0.0175 | O47: =K47/K46-1 -> 0.0175
B48: 2035 | C48: =DATE(B48,1,1) -> 49310 | D48: =D47*(1+I48) -> 14624.989 | E48: =D48 -> 14624.989 | F48: =D48/12 -> 1218.7491 | G48: =E48/12 -> 1218.7491 | H48: =Revalo_RB!H96 -> 0.0175 | I48: =H48 -> 0.0175 | J48: =J47*D48/D47 -> 22705.336 | K48: =J48 -> 22705.336 | L48: =J48/12 -> 1892.1113 | M48: =K48/12 -> 1892.1113 | N48: =I48 -> 0.0175 | O48: =K48/K47-1 -> 0.0175
B49: 2036 | C49: =DATE(B49,1,1) -> 49675 | D49: =D48*(1+I49) -> 14880.926 | E49: =D49 -> 14880.926 | F49: =D49/12 -> 1240.0772 | G49: =E49/12 -> 1240.0772 | H49: =Revalo_RB!H97 -> 0.0175 | I49: =H49 -> 0.0175 | J49: =J48*D49/D48 -> 23102.68 | K49: =J49 -> 23102.68 | L49: =J49/12 -> 1925.2233 | M49: =K49/12 -> 1925.2233 | N49: =I49 -> 0.0175 | O49: =K49/K48-1 -> 0.0175
...

Sheet Minima
B1: Minimum contributif tous régimes, revalorisation du minimum garanti dans la fonction publique et PMR
B2: Source : legislation.cnav, retraitedeletat et MSA
B4: Année | C4: Plafond des retraites pour l'attribution du minimum contributif | T4: Année | U4: Date de revalorisation | V4: Minimum contributif | AK4: Minimum contributif majoré | AP4: Minimum garanti dans la FP (montant maximum) | AR4: PMR 1 (chefs d'exploitation) | BB4: PMR 2* (conjoints collaborateurs et aides familiaux) | BL4: Seuil de majoration RCO* (chefs d'exploitation)
C5: Date de revalorisation | D5: Montant mensuel | I5: Montant annuel | N5: Évolution en nominal | V5: Montant mensuel | AA5: Montant annuel | AF5: Montant mensuel | AK5: Montant annuel | AP5: Montant mensuel | AQ5: Montant annuel | AR5: Montant mensuel | AW5: Montant annuel | BB5: Montant mensuel | BG5: Montant annuel | BL5: Montant mensuel | BQ5: Montant annuel
F6: Sc_1,0% | G6: Sc_0,7% | H6: Sc_0,4% | K6: Sc_1,0% | L6: Sc_0,7% | M6: Sc_0,4% | P6: Sc_1,0% | Q6: Sc_0,7% | R6: Sc_0,4% | X6: Sc_1,0% | Y6: Sc_0,7% | Z6: Sc_0,4% | AC6: Sc_1,0% | AD6: Sc_0,7% | AE6: Sc_0,4% | AH6: Sc_1,0% | AI6: Sc_0,7% | AJ6: Sc_0,4% | AM6: Sc_1,0% | AN6: Sc_0,7% | AO6: Sc_0,4% | AP6: Tous scénarios | AT6: Sc_1,0% | AU6: Sc_0,7% | AV6: Sc_0,4% | AY6: Sc_1,0% | AZ6: Sc_0,7% | BA6: Sc_0,4% | BD6: Sc_1,0% | BE6: Sc_0,7% | BF6: Sc_0,4% | BI6: Sc_1,0% | BJ6: Sc_0,7% | BK6: Sc_0,4% | BN6: Sc_1,0% | BO6: Sc_0,7% | BP6: Sc_0,4% | BS6: Sc_1,0% | BT6: Sc_0,7% | BU6: Sc_0,4%
B7: 2012 | C7: 40909 | F7: 1005 | G7: 1005 | H7: 1005 | K7: =F7*12 -> 12060 | L7: =G7*12 -> 12060 | M7: =H7*12 -> 12060 | T7: 2012 | U7: 41000 | X7: 620.92 | Y7: 620.92 | Z7: 620.92 | AC7: 7451.04 | AD7: 7451.04 | AE7: 7451.04 | AH7: 678.50083 | AI7: 678.50083 | AJ7: 678.50083 | AM7: 8142.01 | AN7: 8142.01 | AO7: 8142.01 | AT7: 672.46083 | AU7: 672.46083 | AV7: 672.46083 | AY7: =AT7*12 -> 8069.53 | AZ7: =AU7*12 -> 8069.53 | BA7: =AV7*12 -> 8069.53 | BD7: 534.35583 | BE7: 534.35583 | BF7: 534.35583 | BI7: 6412.27 | BJ7: 6412.27 | BK7: 6412.27
B8: 2012 | C8: 41091 | F8: 1025.1 | G8: 1025.1 | H8: 1025.1 | K8: =F8*12 -> 12301.2 | L8: =G8*12 -> 12301.2 | M8: =H8*12 -> 12301.2 | P8: =O8 -> 0 | Q8: =F8/F7-1 -> 0.02 | R8: =H8/H7-1 -> 0.02
B9: 2013 | C9: 41275 | F9: 1028.17 | G9: 1028.17 | H9: 1028.17 | K9: =F9*12 -> 12338.04 | L9: =G9*12 -> 12338.04 | M9: =H9*12 -> 12338.04 | P9: =O9 -> 0 | Q9: =F9/F8-1 -> 0.0029948298 | R9: =H9/H8-1 -> 0.0029948298 | T9: 2013 | U9: 41365 | X9: 628.99 | Y9: 628.99 | Z9: 628.99 | AC9: 7547.88 | AD9: 7547.88 | AE9: 7547.88 | AH9: 687.32083 | AI9: 687.32083 | AJ9: 687.32083 | AM9: 8247.85 | AN9: 8247.85 | AO9: 8247.85 | AT9: 681.2025 | AU9: 681.2025 | AV9: 681.2025 | AY9: =AT9*12 -> 8174.43 | AZ9: =AU9*12 -> 8174.43 | BA9: =AV9*12 -> 8174.43 | BD9: 541.30167 | BE9: 541.30167 | BF9: 541.30167 | BI9: 6495.62 | BJ9: 6495.62 | BK9: 6495.62
B10: 2014 | C10: 41640 | F10: 1039.47 | G10: 1039.47 | H10: 1039.47 | K10: =F10*12 -> 12473.64 | L10: =G10*12 -> 12473.64 | M10: =H10*12 -> 12473.64 | P10: =O10 -> 0 | Q10: =F10/F9-1 -> 0.0109904 | R10: =H10/H9-1 -> 0.0109904
B11: 2014 | C11: 41671 | F11: 1120 | G11: 1120 | H11: 1120 | K11: =F11*12 -> 13440 | L11: =G11*12 -> 13440 | M11: =H11*12 -> 13440 | P11: =O11 -> 0 | Q11: =F11/F10-1 -> 0.077472173 | R11: =H11/H10-1 -> 0.077472173
B12: 2015 | C12: 42005 | F12: 1128.96 | G12: 1128.96 | H12: 1128.96 | K12: =F12*12 -> 13547.52 | L12: =G12*12 -> 13547.52 | M12: =H12*12 -> 13547.52 | P12: =O12 -> 0 | Q12: =F12/F11-1 -> 0.008 | R12: =H12/H11-1 -> 0.008 | T12: 2015 | U12: 42278 | X12: 629.62 | Y12: 629.62 | Z12: 629.62 | AC12: 7555.44 | AD12: 7555.44 | AE12: 7555.44 | AH12: 688.0075 | AI12: 688.0075 | AJ12: 688.0075 | AM12: 8256.09 | AN12: 8256.09 | AO12: 8256.09 | AP12: 1158.0567 | AQ12: 13896.68 | AT12: 681.88333 | AU12: 681.88333 | AV12: 681.88333 | AY12: =AT12*12 -> 8182.6 | AZ12: =AU12*12 -> 8182.6 | BA12: =AV12*12 -> 8182.6 | BD12: 541.8425 | BE12: 541.8425 | BF12: 541.8425 | BI12: 6502.11 | BJ12: 6502.11 | BK12: 6502.11
B13: 2016 | C13: 42370 | F13: 1135.73 | G13: 1135.73 | H13: 1135.73 | K13: =F13*12 -> 13628.76 | L13: =G13*12 -> 13628.76 | M13: =H13*12 -> 13628.76 | P13: =O13 -> 0 | Q13: =F13/F12-1 -> 0.0059966695 | R13: =H13/H12-1 -> 0.0059966695
B14: 2017 | C14: 42736 | F14: 1145.95 | G14: 1145.95 | H14: 1145.95 | K14: =F14*12 -> 13751.4 | L14: =G14*12 -> 13751.4 | M14: =H14*12 -> 13751.4 | P14: =O14 -> 0 | Q14: =F14/F13-1 -> 0.0089986176 | R14: =H14/H13-1 -> 0.0089986176 | T14: 2017 | U14: =DATE(T14,10,1) -> 43009 | X14: 634.66 | Y14: 634.66 | Z14: 634.66 | AC14: 7615.92 | AD14: 7615.92 | AE14: 7615.92 | AH14: 693.51083 | AI14: 693.51083 | AJ14: 693.51083 | AM14: 8322.13 | AN14: 8322.13 | AO14: 8322.13 | AP14: 1167.06 | AQ14: 14004.72 | AT14: 687.18466 | AU14: 687.18466 | AV14: 687.18466 | AY14: =AT14*12 -> 8246.2159 | AZ14: =AU14*12 -> 8246.2159 | BA14: =AV14*12 -> 8246.2159 | BD14: 546.05508 | BE14: 546.05508 | BF14: 546.05508 | BI14: 6552.6609 | BJ14: 6552.6609 | BK14: 6552.6609
B15: 2018 | C15: 43101 | F15: 1160.04 | G15: 1160.04 | H15: 1160.04 | K15: =F15*12 -> 13920.48 | L15: =G15*12 -> 13920.48 | M15: =H15*12 -> 13920.48 | P15: =O15 -> 0 | Q15: =F15/F14-1 -> 0.012295475 | R15: =H15/H14-1 -> 0.012295475 | T15: 2018 | AT15: 687.32 | AU15: 687.32 | AV15: 687.32 | AY15: =AT15*12 -> 8247.84 | AZ15: =AU15*12 -> 8247.84 | BA15: =AV15*12 -> 8247.84
B16: 2019 | C16: 43466 | F16: 1177.44 | G16: 1177.44 | H16: 1177.44 | K16: =F16*12 -> 14129.28 | L16: =G16*12 -> 14129.28 | M16: =H16*12 -> 14129.28 | P16: =O16 -> 0 | Q16: =F16/F15-1 -> 0.014999483 | R16: =H16/H15-1 -> 0.014999483 | T16: 2019 | U16: =DATE(T16,1,1) -> 43466 | X16: 636.56 | Y16: 636.56 | Z16: 636.56 | AC16: 7638.72 | AD16: 7638.72 | AE16: 7638.72 | AH16: 695.59 | AI16: 695.59 | AJ16: 695.59 | AM16: 8347.08 | AN16: 8347.08 | AO16: 8347.08 | AP16: 1178.7306 | AQ16: 14144.767 | AT16: 694.05651 | AU16: 694.05651 | AV16: 694.05651 | AY16: 8328.6781 | AZ16: 8328.6781 | BA16: 8328.6781 | BD16: 551.51563 | BE16: 551.51563 | BF16: 551.51563 | BI16: 6618.1875 | BJ16: 6618.1875 | BK16: 6618.1875 | BN16: 902.19 | BO16: 902.19 | BP16: 902.19 | BS16: 10826.28 | BT16: 10826.28 | BU16: 10826.28
B17: 2020 | C17: 43831 | F17: 1191.56 | G17: 1191.56 | H17: 1191.56 | K17: =F17*12 -> 14298.72 | L17: =G17*12 -> 14298.72 | M17: =H17*12 -> 14298.72 | P17: =O17 -> 0 | Q17: =F17/F16-1 -> 0.011992118 | R17: =H17/H16-1 -> 0.011992118 | T17: 2020 | U17: =DATE(T17,1,1) -> 43831 | X17: 642.39 | Y17: 642.39 | Z17: 642.39 | AC17: 7708.68 | AD17: 7708.68 | AE17: 7708.68 | AH17: 702.54 | AI17: 702.54 | AJ17: 702.54 | AM17: 8430.48 | AN17: 8430.48 | AO17: 8430.48 | AP17: 1174.3358 | AQ17: 14092.03 | AT17: 696.81998 | AU17: 696.81998 | AV17: 696.81998 | AY17: 8361.8398 | AZ17: 8361.8398 | BA17: 8361.8398 | BD17: 553.71156 | BE17: 553.71156 | BF17: 553.71156 | BI17: 6644.5387 | BJ17: 6644.5387 | BK17: 6644.5387 | BN17: 911.07857 | BO17: 911.07857 | BP17: 911.07857 | BS17: 10932.943 | BT17: 10932.943 | BU17: 10932.943
B18: 2021 | C18: =DATE(B18,1,1) -> 44197 | F18: 1203.37 | G18: 1203.37 | H18: 1203.37 | K18: =F18*12 -> 14440.44 | L18: =G18*12 -> 14440.44 | M18: =H18*12 -> 14440.44 | P18: =O18 -> 0 | Q18: =F18/F17-1 -> 0.0099113767 | R18: =H18/H17-1 -> 0.0099113767 | T18: 2021 | U18: =DATE(T18,1,1) -> 44197 | X18: 645.5 | Y18: 645.5 | Z18: 645.5 | AC18: 7746 | AD18: 7746 | AE18: 7746 | AH18: 705.35 | AI18: 705.35 | AJ18: 705.35 | AM18: 8464.2 | AN18: 8464.2 | AO18: 8464.2 | AP18: 1187.26 | AQ18: 14247.12 | AT18: 699.07 | AU18: 699.07 | AV18: 699.07 | AY18: 8388.84 | AZ18: 8388.84 | BA18: 8388.84 | BD18: 562.04098 | BE18: 562.04098 | BF18: 562.04098 | BI18: 6744.4917 | BJ18: 6744.4917 | BK18: 6744.4917 | BN18: 923.04 | BO18: 923.04 | BP18: 923.04 | BS18: 11076.48 | BT18: 11076.48 | BU18: 11076.48
B19: 2021 | C19: =DATE(B19,10,1) -> 44470 | F19: 1229.82 | G19: 1229.82 | H19: 1229.82 | K19: =F19*12 -> 14757.84 | L19: =G19*12 -> 14757.84 | M19: =H19*12 -> 14757.84 | P19: =O19 -> 0 | Q19: =F19/F18-1 -> 0.02197994 | R19: =H19/H18-1 -> 0.02197994 | T19: 2021 | U19: =DATE(T19,10,1) -> 44470
B20: 2022 | C20: =DATE(B20,1,1) -> 44562 | F20: 1240.88 | G20: 1240.88 | H20: 1240.88 | K20: =F20*12 -> 14890.56 | L20: =G20*12 -> 14890.56 | M20: =H20*12 -> 14890.56 | P20: =O20 -> 0 | Q20: =F20/F19-1 -> 0.008993186 | R20: =H20/H19-1 -> 0.008993186 | T20: 2022 | U20: =DATE(T20,1,1) -> 44562 | X20: 652.6 | Y20: 652.6 | Z20: 652.6 | AC20: 7831.2 | AD20: 7831.2 | AE20: 7831.2 | AH20: 713.11 | AI20: 713.11 | AJ20: 713.11 | AM20: 8557.32 | AN20: 8557.32 | AO20: 8557.32 | AP20: 1200.32 | AQ20: 14403.84 | AT20: 713.11 | AU20: 713.11 | AV20: 713.11 | AY20: 8557.32 | AZ20: 8557.32 | BA20: 8557.32 | BD20: 713.11 | BE20: 713.11 | BF20: 713.11 | BI20: 8557.32 | BJ20: 8557.32 | BK20: 8557.32 | BN20: 1078.65 | BO20: 1078.65 | BP20: 1078.65 | BS20: 12943.8 | BT20: 12943.8 | BU20: 12943.8
B21: 2022 | C21: =DATE(B21,5,1) -> 44682 | F21: 1273.76 | G21: 1273.76 | H21: 1273.76 | K21: =F21*12 -> 15285.12 | L21: =G21*12 -> 15285.12 | M21: =H21*12 -> 15285.12 | P21: =O21 -> 0 | Q21: =F21/F20-1 -> 0.026497324 | R21: =H21/H20-1 -> 0.026497324 | T21: 2022 | U21: =DATE(T21,5,1) -> 44682 | BN21: 1107.2313 | BO21: 1107.2313 | BP21: 1107.2313 | BS21: 13286.776 | BT21: 13286.776 | BU21: 13286.776
B22: =B20 -> 2022 | C22: =DATE(B22,8,1) -> 44774 | F22: 1299.3626 | G22: 1299.3626 | H22: 1299.3626 | K22: =F22*12 -> 15592.351 | L22: =G22*12 -> 15592.351 | M22: =H22*12 -> 15592.351 | P22: =O22 -> 0 | Q22: =F22/F21-1 -> 0.0201 | R22: =H22/H21-1 -> 0.0201 | T22: 2022 | U22: =DATE(T22,7,1) -> 44743 | X22: 678.7 | Y22: 678.7 | Z22: 678.7 | AC22: 8144.4 | AD22: 8144.4 | AE22: 8144.4 | AH22: 741.63 | AI22: 741.63 | AJ22: 741.63 | AM22: 8899.56 | AN22: 8899.56 | AO22: 8899.56 | AP22: 1248.3328 | AQ22: 14979.994 | AT22: 735.59442 | AU22: 735.59442 | AV22: 735.59442 | AY22: 8827.133 | AZ22: 8827.133 | BA22: 8827.133 | BD22: 735.59442 | BE22: 735.59442 | BF22: 735.59442 | BI22: 8827.133 | BJ22: 8827.133 | BK22: 8827.133 | BN22: 1129.4867 | BO22: 1129.4867 | BP22: 1129.4867 | BS22: 13553.84 | BT22: 13553.84 | BU22: 13553.84
B23: 2023 | C23: =DATE(B23,1,1) -> 44927 | F23: 1322.87 | G23: 1322.87 | H23: 1322.87 | K23: =F23*12 -> 15874.44 | L23: =G23*12 -> 15874.44 | M23: =H23*12 -> 15874.44 | P23: =O23 -> 0 | Q23: =F23/F22-1 -> 0.018091505 | R23: =H23/H22-1 -> 0.018091505 | T23: 2023 | U23: =DATE(T23,1,1) -> 44927 | X23: 684.13 | Y23: 684.13 | Z23: 684.13 | AC23: 8209.56 | AD23: 8209.56 | AE23: 8209.56 | AH23: 747.57 | AI23: 747.57 | AJ23: 747.57 | AM23: 8970.84 | AN23: 8970.84 | AO23: 8970.84 | AP23: 1258.3195 | AQ23: 15099.834 | AT23: 747.57 | AU23: 747.57 | AV23: 747.57 | AY23: 8970.84 | AZ23: 8970.84 | BA23: 8970.84 | BD23: 747.57 | BE23: 747.57 | BF23: 747.57 | BI23: 8970.84 | BJ23: 8970.84 | BK23: 8970.84 | BN23: 1149.9208 | BO23: 1149.9208 | BP23: 1149.9208 | BS23: 13799.05 | BT23: 13799.05 | BU23: 13799.05
B24: 2023 | C24: =DATE(B24,5,1) -> 45047 | F24: 1352.23 | G24: 1352.23 | H24: 1352.23 | K24: =F24*12 -> 16226.76 | L24: =G24*12 -> 16226.76 | M24: =H24*12 -> 16226.76 | P24: =O24 -> 0 | Q24: =F24/F23-1 -> 0.022194169 | R24: =H24/H23-1 -> 0.022194169 | T24: 2023 | U24: =DATE(T24,5,1) -> 45047
B25: 2023 | C25: 45170 | F25: 1352.23 | G25: 1352.23 | H25: 1352.23 | T25: 2023 | U25: 45170 | X25: =AC25/12 -> 709.13417 | Y25: =AD25/12 -> 709.13417 | Z25: =AE25/12 -> 709.13417 | AC25: 8509.61 | AD25: 8509.61 | AE25: 8509.61 | AH25: =AM25/12 -> 847.57167 | AI25: =AN25/12 -> 847.57167 | AJ25: =AO25/12 -> 847.57167 | AM25: 10170.86 | AN25: 10170.86 | AO25: 10170.86 | AT25: 847.57 | AU25: 847.57 | AV25: 847.57 | AY25: 10170.84 | AZ25: 10170.84 | BA25: 10170.84 | BD25: 847.57 | BE25: 847.57 | BF25: 847.57 | BI25: 10170.84 | BJ25: 10170.84 | BK25: 10170.84
B26: 2024 | C26: =DATE(B26,1,1) -> 45292 | F26: 1367.51 | G26: 1367.51 | H26: 1367.51 | K26: =F26*12 -> 16410.12 | L26: =G26*12 -> 16410.12 | M26: =H26*12 -> 16410.12 | P26: =F26/F24-1 -> 0.011299853 | Q26: =G26/G24-1 -> 0.011299853 | R26: =H26/H24-1 -> 0.011299853 | T26: 2024 | U26: =DATE(T26,1,1) -> 45292 | X26: =AC26/12 -> 733.03167 | Y26: =AD26/12 -> 733.03167 | Z26: =AE26/12 -> 733.03167 | AC26: 8796.38 | AD26: 8796.38 | AE26: 8796.38 | AH26: =AM26/12 -> 876.13417 | AI26: =AN26/12 -> 876.13417 | AJ26: =AO26/12 -> 876.13417 | AM26: 10513.61 | AN26: 10513.61 | AO26: 10513.61 | AP26: =AQ26/12 -> 1325.0104 | AQ26: =AQ23*(1+Revalo_RB!$H85) -> 15900.125 | AT26: 876.13 | AU26: 876.13 | AV26: 876.13 | AY26: =AY25*(1+P26) -> 10285.769 | AZ26: =AZ25*(1+Q26) -> 10285.769 | BA26: =BA25*(1+R26) -> 10285.769 | BD26: 876.13 | BE26: 876.13 | BF26: 876.13 | BI26: =BI25*AY26/AY25 -> 10285.769 | BJ26: =BJ25*AZ26/AZ25 -> 10285.769 | BK26: =BK25*BA26/BA25 -> 10285.769 | BN26: =BS26/12 -> 1162.9147 | BO26: =BT26/12 -> 1162.9147 | BP26: =BU26/12 -> 1162.9147 | BS26: =BS23*(1+P26) -> 13954.977 | BT26: =BS26 -> 13954.977 | BU26: =BT26 -> 13954.977
B27: 2025 | C27: =DATE(B27,1,1) -> 45658 | F27: 1394.86 | G27: 1394.86 | H27: 1394.86 | K27: =F27*12 -> 16738.32 | L27: =G27*12 -> 16738.32 | M27: =H27*12 -> 16738.32 | P27: 0.016398118 | Q27: 0.016398118 | R27: 0.016398118 | T27: 2025 | U27: =DATE(T27,1,1) -> 45658 | X27: =AC27/12 -> 747.69167 | Y27: =AD27/12 -> 747.69167 | Z27: =AE27/12 -> 747.69167 | AC27: 8972.3 | AD27: 8972.3 | AE27: 8972.3 | AH27: =AM27/12 -> 893.65667 | AI27: =AN27/12 -> 893.65667 | AJ27: =AO27/12 -> 893.65667 | AM27: 10723.88 | AN27: 10723.88 | AO27: 10723.88 | AP27: =AQ27/12 -> 1354.1606 | AQ27: =AQ26*(1+Revalo_RB!$H86) -> 16249.927 | AT27: =AY27/12 -> 871.20302 | AU27: =AZ27/12 -> 871.20302 | AV27: =BA27/12 -> 871.20302 | AY27: =AY26*(1+P27) -> 10454.436 | AZ27: =AZ26*(1+Q27) -> 10454.436 | BA27: =BA26*(1+R27) -> 10454.436 | BD27: =BI27/12 -> 871.20302 | BE27: =AU27 -> 871.20302 | BF27: =AV27 -> 871.20302 | BI27: =BI26*AY27/AY26 -> 10454.436 | BJ27: =BJ26*AZ27/AZ26 -> 10454.436 | BK27: =BK26*BA27/BA26 -> 10454.436 | BN27: =BS27/12 -> 1181.9844 | BO27: =BT27/12 -> 1181.9844 | BP27: =BU27/12 -> 1181.9844 | BS27: =BS26*(1+P27) -> 14183.812 | BT27: =BT26*(1+Q27) -> 14183.812 | BU27: =BU26*(1+R27) -> 14183.812
B28: 2026 | C28: =DATE(B28,1,1) -> 46023 | F28: 1410.89 | G28: 1410.89 | H28: 1410.89 | K28: =F28*12 -> 16930.68 | L28: =G28*12 -> 16930.68 | M28: =H28*12 -> 16930.68 | P28: 0.011784512 | Q28: 0.011784512 | R28: 0.011784512 | T28: 2026 | U28: =DATE(T28,1,1) -> 46023 | X28: =AC28/12 -> 756.29167 | Y28: =AD28/12 -> 756.29167 | Z28: =AE28/12 -> 756.29167 | AC28: 9075.5 | AD28: 9075.5 | AE28: 9075.5 | AH28: =AM28/12 -> 903.935 | AI28: =AN28/12 -> 903.935 | AJ28: =AO28/12 -> 903.935 | AM28: 10847.22 | AN28: 10847.22 | AO28: 10847.22 | AP28: =AQ28/12 -> 1366.3481 | AQ28: =AQ27*(1+Revalo_RB!$H87) -> 16396.177 | AT28: =AY28/12 -> 881.46972 | AU28: =AZ28/12 -> 881.46972 | AV28: =BA28/12 -> 881.46972 | AY28: =AY27*(1+P28) -> 10577.637 | AZ28: =AZ27*(1+Q28) -> 10577.637 | BA28: =BA27*(1+R28) -> 10577.637 | BD28: =BI28/12 -> 881.46972 | BE28: =AU28 -> 881.46972 | BF28: =AV28 -> 881.46972 | BI28: =BI27*AY28/AY27 -> 10577.637 | BJ28: =BJ27*AZ28/AZ27 -> 10577.637 | BK28: =BK27*BA28/BA27 -> 10577.637 | BN28: =BS28/12 -> 1195.9135 | BO28: =BT28/12 -> 1195.9135 | BP28: =BU28/12 -> 1195.9135 | BS28: =BS27*(1+P28) -> 14350.962 | BT28: =BT27*(1+Q28) -> 14350.962 | BU28: =BU27*(1+R28) -> 14350.962
B29: 2027 | C29: =DATE(B29,1,1) -> 46388 | F29: =F28*(1+P29) -> 1429.5137 | G29: =G28*(1+Q29) -> 1429.5137 | H29: =H28*(1+R29) -> 1429.5137 | K29: =F29*12 -> 17154.165 | L29: =G29*12 -> 17154.165 | M29: =H29*12 -> 17154.165 | P29: 0.0132 | Q29: 0.0132 | R29: 0.0132 | T29: 2027 | U29: =DATE(T29,1,1) -> 46388 | X29: =AC29/12 -> 766.27472 | Y29: =AD29/12 -> 766.27472 | Z29: =AE29/12 -> 766.27472 | AC29: =AC28*(1+P29) -> 9195.2966 | AD29: =AD28*(1+Q29) -> 9195.2966 | AE29: =AE28*(1+R29) -> 9195.2966 | AH29: =AH28*(1+P29) -> 915.86694 | AI29: =AI28*(1+Q29) -> 915.86694 | AJ29: =AJ28*(1+R29) -> 915.86694 | AM29: =AH29*12 -> 10990.403 | AN29: =AI29*12 -> 10990.403 | AO29: =AJ29*12 -> 10990.403 | AP29: =AQ29/12 -> 1388.2096 | AQ29: =AQ28*(1+Revalo_RB!$H88) -> 16658.516 | AT29: =AY29/12 -> 893.10512 | AU29: =AZ29/12 -> 893.10512 | AV29: =BA29/12 -> 893.10512 | AY29: =AY28*(1+P29) -> 10717.261 | AZ29: =AZ28*(1+Q29) -> 10717.261 | BA29: =BA28*(1+R29) -> 10717.261 | BD29: =AT29 -> 893.10512 | BE29: =AU29 -> 893.10512 | BF29: =AV29 -> 893.10512 | BI29: =BI28*AY29/AY28 -> 10717.261 | BJ29: =BJ28*AZ29/AZ28 -> 10717.261 | BK29: =BK28*BA29/BA28 -> 10717.261 | BN29: =BS29/12 -> 1211.6995 | BO29: =BT29/12 -> 1211.6995 | BP29: =BU29/12 -> 1211.6995 | BS29: =BS28*(1+P29) -> 14540.394 | BT29: =BT28*(1+Q29) -> 14540.394 | BU29: =BU28*(1+R29) -> 14540.394
B30: 2028 | C30: =DATE(B30,1,1) -> 46753 | F30: =F29*(1+P30) -> 1451.5283 | G30: =G29*(1+Q30) -> 1451.5283 | H30: =H29*(1+R30) -> 1451.5283 | K30: =F30*12 -> 17418.339 | L30: =G30*12 -> 17418.339 | M30: =H30*12 -> 17418.339 | P30: 0.0154 | Q30: 0.0154 | R30: 0.0154 | T30: 2028 | U30: =DATE(T30,1,1) -> 46753 | X30: =AC30/12 -> 778.07535 | Y30: =AD30/12 -> 778.07535 | Z30: =AE30/12 -> 778.07535 | AC30: =AC29*(1+P30) -> 9336.9042 | AD30: =AD29*(1+Q30) -> 9336.9042 | AE30: =AE29*(1+R30) -> 9336.9042 | AH30: =AH29*(1+P30) -> 929.97129 | AI30: =AI29*(1+Q30) -> 929.97129 | AJ30: =AJ29*(1+R30) -> 929.97129 | AM30: =AH30*12 -> 11159.656 | AN30: =AI30*12 -> 11159.656 | AO30: =AJ30*12 -> 11159.656 | AP30: =AQ30/12 -> 1413.1974 | AQ30: =AQ29*(1+Revalo_RB!$H89) -> 16958.369 | AT30: =AY30/12 -> 906.85894 | AU30: =AZ30/12 -> 906.85894 | AV30: =BA30/12 -> 906.85894 | AY30: =AY29*(1+P30) -> 10882.307 | AZ30: =AZ29*(1+Q30) -> 10882.307 | BA30: =BA29*(1+R30) -> 10882.307 | BD30: =AT30 -> 906.85894 | BE30: =AU30 -> 906.85894 | BF30: =AV30 -> 906.85894 | BI30: =BI29*AY30/AY29 -> 10882.307 | BJ30: =BJ29*AZ30/AZ29 -> 10882.307 | BK30: =BK29*BA30/BA29 -> 10882.307 | BN30: =BS30/12 -> 1230.3597 | BO30: =BT30/12 -> 1230.3597 | BP30: =BU30/12 -> 1230.3597 | BS30: =BS29*(1+P30) -> 14764.316 | BT30: =BT29*(1+Q30) -> 14764.316 | BU30: =BU29*(1+R30) -> 14764.316
B31: 2029 | C31: =DATE(B31,1,1) -> 47119 | F31: =F30*(1+P31) -> 1481.72 | G31: =G30*(1+Q31) -> 1481.72 | H31: =H30*(1+R31) -> 1481.72 | K31: =F31*12 -> 17780.641 | L31: =G31*12 -> 17780.641 | M31: =H31*12 -> 17780.641 | P31: 0.0208 | Q31: 0.0208 | R31: 0.0208 | T31: 2029 | U31: =DATE(T31,1,1) -> 47119 | X31: =AC31/12 -> 794.25931 | Y31: =AD31/12 -> 794.25931 | Z31: =AE31/12 -> 794.25931 | AC31: =AC30*(1+P31) -> 9531.1118 | AD31: =AD30*(1+Q31) -> 9531.1118 | AE31: =AE30*(1+R31) -> 9531.1118 | AH31: =AH30*(1+P31) -> 949.3147 | AI31: =AI30*(1+Q31) -> 949.3147 | AJ31: =AJ30*(1+R31) -> 949.3147 | AM31: =AH31*12 -> 11391.776 | AN31: =AI31*12 -> 11391.776 | AO31: =AJ31*12 -> 11391.776 | AP31: =AQ31/12 -> 1437.2218 | AQ31: =AQ30*(1+Revalo_RB!$H90) -> 17246.661 | AT31: =AY31/12 -> 925.72161 | AU31: =AZ31/12 -> 925.72161 | AV31: =BA31/12 -> 925.72161 | AY31: =AY30*(1+P31) -> 11108.659 | AZ31: =AZ30*(1+Q31) -> 11108.659 | BA31: =BA30*(1+R31) -> 11108.659 | BD31: =AT31 -> 925.72161 | BE31: =AU31 -> 925.72161 | BF31: =AV31 -> 925.72161 | BI31: =BI30*AY31/AY30 -> 11108.659 | BJ31: =BJ30*AZ31/AZ30 -> 11108.659 | BK31: =BK30*BA31/BA30 -> 11108.659 | BN31: =BS31/12 -> 1255.9512 | BO31: =BT31/12 -> 1255.9512 | BP31: =BU31/12 -> 1255.9512 | BS31: =BS30*(1+P31) -> 15071.414 | BT31: =BT30*(1+Q31) -> 15071.414 | BU31: =BU30*(1+R31) -> 15071.414
B32: 2030 | C32: =DATE(B32,1,1) -> 47484 | F32: =F31*(1+P32) -> 1507.8194 | G32: =G31*(1+Q32) -> 1506.7757 | H32: =H31*(1+R32) -> 1505.7319 | K32: =F32*12 -> 18093.833 | L32: =G32*12 -> 18081.308 | M32: =H32*12 -> 18068.783 | P32: 0.017614234 | Q32: 0.016909811 | R32: 0.016205388 | T32: 2030 | U32: =DATE(T32,1,1) -> 47484 | X32: =AC32/12 -> 808.24958 | Y32: =AD32/12 -> 807.69009 | Z32: =AE32/12 -> 807.13059 | AC32: =AC31*(1+P32) -> 9698.995 | AD32: =AD31*(1+Q32) -> 9692.2811 | AE32: =AE31*(1+R32) -> 9685.5671 | AH32: =AH31*(1+P32) -> 966.03615 | AI32: =AI31*(1+Q32) -> 965.36743 | AJ32: =AJ31*(1+R32) -> 964.69871 | AM32: =AH32*12 -> 11592.434 | AN32: =AI32*12 -> 11584.409 | AO32: =AJ32*12 -> 11576.385 | AP32: =AQ32/12 -> 1463.0918 | AQ32: =AQ31*(1+Revalo_RB!$H91) -> 17557.101 | AT32: =AY32/12 -> 942.02749 | AU32: =AZ32/12 -> 941.37539 | AV32: =BA32/12 -> 940.72329 | AY32: =AY31*(1+P32) -> 11304.33 | AZ32: =AZ31*(1+Q32) -> 11296.505 | BA32: =BA31*(1+R32) -> 11288.679 | BD32: =AT32 -> 942.02749 | BE32: =AU32 -> 941.37539 | BF32: =AV32 -> 940.72329 | BI32: =BI31*AY32/AY31 -> 11304.33 | BJ32: =BJ31*AZ32/AZ31 -> 11296.505 | BK32: =BK31*BA32/BA31 -> 11288.679 | BN32: =BS32/12 -> 1278.0738 | BO32: =BT32/12 -> 1277.1891 | BP32: =BU32/12 -> 1276.3043 | BS32: =BS31*(1+P32) -> 15336.885 | BT32: =BT31*(1+Q32) -> 15326.269 | BU32: =BU31*(1+R32) -> 15315.652
B33: 2031 | C33: =DATE(B33,1,1) -> 47849 | F33: =F32*(1+P33) -> 1535.8955 | G33: =G32*(1+Q33) -> 1533.4171 | H33: =H32*(1+R33) -> 1530.9406 | K33: =F33*12 -> 18430.746 | L33: =G33*12 -> 18401.005 | M33: =H33*12 -> 18371.288 | P33: 0.018620311 | Q33: 0.01768108 | R33: 0.016741849 | T33: 2031 | U33: =DATE(T33,1,1) -> 47849 | X33: =AC33/12 -> 823.29944 | Y33: =AD33/12 -> 821.97092 | Z33: =AE33/12 -> 820.64345 | AC33: =AC32*(1+P33) -> 9879.5933 | AD33: =AD32*(1+Q33) -> 9863.6511 | AE33: =AE32*(1+R33) -> 9847.7214 | AH33: =AH32*(1+P33) -> 984.02404 | AI33: =AI32*(1+Q33) -> 982.43617 | AJ33: =AJ32*(1+R33) -> 980.84955 | AM33: =AH33*12 -> 11808.288 | AN33: =AI33*12 -> 11789.234 | AO33: =AJ33*12 -> 11770.195 | AP33: =AQ33/12 -> 1488.6959 | AQ33: =AQ32*(1+Revalo_RB!$H92) -> 17864.35 | AT33: =AY33/12 -> 959.56833 | AU33: =AZ33/12 -> 958.01992 | AV33: =BA33/12 -> 956.47273 | AY33: =AY32*(1+P33) -> 11514.82 | AZ33: =AZ32*(1+Q33) -> 11496.239 | BA33: =BA32*(1+R33) -> 11477.673 | BD33: =AT33 -> 959.56833 | BE33: =AU33 -> 958.01992 | BF33: =AV33 -> 956.47273 | BI33: =BI32*AY33/AY32 -> 11514.82 | BJ33: =BJ32*AZ33/AZ32 -> 11496.239 | BK33: =BK32*BA33/BA32 -> 11477.673 | BN33: =BS33/12 -> 1301.8719 | BO33: =BT33/12 -> 1299.7712 | BP33: =BU33/12 -> 1297.672 | BS33: =BS32*(1+P33) -> 15622.463 | BT33: =BT32*(1+Q33) -> 15597.254 | BU33: =BU32*(1+R33) -> 15572.065
B34: 2032 | C34: =DATE(B34,1,1) -> 48214 | F34: =F33*(1+P34) -> 1566.0396 | G34: =G33*(1+Q34) -> 1561.7122 | H34: =H33*(1+R34) -> 1557.3927 | K34: =F34*12 -> 18792.475 | L34: =G34*12 -> 18740.547 | M34: =H34*12 -> 18688.712 | P34: 0.019626387 | Q34: 0.018452349 | R34: 0.01727831 | T34: 2032 | U34: =DATE(T34,1,1) -> 48214 | X34: =AC34/12 -> 839.45784 | Y34: =AD34/12 -> 837.13822 | Z34: =AE34/12 -> 834.82279 | AC34: =AC33*(1+P34) -> 10073.494 | AD34: =AD33*(1+Q34) -> 10045.659 | AE34: =AE33*(1+R34) -> 10017.873 | AH34: =AH33*(1+P34) -> 1003.3369 | AI34: =AI33*(1+Q34) -> 1000.5644 | AJ34: =AJ33*(1+R34) -> 997.79697 | AM34: =AH34*12 -> 12040.043 | AN34: =AI34*12 -> 12006.773 | AO34: =AJ34*12 -> 11973.564 | AP34: =AQ34/12 -> 1514.748 | AQ34: =AQ33*(1+Revalo_RB!$H93) -> 18176.977 | AT34: =AY34/12 -> 978.40119 | AU34: =AZ34/12 -> 975.69764 | AV34: =BA34/12 -> 972.99897 | AY34: =AY33*(1+P34) -> 11740.814 | AZ34: =AZ33*(1+Q34) -> 11708.372 | BA34: =BA33*(1+R34) -> 11675.988 | BD34: =AT34 -> 978.40119 | BE34: =AU34 -> 975.69764 | BF34: =AV34 -> 972.99897 | BI34: =BI33*AY34/AY33 -> 11740.814 | BJ34: =BJ33*AZ34/AZ33 -> 11708.372 | BK34: =BK33*BA34/BA33 -> 11675.988 | BN34: =BS34/12 -> 1327.423 | BO34: =BT34/12 -> 1323.755 | BP34: =BU34/12 -> 1320.0936 | BS34: =BS33*(1+P34) -> 15929.076 | BT34: =BT33*(1+Q34) -> 15885.06 | BU34: =BU33*(1+R34) -> 15841.123
B35: 2033 | C35: =DATE(B35,1,1) -> 48580 | F35: =F34*(1+P35) -> 1598.3508 | G35: =G34*(1+Q35) -> 1591.734 | H35: =H34*(1+R35) -> 1585.1373 | K35: =F35*12 -> 19180.21 | L35: =G35*12 -> 19100.808 | M35: =H35*12 -> 19021.648 | P35: 0.020632464 | Q35: 0.019223618 | R35: 0.017814772 | T35: 2033 | U35: =DATE(T35,1,1) -> 48580 | X35: =AC35/12 -> 856.77792 | Y35: =AD35/12 -> 853.23104 | Z35: =AE35/12 -> 849.69496 | AC35: =AC34*(1+P35) -> 10281.335 | AD35: =AD34*(1+Q35) -> 10238.773 | AE35: =AE34*(1+R35) -> 10196.34 | AH35: =AH34*(1+P35) -> 1024.0382 | AI35: =AI34*(1+Q35) -> 1019.7989 | AJ35: =AJ34*(1+R35) -> 1015.5725 | AM35: =AH35*12 -> 12288.458 | AN35: =AI35*12 -> 12237.587 | AO35: =AJ35*12 -> 12186.87 | AP35: =AQ35/12 -> 1541.2561 | AQ35: =AQ34*(1+Revalo_RB!$H94) -> 18495.074 | AT35: =AY35/12 -> 998.58802 | AU35: =AZ35/12 -> 994.45408 | AV35: =BA35/12 -> 990.33272 | AY35: =AY34*(1+P35) -> 11983.056 | AZ35: =AZ34*(1+Q35) -> 11933.449 | BA35: =BA34*(1+R35) -> 11883.993 | BD35: =AT35 -> 998.58802 | BE35: =AU35 -> 994.45408 | BF35: =AV35 -> 990.33272 | BI35: =BI34*AY35/AY34 -> 11983.056 | BJ35: =BJ34*AZ35/AZ34 -> 11933.449 | BK35: =BK34*BA35/BA34 -> 11883.993 | BN35: =BS35/12 -> 1354.811 | BO35: =BT35/12 -> 1349.2023 | BP35: =BU35/12 -> 1343.6108 | BS35: =BS34*(1+P35) -> 16257.732 | BT35: =BT34*(1+Q35) -> 16190.428 | BU35: =BU34*(1+R35) -> 16123.329
B36: 2034 | C36: =DATE(B36,1,1) -> 48945 | F36: =F35*(1+P36) -> 1632.9368 | G36: =G35*(1+Q36) -> 1623.5605 | H36: =H35*(1+R36) -> 1614.2265 | K36: =F36*12 -> 19595.241 | L36: =G36*12 -> 19482.726 | M36: =H36*12 -> 19370.718 | P36: 0.02163854 | Q36: 0.019994887 | R36: 0.018351233 | T36: 2034 | U36: =DATE(T36,1,1) -> 48945 | X36: =AC36/12 -> 875.31734 | Y36: =AD36/12 -> 870.2913 | Z36: =AE36/12 -> 865.28791 | AC36: =AC35*(1+P36) -> 10503.808 | AD36: =AD35*(1+Q36) -> 10443.496 | AE36: =AE35*(1+R36) -> 10383.455 | AH36: =AH35*(1+P36) -> 1046.1969 | AI36: =AI35*(1+Q36) -> 1040.1897 | AJ36: =AJ35*(1+R36) -> 1034.2095 | AM36: =AH36*12 -> 12554.363 | AN36: =AI36*12 -> 12482.276 | AO36: =AJ36*12 -> 12410.514 | AP36: =AQ36/12 -> 1568.2281 | AQ36: =AQ35*(1+Revalo_RB!$H95) -> 18818.737 | AT36: =AY36/12 -> 1020.196 | AU36: =AZ36/12 -> 1014.3381 | AV36: =BA36/12 -> 1008.5065 | AY36: =AY35*(1+P36) -> 12242.352 | AZ36: =AZ35*(1+Q36) -> 12172.057 | BA36: =BA35*(1+R36) -> 12102.079 | BD36: =AT36 -> 1020.196 | BE36: =AU36 -> 1014.3381 | BF36: =AV36 -> 1008.5065 | BI36: =BI35*AY36/AY35 -> 12242.352 | BJ36: =BJ35*AZ36/AZ35 -> 12172.057 | BK36: =BK35*BA36/BA35 -> 12102.079 | BN36: =BS36/12 -> 1384.1271 | BO36: =BT36/12 -> 1376.1795 | BP36: =BU36/12 -> 1368.2677 | BS36: =BS35*(1+P36) -> 16609.525 | BT36: =BT35*(1+Q36) -> 16514.154 | BU36: =BU35*(1+R36) -> 16419.212
B37: 2035 | C37: =DATE(B37,1,1) -> 49310 | F37: =F36*(1+P37) -> 1669.914 | G37: =G36*(1+Q37) -> 1657.2756 | H37: =H36*(1+R37) -> 1644.7155 | K37: =F37*12 -> 20038.968 | L37: =G37*12 -> 19887.308 | M37: =H37*12 -> 19736.586 | P37: 0.022644617 | Q37: 0.020766156 | R37: 0.018887694 | T37: 2035 | U37: =DATE(T37,1,1) -> 49310 | X37: =AC37/12 -> 895.13857 | Y37: =AD37/12 -> 888.3639 | Z37: =AE37/12 -> 881.63121 | AC37: =AC36*(1+P37) -> 10741.663 | AD37: =AD36*(1+Q37) -> 10660.367 | AE37: =AE36*(1+R37) -> 10579.574 | AH37: =AH36*(1+P37) -> 1069.8876 | AI37: =AI36*(1+Q37) -> 1061.7904 | AJ37: =AJ36*(1+R37) -> 1053.7433 | AM37: =AH37*12 -> 12838.651 | AN37: =AI37*12 -> 12741.485 | AO37: =AJ37*12 -> 12644.92 | AP37: =AQ37/12 -> 1595.6721 | AQ37: =AQ36*(1+Revalo_RB!$H96) -> 19148.065 | AT37: =AY37/12 -> 1043.298 | AU37: =AZ37/12 -> 1035.402 | AV37: =BA37/12 -> 1027.5549 | AY37: =AY36*(1+P37) -> 12519.575 | AZ37: =AZ36*(1+Q37) -> 12424.824 | BA37: =BA36*(1+R37) -> 12330.659 | BD37: =AT37 -> 1043.298 | BE37: =AU37 -> 1035.402 | BF37: =AV37 -> 1027.5549 | BI37: =BI36*AY37/AY36 -> 12519.575 | BJ37: =BJ36*AZ37/AZ36 -> 12424.824 | BK37: =BK36*BA37/BA36 -> 12330.659 | BN37: =BS37/12 -> 1415.4701 | BO37: =BT37/12 -> 1404.7574 | BP37: =BU37/12 -> 1394.1111 | BS37: =BS36*(1+P37) -> 16985.642 | BT37: =BT36*(1+Q37) -> 16857.089 | BU37: =BU36*(1+R37) -> 16729.334
B38: 2036 | C38: =DATE(B38,1,1) -> 49675 | F38: =F37*(1+P38) -> 1709.4086 | G38: =G37*(1+Q38) -> 1692.9691 | H38: =H37*(1+R38) -> 1676.6627 | K38: =F38*12 -> 20512.904 | L38: =G38*12 -> 20315.629 | M38: =H38*12 -> 20119.953 | P38: 0.023650694 | Q38: 0.021537424 | R38: 0.019424155 | T38: 2036 | U38: =DATE(T38,1,1) -> 49675 | X38: =AC38/12 -> 916.30922 | Y38: =AD38/12 -> 907.49697 | Z38: =AE38/12 -> 898.75615 | AC38: =AC37*(1+P38) -> 10995.711 | AD38: =AD37*(1+Q38) -> 10889.964 | AE38: =AE37*(1+R38) -> 10785.074 | AH38: =AH37*(1+P38) -> 1095.1912 | AI38: =AI37*(1+Q38) -> 1084.6586 | AJ38: =AJ37*(1+R38) -> 1074.2114 | AM38: =AH38*12 -> 13142.294 | AN38: =AI38*12 -> 13015.903 | AO38: =AJ38*12 -> 12890.537 | AP38: =AQ38/12 -> 1623.5964 | AQ38: =AQ37*(1+Revalo_RB!$H97) -> 19483.156 | AT38: =AY38/12 -> 1067.9727 | AU38: =AZ38/12 -> 1057.7019 | AV38: =BA38/12 -> 1047.5143 | AY38: =AY37*(1+P38) -> 12815.672 | AZ38: =AZ37*(1+Q38) -> 12692.422 | BA38: =BA37*(1+R38) -> 12570.172 | BD38: =AT38 -> 1067.9727 | BE38: =AU38 -> 1057.7019 | BF38: =AV38 -> 1047.5143 | BI38: =BI37*AY38/AY37 -> 12815.672 | BJ38: =BJ37*AZ38/AZ37 -> 12692.422 | BK38: =BK37*BA38/BA37 -> 12570.172 | BN38: =BS38/12 -> 1448.947 | BO38: =BT38/12 -> 1435.0123 | BP38: =BU38/12 -> 1421.1906 | BS38: =BS37*(1+P38) -> 17387.364 | BT38: =BT37*(1+Q38) -> 17220.148 | BU38: =BU37*(1+R38) -> 17054.287
B39: 2037 | C39: =DATE(B39,1,1) -> 50041 | F39: =F38*(1+P39) -> 1751.5571 | G39: =G38*(1+Q39) -> 1730.737 | H39: =H38*(1+R39) -> 1710.13 | K39: =F39*12 -> 21018.686 | L39: =G39*12 -> 20768.844 | M39: =H39*12 -> 20521.56 | P39: 0.02465677 | Q39: 0.022308693 | R39: 0.019960616 | T39: 2037 | U39: =DATE(T39,1,1) -> 50041 | X39: =AC39/12 -> 938.90244 | Y39: =AD39/12 -> 927.74205 | Z39: =AE39/12 -> 916.69587 | AC39: =AC38*(1+P39) -> 11266.829 | AD39: =AD38*(1+Q39) -> 11132.905 | AE39: =AE38*(1+R39) -> 11000.35 | AH39: =AH38*(1+P39) -> 1122.1951 | AI39: =AI38*(1+Q39) -> 1108.8559 | AJ39: =AJ38*(1+R39) -> 1095.6533 | AM39: =AH39*12 -> 13466.341 | AN39: =AI39*12 -> 13306.271 | AO39: =AJ39*12 -> 13147.84 | AP39: =AQ39/12 -> 1652.0093 | AQ39: =AQ38*(1+Revalo_RB!$H98) -> 19824.112 | AT39: =AY39/12 -> 1094.3054 | AU39: =AZ39/12 -> 1081.2978 | AV39: =BA39/12 -> 1068.4233 | AY39: =AY38*(1+P39) -> 13131.665 | AZ39: =AZ38*(1+Q39) -> 12975.574 | BA39: =BA38*(1+R39) -> 12821.08 | BD39: =AT39 -> 1094.3054 | BE39: =AU39 -> 1081.2978 | BF39: =AV39 -> 1068.4233 | BI39: =BI38*AY39/AY38 -> 13131.665 | BJ39: =BJ38*AZ39/AZ38 -> 12975.574 | BK39: =BK38*BA39/BA38 -> 12821.08 | BN39: =BS39/12 -> 1484.6733 | BO39: =BT39/12 -> 1467.0256 | BP39: =BU39/12 -> 1449.5584 | BS39: =BS38*(1+P39) -> 17816.08 | BT39: =BT38*(1+Q39) -> 17604.307 | BU39: =BU38*(1+R39) -> 17394.701
B40: 2038 | C40: =DATE(B40,1,1) -> 50406 | F40: =F39*(1+P40) -> 1796.5071 | G40: =G39*(1+Q40) -> 1770.6824 | H40: =H39*(1+R40) -> 1745.1826 | K40: =F40*12 -> 21558.085 | L40: =G40*12 -> 21248.188 | M40: =H40*12 -> 20942.192 | P40: 0.025662847 | Q40: 0.023079962 | R40: 0.020497078 | T40: 2038 | U40: =DATE(T40,1,1) -> 50406 | X40: =AC40/12 -> 962.99735 | Y40: =AD40/12 -> 949.1543 | Z40: =AE40/12 -> 935.48546 | AC40: =AC39*(1+P40) -> 11555.968 | AD40: =AD39*(1+Q40) -> 11389.852 | AE40: =AE39*(1+R40) -> 11225.826 | AH40: =AH39*(1+P40) -> 1150.9938 | AI40: =AI39*(1+Q40) -> 1134.4483 | AJ40: =AJ39*(1+R40) -> 1118.111 | AM40: =AH40*12 -> 13811.925 | AN40: =AI40*12 -> 13613.38 | AO40: =AJ40*12 -> 13417.332 | AP40: =AQ40/12 -> 1680.9195 | AQ40: =AQ39*(1+Revalo_RB!$H99) -> 20171.034 | AT40: =AY40/12 -> 1122.3884 | AU40: =AZ40/12 -> 1106.2541 | AV40: =BA40/12 -> 1090.3229 | AY40: =AY39*(1+P40) -> 13468.661 | AZ40: =AZ39*(1+Q40) -> 13275.049 | BA40: =BA39*(1+R40) -> 13083.875 | BD40: =AT40 -> 1122.3884 | BE40: =AU40 -> 1106.2541 | BF40: =AV40 -> 1090.3229 | BI40: =BI39*AY40/AY39 -> 13468.661 | BJ40: =BJ39*AZ40/AZ39 -> 13275.049 | BK40: =BK39*BA40/BA39 -> 13083.875 | BN40: =BS40/12 -> 1522.7743 | BO40: =BT40/12 -> 1500.8844 | BP40: =BU40/12 -> 1479.2701 | BS40: =BS39*(1+P40) -> 18273.291 | BT40: =BT39*(1+Q40) -> 18010.613 | BU40: =BU39*(1+R40) -> 17751.241
... B72: 2070 | C72: =DATE(B72,1,1) -> 62094 | F72: =F71*(1+P72) -> 4299.2123 | G72: =G71*(1+Q72) -> 3853.5239 | H72: =H71*(1+R72) -> 3452.9711 | K72: =F72*12 -> 51590.548 | L72: =G72*12 -> 46242.287 | M72: =H72*12 -> 41435.653 | P72: 0.027675 | Q72: 0.0246225 | R72: 0.02157 | T72: 2070 | U72: =DATE(T72,1,1) -> 62094 | X72: =AC72/12 -> 2304.5443 | Y72: =AD72/12 -> 2065.638 | Z72: =AE72/12 -> 1850.9262 | AC72: =AC71*(1+P72) -> 27654.531 | AD72: =AD71*(1+Q72) -> 24787.656 | AE72: =AE71*(1+R72) -> 22211.114 | AH72: =AH71*(1+P72) -> 2754.4376 | AI72: =AI71*(1+Q72) -> 2468.8921 | AJ72: =AJ71*(1+R72) -> 2212.2642 | AM72: =AH72*12 -> 33053.251 | AN72: =AI72*12 -> 29626.705 | AO72: =AJ72*12 -> 26547.17 | AP72: =AQ72/12 -> 2928.5206 | AQ72: =AQ71*(1+Revalo_RB!$H131) -> 35142.247 | AT72: =AY72/12 -> 2685.9822 | AU72: =AZ72/12 -> 2407.5333 | AV72: =BA72/12 -> 2157.2833 | AY72: =AY71*(1+P72) -> 32231.787 | AZ72: =AZ71*(1+Q72) -> 28890.4 | BA72: =BA71*(1+R72) -> 25887.4 | BD72: =AT72 -> 2685.9822 | BE72: =AU72 -> 2407.5333 | BF72: =AV72 -> 2157.2833 | BI72: =BI71*AY72/AY71 -> 32231.787 | BJ72: =BJ71*AZ72/AZ71 -> 28890.4 | BK72: =BK71*BA72/BA71 -> 25887.4 | BN72: =BS72/12 -> 3644.1437 | BO72: =BT72/12 -> 3266.3646 | BP72: =BU72/12 -> 2926.8438 | BS72: =BS71*(1+P72) -> 43729.724 | BT72: =BT71*(1+Q72) -> 39196.375 | BU72: =BU71*(1+R72) -> 35122.125
...

Sheet Prix_HT
B1: Évolution des prix à la consommation hors tabac pour revalorisations
B4: Année | C4: Évolution
E5: Sc_1,0% | F5: Sc_0,7% | G5: Sc_0,4%
B6: 2014
B7: 2015 | E7: 0 | F7: 0 | G7: 0
B8: 2016 | E8: 0.002 | F8: 0.002 | G8: 0.002
B9: 2017 | E9: 0.01 | F9: 0.01 | G9: 0.01
B10: 2018 | E10: 0.016 | F10: 0.016 | G10: 0.016
B11: 2019 | E11: 0.009 | F11: 0.009 | G11: 0.009
B12: 2020 | E12: 0.002071923 | F12: 0.002071923 | G12: 0.002071923
B13: 2021 | E13: 0.015539349 | F13: 0.015539349 | G13: 0.015539349
B14: 2022 | E14: 0.05344897 | F14: 0.05344897 | G14: 0.05344897
B15: 2023 | E15: 0.048223892 | F15: 0.048223892 | G15: 0.048223892
B16: 2024 | E16: 0.018487947 | F16: 0.018487947 | G16: 0.018487947
B17: 2025 | E17: 0.0088832131 | F17: 0.0088832131 | G17: 0.0088832131
B18: 2026 | E18: 0.019112307 | F18: 0.019112307 | G18: 0.019112307
... B52: 2060 | E52: 0.0175 | F52: 0.0175 | G52: 0.0175
B53: =B52+1 -> 2061 | E53: 0.0175 | F53: 0.0175 | G53: 0.0175
B54: =B53+1 -> 2062 | E54: 0.0175 | F54: 0.0175 | G54: 0.0175
B55: =B54+1 -> 2063 | E55: 0.0175 | F55: 0.0175 | G55: 0.0175
B56: =B55+1 -> 2064 | E56: 0.0175 | F56: 0.0175 | G56: 0.0175
B57: =B56+1 -> 2065 | E57: 0.0175 | F57: 0.0175 | G57: 0.0175
B58: =B57+1 -> 2066 | E58: 0.0175 | F58: 0.0175 | G58: 0.0175
B59: =B58+1 -> 2067 | E59: 0.0175 | F59: 0.0175 | G59: 0.0175
B60: =B59+1 -> 2068 | E60: 0.0175 | F60: 0.0175 | G60: 0.0175
B61: =B60+1 -> 2069 | E61: 0.0175 | F61: 0.0175 | G61: 0.0175
B62: =B61+1 -> 2070 | E62: 0.0175 | F62: 0.0175 | G62: 0.0175

Sheet Sal_valid
B1: Salaire validant 1 trimestre (en moyenne annuelle)
B2: Source : legislation.cnav
B4: Année | C4: Salaire nominal | H4: Salaire réel (2016) | M4: Évolution en nominal | R4: Évolution en réel
E5: Sc_1,0% | F5: Sc_0,7% | G5: Sc_0,4% | J5: Sc_1,0% | K5: Sc_0,7% | L5: Sc_0,4% | O5: Sc_1,0% | P5: Sc_0,7% | Q5: Sc_0,4% | T5: Sc_1,0% | U5: Sc_0,7% | V5: Sc_0,4%
B6: 1949 | E6: 12.958166 | F6: 12.958166 | G6: 12.958166 | J6: 261.19701 | K6: 261.19701 | L6: 261.19701
B7: 1950 | E7: 17.150514 | F7: 17.150514 | G7: 17.150514 | J7: 314.10211 | K7: 314.10211 | L7: 314.10211 | O7: =E7/E6-1 -> 0.32352941 | P7: =F7/F6-1 -> 0.32352941 | Q7: =G7/G6-1 -> 0.32352941 | T7: =J7/J6-1 -> 0.20254866 | U7: =K7/K6-1 -> 0.20254866 | V7: =L7/L6-1 -> 0.20254866
B8: 1951 | E8: 19.818372 | F8: 19.818372 | G8: 19.818372 | J8: 312.66213 | K8: 312.66213 | L8: 312.66213 | O8: =E8/E7-1 -> 0.15555556 | P8: =F8/F7-1 -> 0.15555556 | Q8: =G8/G7-1 -> 0.15555556 | T8: =J8/J7-1 -> -0.0045844269 | U8: =K8/K7-1 -> -0.0045844269 | V8: =L8/L7-1 -> -0.0045844269
B9: 1952 | E9: 22.791128 | F9: 22.791128 | G9: 22.791128 | J9: 321.12732 | K9: 321.12732 | L9: 321.12732 | O9: =E9/E8-1 -> 0.15 | P9: =F9/F8-1 -> 0.15 | Q9: =G9/G8-1 -> 0.15 | T9: =J9/J8-1 -> 0.027074543 | U9: =K9/K8-1 -> 0.027074543 | V9: =L9/L8-1 -> 0.027074543
B10: 1953 | E10: 22.791128 | F10: 22.791128 | G10: 22.791128 | J10: 326.64023 | K10: 326.64023 | L10: 326.64023 | O10: =E10/E9-1 -> 0 | P10: =F10/F9-1 -> 0 | Q10: =G10/G9-1 -> 0 | T10: =J10/J9-1 -> 0.017167382 | U10: =K10/K9-1 -> 0.017167382 | V10: =L10/L9-1 -> 0.017167382
B11: 1954 | E11: 25.077863 | F11: 25.077863 | G11: 25.077863 | J11: 357.87754 | K11: 357.87754 | L11: 357.87754 | O11: =E11/E10-1 -> 0.10033445 | P11: =F11/F10-1 -> 0.10033445 | Q11: =G11/G10-1 -> 0.10033445 | T11: =J11/J10-1 -> 0.095632164 | U11: =K11/K10-1 -> 0.095632164 | V11: =L11/L10-1 -> 0.095632164
B12: 1955 | E12: 25.077863 | F12: 25.077863 | G12: 25.077863 | J12: 354.3442 | K12: 354.3442 | L12: 354.3442 | O12: =E12/E11-1 -> 0 | P12: =F12/F11-1 -> 0 | Q12: =G12/G11-1 -> 0 | T12: =J12/J11-1 -> -0.0098730606 | U12: =K12/K11-1 -> -0.0098730606 | V12: =L12/L11-1 -> -0.0098730606
B13: 1956 | E13: 27.58565 | F13: 27.58565 | G13: 27.58565 | J13: 374.46211 | K13: 374.46211 | L13: 374.46211 | O13: =E13/E12-1 -> 0.1 | P13: =F13/F12-1 -> 0.1 | Q13: =G13/G12-1 -> 0.1 | T13: =J13/J12-1 -> 0.056775068 | U13: =K13/K12-1 -> 0.056775068 | V13: =L13/L12-1 -> 0.056775068
B14: 1957 | E14: 27.58565 | F14: 27.58565 | G14: 27.58565 | J14: 363.1446 | K14: 363.1446 | L14: 363.1446 | O14: =E14/E13-1 -> 0 | P14: =F14/F13-1 -> 0 | Q14: =G14/G13-1 -> 0 | T14: =J14/J13-1 -> -0.03022339 | U14: =K14/K13-1 -> -0.03022339 | V14: =L14/L13-1 -> -0.03022339
B15: 1958 | E15: 27.58565 | F15: 27.58565 | G15: 27.58565 | J15: 315.83204 | K15: 315.83204 | L15: 315.83204 | O15: =E15/E14-1 -> 0 | P15: =F15/F14-1 -> 0 | Q15: =G15/G14-1 -> 0 | T15: =J15/J14-1 -> -0.13028571 | U15: =K15/K14-1 -> -0.13028571 | V15: =L15/L14-1 -> -0.13028571
B16: 1959 | E16: 27.58565 | F16: 27.58565 | G16: 27.58565 | J16: 297.47367 | K16: 297.47367 | L16: 297.47367 | O16: =E16/E15-1 -> 0 | P16: =F16/F15-1 -> 0 | Q16: =G16/G15-1 -> 0 | T16: =J16/J15-1 -> -0.058127018 | U16: =K16/K15-1 -> -0.058127018 | V16: =L16/L15-1 -> -0.058127018
