Workbook

Sheet Info
B1: Date de mise à jour
B2: - 23 avril 2026
B4: Onglet | C4: Contenu | D4: Méthode | E4: Dernière valeur connue | F4: Projection
B5: Chô_5% | C5: Taux de chômage BIT (champ : France entière), emploi total et emploi décliné par régime (en niveau et en évolution) | D5: L'emploi total est calé sur la comptabilité nationale de l'INSEE (dernier point connu : 2024 en moyenne annuelle). Tous les effectifs sont exprimés en milliers. Les évolutions résultent des évolutions données par les projections de population active de la DG Trésor. Les effectifs cotisants de la Cnav et de la MSA salariés évoluent selon les hypothèses de la DSS de 2019 à 2030. Ils évoluent ensuite de façon à respecter le solde entre l'emploi total et l'emploi des autres catégories (avec un raccordement liénaire entre 2030 et 2033). De 2019 à 2030, le bouclage des cotisants n'est donc pas forcément assuré. La décomposition entre civils et militaires est effectuée par le SRE. Les variantes économiques de taux de chômage concernent la Cnav (dont le SSI), la MSA salariés et l'Agirc-Arcco. | E5: 2024 | F5: Selon scénario et variante (économique et démographique)
B6: Chô_7%
B7: Chô_10%
B8: CER | C8: Hypothèses de la part des cotisants en cumul emploi-retraite par régime (Cnav, MSA sal et MSA EXA, RSI et CNAVPL) | D8: Part estimée à partir des données PQE "Retraites" de 2022 et figée en projection | E8: 2023 | F8: Tous scénarios
B9: Flux_migratoires | C9: hypothèses d'entrées d'immigrés et de non-immgrés (voir méthode décrite dans le cahier des charges) | D9: Source : Insee et estimations SG-COR | F9: =F8 -> Tous scénarios
B10: FPE | C10: Effectifs Orange et La Poste | D10: Source : DB et hypothèses COR à partir de 2040 | E10: 2025 | F10: Tous scénarios
B11: CNRACL | C11: Effectifs FPT et FPH | D11: Source : DB et hypothèses COR à partir de 2040 | E11: 2025 | F11: Tous scénarios

Sheet Graph
B1: EMPLOI TOTAL | H1: CNAV | N1: FPE civils et militaires | T1: CNRACL | Z1: Taux de chômage
C18: 0.07 | D18: 0.05 | E18: 7% - avril 2025 | F18: 0.1 | I18: 0.07 | J18: 0.05 | K18: =E18 -> 7% - avril 2025 | L18: 0.1 | O18: 0.07 | P18: 0.05 | Q18: =K18 -> 7% - avril 2025 | R18: 0.1 | U18: 0.07 | V18: 0.05 | W18: =Q18 -> 7% - avril 2025 | X18: 0.1 | AA18: 0.07 | AB18: 0.05 | AC18: =W18 -> 7% - avril 2025 | AD18: 0.1
B19: 2022 | H19: 2022 | N19: 2022 | T19: 2022 | Z19: 2022
B20: 2023 | C20: ='Chô_7%'!AD9 -> 30394.8 | D20: ='Chô_5%'!AD9 -> 30394.8 | E20: 30423.6 | F20: ='Chô_10%'!AD9 -> 30394.8 | H20: 2023 | I20: ='Chô_7%'!AE9 -> 21253.132 | J20: ='Chô_5%'!AE9 -> 21253.132 | K20: 21281.932 | L20: ='Chô_10%'!AE9 -> 21253.132 | N20: 2023 | O20: ='Chô_7%'!AG9 -> 2011.84 | P20: ='Chô_5%'!AG9 -> 2011.84 | Q20: 2011.84 | R20: ='Chô_10%'!AG9 -> 2011.84 | T20: 2023 | U20: ='Chô_7%'!AI9 -> 2144.4918 | V20: ='Chô_7%'!AI9 -> 2144.4918 | W20: 2144.4918 | X20: ='Chô_7%'!AI9 -> 2144.4918 | Z20: 2023 | AA20: ='Chô_7%'!$C9 -> 0.074 | AB20: ='Chô_5%'!$C9 -> 0.074 | AC20: 0.073 | AD20: ='Chô_10%'!$C9 -> 0.074
B21: =B20+1 -> 2024 | C21: ='Chô_7%'!AD10 -> 30623.3 | D21: ='Chô_5%'!AD10 -> 30623.3 | E21: 30597.015 | F21: ='Chô_10%'!AD10 -> 30623.3 | H21: =H20+1 -> 2024 | I21: ='Chô_7%'!AE10 -> 21338.144 | J21: ='Chô_5%'!AE10 -> 21338.144 | K21: 21367.06 | L21: ='Chô_10%'!AE10 -> 21338.144 | N21: =N20+1 -> 2024 | O21: ='Chô_7%'!AG10 -> 1970.82 | P21: ='Chô_5%'!AG10 -> 1970.82 | Q21: 2005.56 | R21: ='Chô_10%'!AG10 -> 1970.82 | T21: =T20+1 -> 2024 | U21: ='Chô_7%'!AI10 -> 2151.6885 | V21: ='Chô_7%'!AI10 -> 2151.6885 | W21: 2151.6885 | X21: ='Chô_7%'!AI10 -> 2151.6885 | Z21: =Z20+1 -> 2024 | AA21: ='Chô_7%'!$C10 -> 0.074 | AB21: ='Chô_5%'!$C10 -> 0.074 | AC21: 0.07375 | AD21: ='Chô_10%'!$C10 -> 0.074
B22: =B21+1 -> 2025 | C22: ='Chô_7%'!AD11 -> 30687.609 | D22: ='Chô_5%'!AD11 -> 30687.609 | E22: 30578.656 | F22: ='Chô_10%'!AD11 -> 30687.609 | H22: =H21+1 -> 2025 | I22: ='Chô_7%'!AE11 -> 21318.297 | J22: ='Chô_5%'!AE11 -> 21318.297 | K22: 21271.865 | L22: ='Chô_10%'!AE11 -> 21318.297 | N22: =N21+1 -> 2025 | O22: ='Chô_7%'!AG11 -> 1953.24 | P22: ='Chô_5%'!AG11 -> 1953.24 | Q22: 1996.82 | R22: ='Chô_10%'!AG11 -> 1953.24 | T22: =T21+1 -> 2025 | U22: ='Chô_7%'!AI11 -> 2145.8187 | V22: ='Chô_7%'!AI11 -> 2145.8187 | W22: 2154.6885 | X22: ='Chô_7%'!AI11 -> 2145.8187 | Z22: =Z21+1 -> 2025 | AA22: ='Chô_7%'!$C11 -> 0.077 | AB22: ='Chô_5%'!$C11 -> 0.077 | AC22: 0.0763 | AD22: ='Chô_10%'!$C11 -> 0.0768
B23: =B22+1 -> 2026 | C23: ='Chô_7%'!AD12 -> 30702.953 | D23: ='Chô_5%'!AD12 -> 30702.953 | E23: 30725.434 | F23: ='Chô_10%'!AD12 -> 30702.953 | H23: =H22+1 -> 2026 | I23: ='Chô_7%'!AE12 -> 21254.008 | J23: ='Chô_5%'!AE12 -> 21254.008 | K23: 21334.825 | L23: ='Chô_10%'!AE12 -> 21254.008 | N23: =N22+1 -> 2026 | O23: ='Chô_7%'!AG12 -> 1946.96 | P23: ='Chô_5%'!AG12 -> 1946.96 | Q23: 1989.78 | R23: ='Chô_10%'!AG12 -> 1946.96 | T23: =T22+1 -> 2026 | U23: ='Chô_7%'!AI12 -> 2146.3187 | V23: ='Chô_7%'!AI12 -> 2146.3187 | W23: 2155.1885 | X23: ='Chô_7%'!AI12 -> 2146.3187 | Z23: =Z22+1 -> 2026 | AA23: ='Chô_7%'!$C12 -> 0.0807 | AB23: ='Chô_5%'!$C12 -> 0.0807 | AC23: 0.0772 | AD23: ='Chô_10%'!$C12 -> 0.0807
B24: =B23+1 -> 2027 | C24: ='Chô_7%'!AD13 -> 30739.796 | D24: ='Chô_5%'!AD13 -> 30739.796 | E24: 30934.367 | F24: ='Chô_10%'!AD13 -> 30739.796 | H24: =H23+1 -> 2027 | I24: ='Chô_7%'!AE13 -> 21209.293 | J24: ='Chô_5%'!AE13 -> 21209.293 | K24: 21475.581 | L24: ='Chô_10%'!AE13 -> 21209.293 | N24: =N23+1 -> 2027 | O24: ='Chô_7%'!AG13 -> 1940.96 | P24: ='Chô_5%'!AG13 -> 1940.96 | Q24: 1983.36 | R24: ='Chô_10%'!AG13 -> 1940.96 | T24: =T23+1 -> 2027 | U24: ='Chô_7%'!AI13 -> 2146.8187 | V24: ='Chô_7%'!AI13 -> 2146.8187 | W24: 2155.6885 | X24: ='Chô_7%'!AI13 -> 2146.8187 | Z24: =Z23+1 -> 2027 | AA24: ='Chô_7%'!$C13 -> 0.0824 | AB24: ='Chô_5%'!$C13 -> 0.0824 | AC24: 0.0747 | AD24: ='Chô_10%'!$C13 -> 0.0824
B25: =B24+1 -> 2028 | C25: ='Chô_7%'!AD14 -> 30856.608 | D25: ='Chô_5%'!AD14 -> 30856.608 | E25: 31166.375 | F25: ='Chô_10%'!AD14 -> 30856.608 | H25: =H24+1 -> 2028 | I25: ='Chô_7%'!AE14 -> 21269.439 | J25: ='Chô_5%'!AE14 -> 21269.439 | K25: 21646.946 | L25: ='Chô_10%'!AE14 -> 21269.439 | N25: =N24+1 -> 2028 | O25: ='Chô_7%'!AG14 -> 1936.48 | P25: ='Chô_5%'!AG14 -> 1936.48 | Q25: 1978.58 | R25: ='Chô_10%'!AG14 -> 1936.48 | T25: =T24+1 -> 2028 | U25: ='Chô_7%'!AI14 -> 2146.8187 | V25: ='Chô_7%'!AI14 -> 2146.8187 | W25: 2155.6885 | X25: ='Chô_7%'!AI14 -> 2146.8187 | Z25: =Z24+1 -> 2028 | AA25: ='Chô_7%'!$C14 -> 0.0811 | AB25: ='Chô_5%'!$C14 -> 0.0811 | AC25: 0.0715 | AD25: ='Chô_10%'!$C14 -> 0.0811
B26: =B25+1 -> 2029 | C26: ='Chô_7%'!AD15 -> 30992.377 | D26: ='Chô_5%'!AD15 -> 30992.377 | E26: 31337.79 | F26: ='Chô_10%'!AD15 -> 30992.377 | H26: =H25+1 -> 2029 | I26: ='Chô_7%'!AE15 -> 21354.42 | J26: ='Chô_5%'!AE15 -> 21354.42 | K26: 21768.07 | L26: ='Chô_10%'!AE15 -> 21354.42 | N26: =N25+1 -> 2029 | O26: ='Chô_7%'!AG15 -> 1932.12 | P26: ='Chô_5%'!AG15 -> 1932.12 | Q26: 1973.98 | R26: ='Chô_10%'!AG15 -> 1932.12 | T26: =T25+1 -> 2029 | U26: ='Chô_7%'!AI15 -> 2146.8187 | V26: ='Chô_7%'!AI15 -> 2146.8187 | W26: 2155.6885 | X26: ='Chô_7%'!AI15 -> 2146.8187 | Z26: =Z25+1 -> 2029 | AA26: ='Chô_7%'!$C15 -> 0.0795 | AB26: ='Chô_5%'!$C15 -> 0.0795 | AC26: 0.0697 | AD26: ='Chô_10%'!$C15 -> 0.0795
B27: =B26+1 -> 2030 | C27: ='Chô_7%'!AD16 -> 31162.835 | D27: ='Chô_5%'!AD16 -> 31224.819 | E27: 31409.867 | F27: ='Chô_10%'!AD16 -> 31069.858 | H27: =H26+1 -> 2030 | I27: ='Chô_7%'!AE16 -> 21425.581 | J27: ='Chô_5%'!AE16 -> 21425.581 | K27: 21923.959 | L27: ='Chô_10%'!AE16 -> 21425.581 | N27: =N26+1 -> 2030 | O27: ='Chô_7%'!AG16 -> 1927.86 | P27: ='Chô_5%'!AG16 -> 1927.86 | Q27: 1970.12 | R27: ='Chô_10%'!AG16 -> 1927.86 | T27: =T26+1 -> 2030 | U27: ='Chô_7%'!AI16 -> 2146.8187 | V27: ='Chô_7%'!AI16 -> 2146.8187 | W27: 2155.6885 | X27: ='Chô_7%'!AI16 -> 2146.8187 | Z27: =Z26+1 -> 2030 | AA27: ='Chô_7%'!$C16 -> 0.0779 | AB27: ='Chô_5%'!$C16 -> 0.0761 | AC27: 0.0698 | AD27: ='Chô_10%'!$C16 -> 0.0806
B28: =B27+1 -> 2031 | C28: ='Chô_7%'!AD17 -> 31340.463 | D28: ='Chô_5%'!AD17 -> 31462.128 | E28: 31491.532 | F28: ='Chô_10%'!AD17 -> 31153.746 | H28: =H27+1 -> 2031 | I28: ='Chô_7%'!AE17 -> 21600.92 | J28: ='Chô_5%'!AE17 -> 21654.27 | K28: 22079.848 | L28: ='Chô_10%'!AE17 -> 21520.737 | N28: =N27+1 -> 2031 | O28: ='Chô_7%'!AG17 -> 1924 | P28: ='Chô_5%'!AG17 -> 1924 | Q28: 1966.44 | R28: ='Chô_10%'!AG17 -> 1924 | T28: =T27+1 -> 2031 | U28: ='Chô_7%'!AI17 -> 2146.8187 | V28: ='Chô_7%'!AI17 -> 2146.8187 | W28: 2155.6885 | X28: ='Chô_7%'!AI17 -> 2146.8187 | Z28: =Z27+1 -> 2031 | AA28: ='Chô_7%'!$C17 -> 0.0763 | AB28: ='Chô_5%'!$C17 -> 0.0727 | AC28: 0.0699 | AD28: ='Chô_10%'!$C17 -> 0.0818
B29: =B28+1 -> 2032 | C29: ='Chô_7%'!AD18 -> 31506.567 | D29: ='Chô_5%'!AD18 -> 31691.802 | E29: 31573.41 | F29: ='Chô_10%'!AD18 -> 31225.4 | H29: =H28+1 -> 2032 | I29: ='Chô_7%'!AE18 -> 21776.259 | J29: ='Chô_5%'!AE18 -> 21882.96 | K29: 22235.738 | L29: ='Chô_10%'!AE18 -> 21615.893 | N29: =N28+1 -> 2032 | O29: ='Chô_7%'!AG18 -> 1919.96 | P29: ='Chô_5%'!AG18 -> 1919.96 | Q29: 1963.22 | R29: ='Chô_10%'!AG18 -> 1919.96 | T29: =T28+1 -> 2032 | U29: ='Chô_7%'!AI18 -> 2146.8187 | V29: ='Chô_7%'!AI18 -> 2146.8187 | W29: 2155.6885 | X29: ='Chô_7%'!AI18 -> 2146.8187 | Z29: =Z28+1 -> 2032 | AA29: ='Chô_7%'!$C18 -> 0.0748 | AB29: ='Chô_5%'!$C18 -> 0.0693 | AC29: 0.07 | AD29: ='Chô_10%'!$C18 -> 0.0829
B30: =B29+1 -> 2033 | C30: ='Chô_7%'!AD19 -> 31664.1 | D30: ='Chô_5%'!AD19 -> 31913.644 | E30: 31592.354 | F30: ='Chô_10%'!AD19 -> 31290.973 | H30: =H29+1 -> 2033 | I30: ='Chô_7%'!AE19 -> 21951.598 | J30: ='Chô_5%'!AE19 -> 22111.649 | K30: 22275.664 | L30: ='Chô_10%'!AE19 -> 21711.048 | N30: =N29+1 -> 2033 | O30: ='Chô_7%'!AG19 -> 1916.48 | P30: ='Chô_5%'!AG19 -> 1916.48 | Q30: 1960.16 | R30: ='Chô_10%'!AG19 -> 1916.48 | T30: =T29+1 -> 2033 | U30: ='Chô_7%'!AI19 -> 2146.8187 | V30: ='Chô_7%'!AI19 -> 2146.8187 | W30: 2155.6885 | X30: ='Chô_7%'!AI19 -> 2146.8187 | Z30: =Z29+1 -> 2033 | AA30: ='Chô_7%'!$C19 -> 0.0732 | AB30: ='Chô_5%'!$C19 -> 0.0659 | AC30: 0.07 | AD30: ='Chô_10%'!$C19 -> 0.0841
B31: =B30+1 -> 2034 | C31: ='Chô_7%'!AD20 -> 31749.593 | D31: ='Chô_5%'!AD20 -> 32063.638 | E31: 31620.787 | F31: ='Chô_10%'!AD20 -> 31284.715 | H31: =H30+1 -> 2034 | I31: ='Chô_7%'!AE20 -> 22050.467 | J31: ='Chô_5%'!AE20 -> 22265.763 | K31: 22321.98 | L31: ='Chô_10%'!AE20 -> 21730.859 | N31: =N30+1 -> 2034 | O31: ='Chô_7%'!AG20 -> 1913.26 | P31: ='Chô_5%'!AG20 -> 1913.26 | Q31: 1957.6 | R31: ='Chô_10%'!AG20 -> 1913.26 | T31: =T30+1 -> 2034 | U31: ='Chô_7%'!AI20 -> 2146.8187 | V31: ='Chô_7%'!AI20 -> 2146.8187 | W31: 2155.6885 | X31: ='Chô_7%'!AI20 -> 2146.8187 | Z31: =Z30+1 -> 2034 | AA31: ='Chô_7%'!$C20 -> 0.0727 | AB31: ='Chô_5%'!$C20 -> 0.0636 | AC31: 0.07 | AD31: ='Chô_10%'!$C20 -> 0.0864
B32: =B31+1 -> 2035 | C32: ='Chô_7%'!AD21 -> 31838.492 | D32: ='Chô_5%'!AD21 -> 32217.544 | E32: 31652.408 | F32: ='Chô_10%'!AD21 -> 31278.458 | H32: =H31+1 -> 2035 | I32: ='Chô_7%'!AE21 -> 22150.088 | J32: ='Chô_5%'!AE21 -> 22421.062 | K32: 22370.573 | L32: ='Chô_10%'!AE21 -> 21748.478 | N32: =N31+1 -> 2035 | O32: ='Chô_7%'!AG21 -> 1910.76 | P32: ='Chô_5%'!AG21 -> 1910.76 | Q32: 1954.7 | R32: ='Chô_10%'!AG21 -> 1910.76 | T32: =T31+1 -> 2035 | U32: ='Chô_7%'!AI21 -> 2146.8187 | V32: ='Chô_7%'!AI21 -> 2146.8187 | W32: 2155.6885 | X32: ='Chô_7%'!AI21 -> 2146.8187 | Z32: =Z31+1 -> 2035 | AA32: ='Chô_7%'!$C21 -> 0.0723 | AB32: ='Chô_5%'!$C21 -> 0.0614 | AC32: 0.07 | AD32: ='Chô_10%'!$C21 -> 0.0886
... B67: =B66+1 -> 2070 | C67: ='Chô_7%'!AD56 -> 28865.533 | D67: ='Chô_5%'!AD56 -> 29493.136 | E67: 30440.797 | F67: ='Chô_10%'!AD56 -> 27935.684 | H67: =H66+1 -> 2070 | I67: ='Chô_7%'!AE56 -> 20310.773 | J67: ='Chô_5%'!AE56 -> 20800.157 | K67: 21796.742 | L67: ='Chô_10%'!AE56 -> 19582.104 | N67: =N66+1 -> 2070 | O67: ='Chô_7%'!AG56 -> 1709.0514 | P67: ='Chô_5%'!AG56 -> 1709.0514 | Q67: 1871.7461 | R67: ='Chô_10%'!AG56 -> 1709.0514 | T67: =T66+1 -> 2070 | U67: ='Chô_7%'!AI56 -> 1929.3184 | V67: ='Chô_7%'!AI56 -> 1929.3184 | W67: 2072.9648 | X67: ='Chô_7%'!AI56 -> 1929.3184 | Z67: =Z66+1 -> 2070 | AA67: ='Chô_7%'!$C56 -> 0.07 | AB67: ='Chô_5%'!$C56 -> 0.05 | AC67: 0.07 | AD67: ='Chô_10%'!$C56 -> 0.1

Sheet Chô_5%
B1: Hypothèses de cotisants
B3: Hypothèses de productivité : 0,4 %, 0,7 % et taux de chômage de 5% | J3: Scénario démographique : scénario central INSEE 2026
B4: Année | C4: Taux de Cotmage BIT | D4: EMPLOI TOTAL | E4: =AE4 -> CNAV | F4: =AF4 -> MSA_SA | G4: =AG4 -> FPE civils et militaires | H4: =AH4 -> FSPOEIE | I4: =AI4 -> CNRACL | J4: =AJ4 -> CANSSM | K4: =AK4 -> SNCF | L4: =AL4 -> RATP | ... T4: =AT4 -> CNAVPL_RB + PAMC | U4: Autoentrepreneur SSI | V4: Autoentrepreneur PL | W4: AGIRC-ARRCO | X4: IRCANTEC | Y4: CRPNPAC | Z4: Part emploi salariés secteur privé | AA4: Part emploi non-salariés | AB4: Part emploi FP | AC4: PartEmploiRégimesSpéciaux | AD4: Emploi total | AE4: CNAV | AF4: MSA_SA | AG4: FPE civils et militaires | AH4: FSPOEIE | AI4: CNRACL | AJ4: CANSSM | AK4: SNCF | AL4: RATP | AM4: ENIM | AN4: CNIEG | AO4: CRPCEN | AP4: BDF | AQ4: MSA_EXA | AR4: Régime général des non salariés | AS4: Auto-entrepreneurs SSI | AT4: CNAVPL_RB + PAMC | AU4: Auto-entrepreneurs CNAVPL | AV4: CNBF_RB | AW4: AGIRC-ARRCO | AX4: IRCANTEC | AY4: CRPNPAC
B5: 2019 | Z5: =(AE5+AF5)/AD5 -> 0.72950787 | AA5: =SUM(AQ5:AT5)/AD5 -> 0.1221487 | AB5: =(AI5+AG5)/AD5 -> 0.14760355 | AC5: =(AH5+SUM(AJ5:AP5))/AD5 -> 0.015018111 | AD5: 28662 | AE5: 20127.908 | AF5: 781.24675 | AG5: 2028.58 | AH5: 23.25736 | AI5: 2202.033 | AJ5: 1.274 | AK5: 135.2512 | AL5: 41.349475 | AM5: 30.103681 | AN5: 136.624 | AO5: 53.626 | AP5: 8.9633864 | AQ5: 468.846 | AR5: 1139.6185 | AS5: 1094.1505 | AT5: 798.41102 | AU5: 460.0945 | AV5: 67.703785 | AW5: 18171.522 | AX5: 3060.8466 | AY5: 34.756
B6: =B5+1 -> 2020 | C6: 0.081 | D6: =AD6/AD5-1 -> -0.00058265299 | E6: =AE6/AE5-1 -> -0.0117 | F6: =AF6/AF5-1 -> -0.0117 | G6: =AG6/AG5-1 -> -0.0057380039 | H6: =AH6/AH5-1 -> -0.055971217 | I6: =AI6/AI5-1 -> -0.001280127 | J6: =AJ6/AJ5-1 -> -0.10361068 | K6: =AK6/AK5-1 -> -0.033145579 | ... Y6: =AY6/AY5-1 -> -0.050926459 | Z6: =(AE6+AF6)/AD6 -> 0.72139295 | AA6: =SUM(AQ6:AT6)/AD6 -> 0.11779204 | AB6: =(AI6+AG6)/AD6 -> 0.14718485 | AC6: =(AH6+SUM(AJ6:AP6))/AD6 -> 0.014762596 | AD6: 28645.3 | AE6: 19892.411 | AF6: 772.10616 | AG6: 2016.94 | AH6: 21.955617 | AI6: 2199.2141 | AJ6: 1.142 | AK6: 130.76822 | AL6: 42.095938 | AM6: 27.847 | AN6: 135.53 | AO6: 55.144 | AP6: 8.3962017 | AQ6: 461.372 | AR6: 1092.183 | AS6: 1013.8385 | AT6: 806.7949 | AU6: 507.843 | AV6: 68.442605 | AW6: 17958.916 | AX6: 3050.3856 | AY6: 32.986
B7: =B6+1 -> 2021 | C7: 0.079 | D7: =AD7/AD6-1 -> 0.026178815 | E7: =AE7/AE6-1 -> 0.021 | F7: =AF7/AF6-1 -> 0.021 | G7: =AG7/AG6-1 -> -0.005186074 | H7: =AH7/AH6-1 -> -0.065786055 | I7: =AI7/AI6-1 -> -0.0042848734 | J7: =AJ7/AJ6-1 -> -0.10157618 | K7: =AK7/AK6-1 -> -0.063161156 | ... Y7: =AY7/AY6-1 -> 0.061056206 | Z7: =(AE7+AF7)/AD7 -> 0.7177523 | AA7: =SUM(AQ7:AT7)/AD7 -> 0.11197635 | AB7: =(AI7+AG7)/AD7 -> 0.1427536 | AC7: =(AH7+SUM(AJ7:AP7))/AD7 -> 0.014170378 | AD7: 29395.2 | AE7: 20310.152 | AF7: 788.32039 | AG7: 2006.48 | AH7: 20.511243 | AI7: 2189.7908 | AJ7: 1.026 | AK7: 122.50875 | AL7: 41.742868 | AM7: 26.697 | AN7: 135.497 | AO7: 60.703 | AP7: 7.8552202 | AQ7: 455.144 | AR7: 1092.4415 | AS7: 953.7705 | AT7: 790.21134 | AU7: 502.821 | AV7: 69.363454 | AW7: 18336.053 | AX7: 3036 | AY7: 35
B8: =B7+1 -> 2022 | C8: 0.073 | D8: =AD8/AD7-1 -> 0.022748612 | E8: =AE8/AE7-1 -> 0.033 | F8: =AF8/AF7-1 -> 0.033 | G8: =AG8/AG7-1 -> -0.0065288465 | H8: =AH8/AH7-1 -> -0.071484864 | I8: =AI8/AI7-1 -> -0.00072593838 | J8: =AJ8/AJ7-1 -> -0.10818713 | K8: =AK8/AK7-1 -> -0.052457959 | ... Y8: =AY8/AY7-1 -> 0.058011142 | Z8: =(AE8+AF8)/AD8 -> 0.72494659 | AA8: =SUM(AQ8:AT8)/AD8 -> 0.11270903 | AB8: =(AI8+AG8)/AD8 -> 0.13908978 | AC8: =(AH8+SUM(AJ8:AP8))/AD8 -> 0.013720329 | AD8: 30063.9 | AE8: 20980.387 | AF8: 814.33496 | AG8: 1993.38 | AH8: 19.045 | AI8: 2188.2011 | AJ8: 0.915 | AK8: 116.08219 | AL8: 40.588261 | AM8: 28.319 | AN8: 136.279 | AO8: 63.798 | AP8: 7.4601363 | AQ8: 448.721 | AR8: 1092.2545 | AS8: 1047.5915 | AT8: 799.90594 | AU8: 591.326 | AV8: 71.046484 | AW8: 18941.143 | AX8: 3025.372 | AY8: 37.03039
B9: =B8+1 -> 2023 | C9: 0.074 | D9: =AD9/AD8-1 -> 0.011006556 | E9: =AE9/AE8-1 -> 0.013 | F9: =AF9/AF8-1 -> 0.013 | G9: =AG9/AG8-1 -> 0.0092606528 | H9: =AH9/AH8-1 -> -0.07912838 | I9: =AI9/AI8-1 -> -0.019975015 | J9: =AJ9/AJ8-1 -> -0.15510018 | K9: =AK9/AK8-1 -> -0.027602801 | ... Y9: =AY9/AY8-1 -> 0.054966079 | Z9: =(AE9+AF9)/AD9 -> 0.726376 | AA9: =SUM(AQ9:AT9)/AD9 -> 0.11342292 | AB9: =(AI9+AG9)/AD9 -> 0.13674483 | AC9: =(AH9+SUM(AJ9:AP9))/AD9 -> 0.013243045 | AD9: 30394.8 | AE9: 21253.132 | AF9: 824.92131 | AG9: 2011.84 | AH9: 17.538 | AI9: 2144.4918 | AJ9: 0.77308333 | AK9: 112.878 | AL9: 41.064 | AM9: 24.8 | AN9: 137.99847 | AO9: 60.303 | AP9: 7.1651363 | AQ9: 442.105 | AR9: 1086.696 | AS9: 1105.7255 | AT9: 812.9405 | AU9: 656.0225 | AV9: 74.921 | AW9: 19187.377 | AX9: 3007.1041 | AY9: 39.065805
B10: =B9+1 -> 2024 | C10: 0.074 | D10: =AD10/AD9-1 -> 0.0075177333 | E10: =AE10/AE9-1 -> 0.004 | F10: =AF10/AF9-1 -> 0.004 | G10: =AG10/AG9-1 -> -0.020389295 | H10: =AH10/AH9-1 -> -0.06505873 | I10: =AI10/AI9-1 -> 0.0033559264 | J10: =AJ10/AJ9-1 -> -0.095289425 | K10: =AK10/AK9-1 -> -0.032016868 | ... Y10: =AY10/AY9-1 -> 0.051921015 | Z10: =(AE10+AF10)/AD10 -> 0.72383987 | AA10: =SUM(AQ10:AT10)/AD10 -> 0.11499577 | AB10: =(AI10+AG10)/AD10 -> 0.13462 | AC10: =(AH10+SUM(AJ10:AP10))/AD10 -> 0.012559744 | AD10: 30623.3 | AE10: 21338.144 | AF10: 828.221 | AG10: 1970.82 | AH10: 16.397 | AI10: 2151.6885 | AJ10: 0.69941667 | AK10: 109.264 | AL10: 37.258 | AM10: 25.22 | AN10: 134.94625 | AO10: 53.826 | AP10: 7.0101363 | AQ10: 431.497 | AR10: 1078.1665 | AS10: 1182.8615 | AT10: 829.025 | AU10: 713.5155 | AV10: 75.701 | AW10: 19264.127 | AX10: 2982.633 | AY10: 41.094142
B11: =B10+1 -> 2025 | C11: 0.077 | D11: =AD11/AD10-1 -> 0.0021 | E11: =AE11/AE10-1 -> -0.00093015088 | F11: =AF11/AF10-1 -> -0.00093015088 | G11: =AG11/AG10-1 -> -0.0089201449 | H11: =AH11/AH10-1 -> -0.064251884 | I11: =AI11/AI10-1 -> -0.0027280211 | J11: =AJ11/AJ10-1 -> -0.06286454 | K11: =AK11/AK10-1 -> -0.0305041 | ... Y11: =AY11/AY10-1 -> 0.048875952 | Z11: =(AE11+AF11)/AD11 -> 0.72165112 | AA11: =SUM(AQ11:AT11)/AD11 -> 0.11711812 | AB11: =(AI11+AG11)/AD11 -> 0.13357374 | AC11: =(AH11+SUM(AJ11:AP11))/AD11 -> 0.012144527 | AD11: 30687.609 | AE11: 21318.297 | AF11: 827.45063 | AG11: 1953.24 | AH11: 15.343462 | AI11: 2145.8187 | AJ11: 0.65544816 | AK11: 105.931 | AL11: 35.411141 | AM11: 24.862986 | AN11: 132.24733 | AO11: 51.625 | AP11: 6.6101363 | AQ11: 423.40252 | AR11: 1119.6714 | AS11: 1228.3967 | AT11: 822.60463 | AU11: 707.98969 | AV11: 77.164 | AW11: 19246.208 | AX11: 2965.6671 | AY11: 43.102657
B12: =B11+1 -> 2026 | C12: 0.0807 | D12: =AD12/AD11-1 -> 0.0005 | E12: =AE12/AE11-1 -> -0.0030156474 | F12: =AF12/AF11-1 -> -0.0030156474 | G12: =AG12/AG11-1 -> -0.0032151707 | H12: =AH12/AH11-1 -> -0.064018571 | I12: =AI12/AI11-1 -> 0.0002330113 | J12: =AJ12/AJ11-1 -> -0.066896635 | K12: =AK12/AK11-1 -> -0.03 | ... Y12: =AY12/AY11-1 -> 0.045830888 | Z12: =(AE12+AF12)/AD12 -> 0.71911532 | AA12: =SUM(AQ12:AT12)/AD12 -> 0.11861636 | AB12: =(AI12+AG12)/AD12 -> 0.13331873 | AC12: =(AH12+SUM(AJ12:AP12))/AD12 -> 0.011751157 | AD12: 30702.953 | AE12: 21254.008 | AF12: 824.95533 | AG12: 1946.96 | AH12: 14.361195 | AI12: 2146.3187 | AJ12: 0.61160088 | AK12: 102.75307 | AL12: 34.326248 | AM12: 25.08311 | AN12: 129.0146 | AO12: 48.42425 | AP12: 6.2211363 | AQ12: 416.47128 | AR12: 1149.3902 | AS12: 1261.0014 | AT12: 815.00957 | AU12: 701.45286 | AV12: 78.318678 | AW12: 19188.169 | AX12: 2961.4853 | AY12: 45.07809
B13: =B12+1 -> 2027 | C13: 0.0824 | D13: =AD13/AD12-1 -> 0.0012 | E13: =AE13/AE12-1 -> -0.0021038341 | F13: =AF13/AF12-1 -> -0.0021038341 | G13: =AG13/AG12-1 -> -0.0030817274 | H13: =AH13/AH12-1 -> -0.065464823 | I13: =AI13/AI12-1 -> 0.00023295702 | J13: =AJ13/AJ12-1 -> -0.067646744 | K13: =AK13/AK12-1 -> -0.03 | ... Y13: =AY13/AY12-1 -> 0.042785825 | Z13: =(AE13+AF13)/AD13 -> 0.71674233 | AA13: =SUM(AQ13:AT13)/AD13 -> 0.11989122 | AB13: =(AI13+AG13)/AD13 -> 0.13298002 | AC13: =(AH13+SUM(AJ13:AP13))/AD13 -> 0.011366729 | AD13: 30739.796 | AE13: 21209.293 | AF13: 823.21976 | AG13: 1940.96 | AH13: 13.421042 | AI13: 2146.8187 | AJ13: 0.57022808 | AK13: 99.670478 | AL13: 33.112301 | AM13: 25.331847 | AN13: 125.88425 | AO13: 45.615643 | AP13: 5.8051363 | AQ13: 410.31588 | AR13: 1176.5789 | AS13: 1290.8302 | AT13: 807.7067 | AU13: 695.16751 | AV13: 79.441654 | AW13: 19147.8 | AX13: 2957.506 | AY13: 47.006793
B14: =B13+1 -> 2028 | C14: 0.0811 | D14: =AD14/AD13-1 -> 0.0038 | E14: =AE14/AE13-1 -> 0.0028358246 | F14: =AF14/AF13-1 -> 0.0028358246 | G14: =AG14/AG13-1 -> -0.0023081362 | H14: =AH14/AH13-1 -> -0.079451228 | I14: =AI14/AI13-1 -> 0 | J14: =AJ14/AJ13-1 -> -0.07244246 | K14: =AK14/AK13-1 -> -0.03 | ... Y14: =AY14/AY13-1 -> 0.039740761 | Z14: =(AE14+AF14)/AD14 -> 0.71605388 | AA14: =SUM(AQ14:AT14)/AD14 -> 0.11926386 | AB14: =(AI14+AG14)/AD14 -> 0.13233142 | AC14: =(AH14+SUM(AJ14:AP14))/AD14 -> 0.010969635 | AD14: 30856.608 | AE14: 21269.439 | AF14: 825.55427 | AG14: 1936.48 | AH14: 12.354724 | AI14: 2146.8187 | AJ14: 0.52891935 | AK14: 96.680364 | AL14: 31.882127 | AM14: 25.609197 | AN14: 123.01691 | AO14: 42.878705 | AP14: 5.5347662 | AQ14: 404.98553 | AR14: 1179.9155 | AS14: 1294.4908 | AT14: 800.68615 | AU14: 689.12515 | AV14: 80.518599 | AW14: 19202.1 | AX14: 2954.2647 | AY14: 48.874879
B15: =B14+1 -> 2029 | C15: 0.0795 | D15: =AD15/AD14-1 -> 0.0044 | E15: =AE15/AE14-1 -> 0.0039954494 | F15: =AF15/AF14-1 -> 0.0039954494 | G15: =AG15/AG14-1 -> -0.0022515079 | H15: =AH15/AH14-1 -> -0.095162683 | I15: =AI15/AI14-1 -> 0 | J15: =AJ15/AJ14-1 -> -0.079039645 | K15: =AK15/AK14-1 -> -0.03 | ... Y15: =AY15/AY14-1 -> 0.036695698 | Z15: =(AE15+AF15)/AD15 -> 0.71576547 | AA15: =SUM(AQ15:AT15)/AD15 -> 0.11868991 | AB15: =(AI15+AG15)/AD15 -> 0.13161103 | AC15: =(AH15+SUM(AJ15:AP15))/AD15 -> 0.010570323 | AD15: 30992.377 | AE15: 21354.42 | AF15: 828.85273 | AG15: 1932.12 | AH15: 11.179015 | AI15: 2146.8187 | AJ15: 0.48711375 | AK15: 93.779953 | AL15: 30.758881 | AM15: 25.91516 | AN15: 120.0993 | AO15: 40.134468 | AP15: 5.2455507 | AQ15: 400.24673 | AR15: 1184.6298 | AS15: 1299.6629 | AT15: 793.94298 | AU15: 683.32152 | AV15: 81.453829 | AW15: 19278.821 | AX15: 2951.1103 | AY15: 50.668377
B16: =B15+1 -> 2030 | C16: 0.0761 | D16: =AD16/AD15-1 -> 0.0075 | E16: =AE16/AE15-1 -> 0.0033323833 | F16: =AF16/AF15-1 -> 0.0033323833 | G16: =AG16/AG15-1 -> -0.002204832 | H16: =AH16/AH15-1 -> 0 | I16: =AI16/AI15-1 -> 0 | J16: =AJ16/AJ15-1 -> -0.10465116 | K16: =AK16/AK15-1 -> -0.030915639 | ... Y16: =AY16/AY15-1 -> 0.033650635 | Z16: =(AE16+AF16)/AD16 -> 0.71280464 | AA16: =SUM(AQ16:AT16)/AD16 -> 0.11748399 | AB16: =(AI16+AG16)/AD16 -> 0.13049487 | AC16: =(AH16+SUM(AJ16:AP16))/AD16 -> 0.010182373 | AD16: 31224.819 | AE16: 21425.581 | AF16: 831.61478 | AG16: 1927.86 | AH16: 11.179015 | AI16: 2146.8187 | AJ16: 0.43613673 | AK16: 90.880685 | AL16: 29.747853 | AM16: 25.707839 | AN16: 117.37617 | AO16: 37.671525 | AP16: 4.9435203 | AQ16: 395.194 | AR16: 1188.5774 | AS16: 1303.9938 | AT16: 780.65105 | AU16: 671.88157 | AV16: 80.090155 | AW16: 19343.065 | AX16: 2948.0282 | AY16: 52.3734
B17: =B16+1 -> 2031 | C17: 0.0727 | D17: =AD17/AD16-1 -> 0.0076 | E17: =AE17/AE16-1 -> 0.010673647 | F17: =AF17/AF16-1 -> 0.010673647 | G17: =AG17/AG16-1 -> -0.0020022201 | H17: =AH17/AH16-1 -> -0.13139757 | I17: =AI17/AI16-1 -> 0 | J17: =AJ17/AJ16-1 -> -0.10822511 | K17: =AK17/AK16-1 -> -0.032435967 | ... Y17: =AY17/AY16-1 -> 0.030605571 | Z17: =(AE17+AF17)/AD17 -> 0.71497902 | AA17: =SUM(AQ17:AT17)/AD17 -> 0.11696173 | AB17: =(AI17+AG17)/AD17 -> 0.1293879 | AC17: =(AH17+SUM(AJ17:AP17))/AD17 -> 0.0097482958 | AD17: 31462.128 | AE17: 21654.27 | AF17: 840.49115 | AG17: 1924 | AH17: 9.7101198 | AI17: 2146.8187 | AJ17: 0.38893579 | AK17: 87.932883 | AL17: 28.681816 | AM17: 25.553592 | AN17: 114.59856 | AO17: 35.223886 | AP17: 4.6123421 | AQ17: 390.31989 | AR17: 1201.2639 | AS17: 1317.9122 | AT17: 770.369 | AU17: 663.03214 | AV17: 79.035278 | AW17: 19549.526 | AX17: 2945.2355 | AY17: 53.976318
... B30: =B29+1 -> 2044 | C30: 0.05 | D30: =AD30/AD29-1 -> -0.0013 | E30: =AE30/AE29-1 -> -0.00096415995 | F30: =AF30/AF29-1 -> -0.00096415995 | G30: =AG30/AG29-1 -> -0.0014573878 | H30: =AH30/AH29-1 -> -0.29213322 | I30: =AI30/AI29-1 -> -0.0013 | J30: =AJ30/AJ29-1 -> -0.15517241 | K30: =AK30/AK29-1 -> -0.088882109 | ... Y30: =AY30/AY29-1 -> -0.0013 | Z30: =(AE30+AF30)/AD30 -> 0.73006723 | AA30: =SUM(AQ30:AT30)/AD30 -> 0.11506568 | AB30: =(AI30+AG30)/AD30 -> 0.12337427 | AC30: =(AH30+SUM(AJ30:AP30))/AD30 -> 0.0043704924 | AD30: 32745.861 | AE30: 23013.434 | AF30: 893.24588 | AG30: 1897.8984 | AH30: 0.71664535 | AI30: 2142.0982 | AJ30: 0.046256926 | AK30: 35.497451 | AL30: 14.189346 | AM30: 23.630611 | AN30: 67.639937 | AO30: 0 | AP30: 1.3952905 | AQ30: 341.01821 | AR30: 1276.6631 | AS30: 1400.633 | AT30: 749.61055 | AU30: 645.166 | AV30: 76.905584 | AW30: 20983.745 | AX30: 2922.9357 | AY30: 61.790081
B31: =B30+1 -> 2045 | C31: 0.05 | D31: =AD31/AD30-1 -> -0.0017 | E31: =AE31/AE30-1 -> -0.0014374732 | F31: =AF31/AF30-1 -> -0.0014374732 | G31: =AG31/AG30-1 -> -0.0017839813 | H31: =AH31/AH30-1 -> -0.30360265 | I31: =AI31/AI30-1 -> -0.0017 | J31: =AJ31/AJ30-1 -> -0.18367347 | K31: =AK31/AK30-1 -> -0.091776655 | ... N31: =AN31/AN30-1 -> -0.057007173 | P31: =AP31/AP30-1 -> -0.18891095 | Q31: =AQ31/AQ30-1 -> -0.0081991774 | R31: =AR31/AR30-1 -> -0.0014374732 | S31: =AS31/AS30-1 -> -0.0014374732 | T31: =AT31/AT30-1 -> 0.00086794122 | U31: =AU31/AU30-1 -> 0.00086794122 | V31: =AV31/AV30-1 -> 0.00086794122 | W31: =AW31/AW30-1 -> -0.0013954089 | ... Y31: =AY31/AY30-1 -> -0.0017 | Z31: =(AE31+AF31)/AD31 -> 0.73025922 | AA31: =SUM(AQ31:AT31)/AD31 -> 0.11507827 | AB31: =(AI31+AG31)/AD31 -> 0.12336939 | AC31: =(AH31+SUM(AJ31:AP31))/AD31 -> 0.004112737 | AD31: 32690.193 | AE31: 22980.353 | AF31: 891.96186 | AG31: 1894.5126 | AH31: 0.49906992 | AI31: 2138.4566 | AJ31: 0.037760756 | AK31: 32.239614 | AL31: 13.265217 | AM31: 23.488827 | AN31: 63.783975 | AO31: 0 | AP31: 1.1317049 | AQ31: 338.22214 | AR31: 1274.8279 | AS31: 1398.6197 | AT31: 750.26116 | AU31: 645.72597 | AV31: 76.972334 | AW31: 20954.464 | AX31: 2917.8514 | AY31: 61.685038
B32: =B31+1 -> 2046 | C32: 0.05 | D32: =AD32/AD31-1 -> -0.0027 | E32: =AE32/AE31-1 -> -0.0024914189 | F32: =AF32/AF31-1 -> -0.0024914189 | G32: =AG32/AG31-1 -> -0.0027313854 | H32: =AH32/AH31-1 -> -0.32312039 | I32: =AI32/AI31-1 -> -0.0027 | J32: =AJ32/AJ31-1 -> -0.225 | K32: =AK32/AK31-1 -> -0.099852526 | ... N32: =AN32/AN31-1 -> -0.06140147 | P32: =AP32/AP31-1 -> -0.22802557 | Q32: =AQ32/AQ31-1 -> -0.0078974145 | R32: =AR32/AR31-1 -> -0.0024914189 | S32: =AS32/AS31-1 -> -0.0024914189 | T32: =AT32/AT31-1 -> 0.00039065043 | U32: =AU32/AU31-1 -> 0.00039065043 | V32: =AV32/AV31-1 -> 0.00039065043 | W32: =AW32/AW31-1 -> -0.0024603215 | ... Y32: =AY32/AY31-1 -> -0.0027 | Z32: =(AE32+AF32)/AD32 -> 0.73041195 | AA32: =SUM(AQ32:AT32)/AD32 -> 0.11511258 | AB32: =(AI32+AG32)/AD32 -> 0.12336757 | AC32: =(AH32+SUM(AJ32:AP32))/AD32 -> 0.0038579485 | AD32: 32601.93 | AE32: 22923.1 | AF32: 889.73961 | AG32: 1889.338 | AH32: 0.33781025 | AI32: 2132.6828 | AJ32: 0.029264586 | AK32: 29.020407 | AL32: 12.299998 | AM32: 23.347894 | AN32: 59.867546 | AO32: 0 | AP32: 0.87364722 | AQ32: 335.55106 | AR32: 1271.6518 | AS32: 1395.1351 | AT32: 750.55425 | AU32: 645.97822 | AV32: 77.002403 | AW32: 20902.909 | AX32: 2909.9302 | AY32: 61.518489
B33: =B32+1 -> 2047 | C33: 0.05 | D33: =AD33/AD32-1 -> -0.0028 | E33: =AE33/AE32-1 -> -0.002568043 | F33: =AF33/AF32-1 -> -0.002568043 | G33: =AG33/AG32-1 -> -0.0028103782 | H33: =AH33/AH32-1 -> -0.34424981 | I33: =AI33/AI32-1 -> -0.0028 | J33: =AJ33/AJ32-1 -> -0.19354839 | K33: =AK33/AK32-1 -> -0.11215783 | ... N33: =AN33/AN32-1 -> -0.06682223 | P33: =AP33/AP32-1 -> -0.28416274 | Q33: =AQ33/AQ32-1 -> -0.0075946988 | R33: =AR33/AR32-1 -> -0.002568043 | S33: =AS33/AS32-1 -> -0.002568043 | T33: =AT33/AT32-1 -> -0.00022017434 | U33: =AU33/AU32-1 -> -0.00022017434 | V33: =AV33/AV32-1 -> -0.00022017434 | W33: =AW33/AW32-1 -> -0.0025350732 | ... Y33: =AY33/AY32-1 -> -0.0028 | Z33: =(AE33+AF33)/AD33 -> 0.73058185 | AA33: =SUM(AQ33:AT33)/AD33 -> 0.11514168 | AB33: =(AI33+AG33)/AD33 -> 0.12336696 | AC33: =(AH33+SUM(AJ33:AP33))/AD33 -> 0.0036010021 | AD33: 32510.644 | AE33: 22864.232 | AF33: 887.45472 | AG33: 1884.0282 | AH33: 0.22151914 | AI33: 2126.7113 | AJ33: 0.023600473 | AK33: 25.765541 | AL33: 11.35998 | AM33: 23.207807 | AN33: 55.867063 | AO33: 0 | AP33: 0.62538923 | AQ33: 333.00265 | AR33: 1268.3861 | AS33: 1391.5523 | AT33: 750.389 | AU33: 645.83599 | AV33: 76.985449 | AW33: 20849.919 | AX33: 2901.7682 | AY33: 61.346237
B34: =B33+1 -> 2048 | C34: 0.05 | D34: =AD34/AD33-1 -> -0.0032 | E34: =AE34/AE33-1 -> -0.0029648681 | F34: =AF34/AF33-1 -> -0.0029648681 | G34: =AG34/AG33-1 -> -0.0031997962 | H34: =AH34/AH33-1 -> -0.37485386 | I34: =AI34/AI33-1 -> -0.0032 | J34: =AJ34/AJ33-1 -> -0.2 | K34: =AK34/AK33-1 -> -0.12613409 | ... N34: =AN34/AN33-1 -> -0.074212114 | P34: =AP34/AP33-1 -> -0.43352817 | Q34: =AQ34/AQ33-1 -> -0.0072937988 | R34: =AR34/AR33-1 -> -0.0029648681 | S34: =AS34/AS33-1 -> -0.0029648681 | T34: =AT34/AT33-1 -> -0.00077424252 | U34: =AU34/AU33-1 -> -0.00077424252 | V34: =AV34/AV33-1 -> -0.00077424252 | W34: =AW34/AW33-1 -> -0.0029321571 | ... Y34: =AY34/AY33-1 -> -0.0032 | Z34: =(AE34+AF34)/AD34 -> 0.73075419 | AA34: =SUM(AQ34:AT34)/AD34 -> 0.11517508 | AB34: =(AI34+AG34)/AD34 -> 0.12336698 | AC34: =(AH34+SUM(AJ34:AP34))/AD34 -> 0.0033399504 | AD34: 32406.61 | AE34: 22796.443 | AF34: 884.82354 | AG34: 1877.9997 | AH34: 0.13848183 | AI34: 2119.9058 | AJ34: 0.018880378 | AK34: 22.515628 | AL34: 10.419605 | AM34: 23.06856 | AN34: 51.72105 | AO34: 0 | AP34: 0.35426538 | AQ34: 330.5738 | AR34: 1264.6255 | AS34: 1387.4266 | AT34: 749.80802 | AU34: 645.33596 | AV34: 76.925844 | AW34: 20788.783 | AX34: 2892.4828 | AY34: 61.149929
B35: =B34+1 -> 2049 | C35: 0.05 | D35: =AD35/AD34-1 -> -0.0032 | E35: =AE35/AE34-1 -> -0.002935163 | F35: =AF35/AF34-1 -> -0.002935163 | G35: =AG35/AG34-1 -> -0.0031997955 | H35: =AH35/AH34-1 -> -0.43326323 | I35: =AI35/AI34-1 -> -0.0032 | J35: =AJ35/AJ34-1 -> -0.25 | K35: =AK35/AK34-1 -> -0.14174475 | ... N35: =AN35/AN34-1 -> -0.083760972 | P35: =AP35/AP34-1 -> -0.78233556 | Q35: =AQ35/AQ34-1 -> -0.0069891095 | R35: =AR35/AR34-1 -> -0.002935163 | S35: =AS35/AS34-1 -> -0.002935163 | T35: =AT35/AT34-1 -> -0.0012544408 | U35: =AU35/AU34-1 -> -0.0012544408 | V35: =AV35/AV34-1 -> -0.0012544408 | W35: =AW35/AW34-1 -> -0.0028983278 | ... Y35: =AY35/AY34-1 -> -0.0032 | Z35: =(AE35+AF35)/AD35 -> 0.73094834 | AA35: =SUM(AQ35:AT35)/AD35 -> 0.11520321 | AB35: =(AI35+AG35)/AD35 -> 0.12336699 | AC35: =(AH35+SUM(AJ35:AP35))/AD35 -> 0.0030728101 | AD35: 32302.909 | AE35: 22729.531 | AF35: 882.22644 | AG35: 1871.9905 | AH35: 0.078482747 | AI35: 2113.1221 | AJ35: 0.014160284 | AK35: 19.324156 | AL35: 9.4478038 | AM35: 22.930149 | AN35: 47.388844 | AO35: 0 | AP35: 0.077110975 | AQ35: 328.26338 | AR35: 1260.9136 | AS35: 1383.3542 | AT35: 748.86743 | AU35: 644.52642 | AV35: 76.829345 | AW35: 20728.531 | AX35: 2883.2272 | AY35: 60.954249
B36: =B35+1 -> 2050 | C36: 0.05 | D36: =AD36/AD35-1 -> -0.0038 | E36: =AE36/AE35-1 -> -0.0035641206 | F36: =AF36/AF35-1 -> -0.0035641206 | G36: =AG36/AG35-1 -> -0.0037997564 | H36: =AH36/AH35-1 -> -0.49614539 | I36: =AI36/AI35-1 -> -0.0038 | J36: =AJ36/AJ35-1 -> -0.33333333 | K36: =AK36/AK35-1 -> -0.15925983 | ... N36: =AN36/AN35-1 -> -0.096995618 | P36: =AP36/AP35-1 -> -1 | Q36: =AQ36/AQ35-1 -> -0.0066845382 | R36: =AR36/AR35-1 -> -0.0035641206 | S36: =AS36/AS35-1 -> -0.0035641206 | T36: =AT36/AT35-1 -> -0.0016557211 | U36: =AU36/AU35-1 -> -0.0016557211 | V36: =AV36/AV35-1 -> -0.0016557211 | W36: =AW36/AW35-1 -> -0.003531327 | ... Y36: =AY36/AY35-1 -> -0.0038 | Z36: =(AE36+AF36)/AD36 -> 0.73112141 | AA36: =SUM(AQ36:AT36)/AD36 -> 0.11524306 | AB36: =(AI36+AG36)/AD36 -> 0.123367 | AC36: =(AH36+SUM(AJ36:AP36))/AD36 -> 0.0028105963 | AD36: 32180.158 | AE36: 22648.521 | AF36: 879.08207 | AG36: 1864.8774 | AH36: 0.039543894 | AI36: 2105.0922 | AJ36: 0.009440189 | AK36: 16.246594 | AL36: 8.5649541 | AM36: 22.792568 | AN36: 42.792334 | AO36: 0 | AP36: 0 | AQ36: 326.06909 | AR36: 1256.4196 | AS36: 1378.4238 | AT36: 747.62751 | AU36: 643.45927 | AV36: 76.702137 | AW36: 20655.331 | AX36: 2872.2712 | AY36: 60.722623
B37: =B36+1 -> 2051 | C37: 0.05 | D37: =AD37/AD36-1 -> -0.0039 | E37: =AE37/AE36-1 -> -0.0036584728 | F37: =AF37/AF36-1 -> -0.0036584728 | G37: =AG37/AG36-1 -> -0.003899749 | H37: =AH37/AH36-1 -> -0.52469972 | I37: =AI37/AI36-1 -> -0.0039 | J37: =AJ37/AJ36-1 -> -0.3 | K37: =AK37/AK36-1 -> -0.18168516 | ... N37: =AN37/AN36-1 -> -0.10968332 | Q37: =AQ37/AQ36-1 -> -0.0063832217 | R37: =AR37/AR36-1 -> -0.0036584728 | S37: =AS37/AS36-1 -> -0.0036584728 | T37: =AT37/AT36-1 -> -0.0020226903 | U37: =AU37/AU36-1 -> -0.0020226903 | V37: =AV37/AV36-1 -> -0.0020226903 | W37: =AW37/AW36-1 -> -0.0036249031 | X37: =AX37/AX36-1 -> -0.0038998821 | Y37: =AY37/AY36-1 -> -0.0039 | Z37: =(AE37+AF37)/AD37 -> 0.73129869 | AA37: =SUM(AQ37:AT37)/AD37 -> 0.11528144 | AB37: =(AI37+AG37)/AD37 -> 0.12336702 | AC37: =(AH37+SUM(AJ37:AP37))/AD37 -> 0.0025515177 | AD37: 32054.655 | AE37: 22565.662 | AF37: 875.86598 | AG37: 1857.6048 | AH37: 0.018795224 | AI37: 2096.8824 | AJ37: 0.0066081323 | AK37: 13.294829 | AL37: 7.7132461 | AM37: 22.655813 | AN37: 38.098729 | AO37: 0 | AP37: 0 | AQ37: 323.98772 | AR37: 1251.823 | AS37: 1373.3809 | AT37: 746.11529 | AU37: 642.15775 | AV37: 76.546992 | AW37: 20580.458 | AX37: 2861.0697 | AY37: 60.485805
B38: =B37+1 -> 2052 | C38: 0.05 | D38: =AD38/AD37-1 -> -0.0039 | E38: =AE38/AE37-1 -> -0.0036416382 | F38: =AF38/AF37-1 -> -0.0036416382 | G38: =AG38/AG37-1 -> -0.0039105146 | H38: =AH38/AH37-1 -> -0.47819453 | I38: =AI38/AI37-1 -> -0.0039 | J38: =AJ38/AJ37-1 -> -0.42857143 | K38: =AK38/AK37-1 -> -0.20704813 | ... N38: =AN38/AN37-1 -> -0.12298507 | Q38: =AQ38/AQ37-1 -> -0.0060798501 | R38: =AR38/AR37-1 -> -0.0036416382 | S38: =AS38/AS37-1 -> -0.0036416382 | T38: =AT38/AT37-1 -> -0.0025226917 | U38: =AU38/AU37-1 -> -0.0025226917 | V38: =AV38/AV37-1 -> -0.0025226917 | W38: =AW38/AW37-1 -> -0.0036050344 | X38: =AX38/AX37-1 -> -0.0039049392 | Y38: =AY38/AY37-1 -> -0.0039 | Z38: =(AE38+AF38)/AD38 -> 0.73148837 | AA38: =SUM(AQ38:AT38)/AD38 -> 0.11531275 | AB38: =(AI38+AG38)/AD38 -> 0.12336641 | AC38: =(AH38+SUM(AJ38:AP38))/AD38 -> 0.002298823 | AD38: 31929.642 | AE38: 22483.486 | AF38: 872.67639 | AG38: 1850.3407 | AH38: 0.0098074505 | AI38: 2088.7045 | AJ38: 0.0037760756 | AK38: 10.54216 | AL38: 6.9118205 | AM38: 22.519878 | AN38: 33.413154 | AO38: 0 | AP38: 0 | AQ38: 322.01792 | AR38: 1247.2643 | AS38: 1368.3795 | AT38: 744.23307 | AU38: 640.53778 | AV38: 76.353888 | AW38: 20506.265 | AX38: 2849.8974 | AY38: 60.24991
B39: =B38+1 -> 2053 | C39: 0.05 | D39: =AD39/AD38-1 -> -0.004 | E39: =AE39/AE38-1 -> -0.003745003 | F39: =AF39/AF38-1 -> -0.003745003 | G39: =AG39/AG38-1 -> -0.0039997838 | H39: =AH39/AH38-1 -> -0.45643152 | I39: =AI39/AI38-1 -> -0.004 | J39: =AJ39/AJ38-1 -> -0.25 | K39: =AK39/AK38-1 -> -0.22991638 | ... N39: =AN39/AN38-1 -> -0.13216865 | Q39: =AQ39/AQ38-1 -> -0.0057764816 | R39: =AR39/AR38-1 -> -0.003745003 | S39: =AS39/AS38-1 -> -0.003745003 | T39: =AT39/AT38-1 -> -0.002952213 | U39: =AU39/AU38-1 -> -0.002952213 | V39: =AV39/AV38-1 -> -0.002952213 | W39: =AW39/AW38-1 -> -0.0037095784 | X39: =AX39/AX38-1 -> -0.0039998985 | Y39: =AY39/AY38-1 -> -0.004 | Z39: =(AE39+AF39)/AD39 -> 0.73167565 | AA39: =SUM(AQ39:AT39)/AD39 -> 0.11534026 | AB39: =(AI39+AG39)/AD39 -> 0.12336642 | AC39: =(AH39+SUM(AJ39:AP39))/AD39 -> 0.0020591081 | AD39: 31801.924 | AE39: 22399.285 | AF39: 869.40821 | AG39: 1842.9397 | AH39: 0.005331021 | AI39: 2080.3497 | AJ39: 0.0028320567 | AK39: 8.1183444 | AL39: 5.9753497 | AM39: 22.384758 | AN39: 28.996983 | AO39: 0 | AP39: 0 | AQ39: 320.15779 | AR39: 1242.5933 | AS39: 1363.2549 | AT39: 742.03594 | AU39: 638.64678 | AV39: 76.128475 | AW39: 20430.195 | AX39: 2838.4981 | AY39: 60.008911
B40: =B39+1 -> 2054 | C40: 0.05 | D40: =AD40/AD39-1 -> -0.0039 | E40: =AE40/AE39-1 -> -0.0036420615 | F40: =AF40/AF39-1 -> -0.0036420615 | G40: =AG40/AG39-1 -> -0.0039214928 | H40: =AH40/AH39-1 -> -0.50200591 | I40: =AI40/AI39-1 -> -0.0039 | J40: =AJ40/AJ39-1 -> -0.33333333 | K40: =AK40/AK39-1 -> -0.25195217 | ... N40: =AN40/AN39-1 -> -0.14465791 | Q40: =AQ40/AQ39-1 -> -0.0054729319 | R40: =AR40/AR39-1 -> -0.0036420615 | S40: =AS40/AS39-1 -> -0.0036420615 | T40: =AT40/AT39-1 -> -0.0032634927 | U40: =AU40/AU39-1 -> -0.0032634927 | V40: =AV40/AV39-1 -> -0.0032634927 | W40: =AW40/AW39-1 -> -0.0036048217 | X40: =AX40/AX39-1 -> -0.0039100961 | Y40: =AY40/AY39-1 -> -0.0039 | Z40: =(AE40+AF40)/AD40 -> 0.73186511 | AA40: =SUM(AQ40:AT40)/AD40 -> 0.11536049 | AB40: =(AI40+AG40)/AD40 -> 0.12336517 | AC40: =(AH40+SUM(AJ40:AP40))/AD40 -> 0.0018349831 | AD40: 31677.896 | AE40: 22317.705 | AF40: 866.24178 | AG40: 1835.7126 | AH40: 0.0026548169 | AI40: 2072.2363 | AJ40: 0.0018880378 | AK40: 6.0729099 | AL40: 4.9981609 | AM40: 22.25045 | AN40: 24.80234 | AO40: 0 | AP40: 0 | AQ40: 318.40559 | AR40: 1238.0677 | AS40: 1358.2899 | AT40: 739.61431 | AU40: 636.56256 | AV40: 75.88003 | AW40: 20356.548 | AX40: 2827.3993 | AY40: 59.774876
B41: =B40+1 -> 2055 | C41: 0.05 | D41: =AD41/AD40-1 -> -0.0036 | E41: =AE41/AE40-1 -> -0.0033363285 | F41: =AF41/AF40-1 -> -0.0033363285 | G41: =AG41/AG40-1 -> -0.0036325672 | H41: =AH41/AH40-1 -> -0.50213388 | I41: =AI41/AI40-1 -> -0.0036 | J41: =AJ41/AJ40-1 -> -0.5 | K41: =AK41/AK40-1 -> -0.27630077 | ... N41: =AN41/AN40-1 -> -0.15588264 | Q41: =AQ41/AQ40-1 -> -0.0051701792 | R41: =AR41/AR40-1 -> -0.0033363285 | S41: =AS41/AS40-1 -> -0.0033363285 | T41: =AT41/AT40-1 -> -0.0035060404 | U41: =AU41/AU40-1 -> -0.0035060404 | V41: =AV41/AV40-1 -> -0.0035060404 | W41: =AW41/AW40-1 -> -0.0032975813 | X41: =AX41/AX40-1 -> -0.0036152981 | Y41: =AY41/AY40-1 -> -0.0036 | Z41: =(AE41+AF41)/AD41 -> 0.73205878 | AA41: =SUM(AQ41:AT41)/AD41 -> 0.11536854 | AB41: =(AI41+AG41)/AD41 -> 0.12336327 | AC41: =(AH41+SUM(AJ41:AP41))/AD41 -> 0.0016316906 | AD41: 31563.856 | AE41: 22243.246 | AF41: 863.35171 | AG41: 1829.0443 | AH41: 0.0013217434 | AI41: 2064.7763 | AJ41: 0.0009440189 | AK41: 4.3949602 | AL41: 4.0521888 | AM41: 22.116947 | AN41: 20.936086 | AO41: 0 | AP41: 0 | AQ41: 316.75938 | AR41: 1233.9371 | AS41: 1353.7582 | AT41: 737.02119 | AU41: 634.33074 | AV41: 75.613992 | AW41: 20289.42 | AX41: 2817.1774 | AY41: 59.559686
B42: =B41+1 -> 2056 | C42: 0.05 | D42: =AD42/AD41-1 -> -0.0041 | E42: =AE42/AE41-1 -> -0.0038876127 | F42: =AF42/AF41-1 -> -0.0038876127 | G42: =AG42/AG41-1 -> -0.0041 | H42: =AH42/AH41-1 -> -1 | I42: =AI42/AI41-1 -> -0.0041 | J42: =AJ42/AJ41-1 -> 0 | K42: =AK42/AK41-1 -> -0.30335812 | ... N42: =AN42/AN41-1 -> -0.16479217 | Q42: =AQ42/AQ41-1 -> -0.0048672638 | R42: =AR42/AR41-1 -> -0.0038876127 | S42: =AS42/AS41-1 -> -0.0038876127 | T42: =AT42/AT41-1 -> -0.0036805456 | U42: =AU42/AU41-1 -> -0.0036805456 | V42: =AV42/AV41-1 -> -0.0036805456 | W42: =AW42/AW41-1 -> -0.0038581228 | X42: =AX42/AX41-1 -> -0.0041 | Y42: =AY42/AY41-1 -> -0.0041 | Z42: =(AE42+AF42)/AD42 -> 0.7322149 | AA42: =SUM(AQ42:AT42)/AD42 -> 0.11538812 | AB42: =(AI42+AG42)/AD42 -> 0.12336327 | AC42: =(AH42+SUM(AJ42:AP42))/AD42 -> 0.0014454258 | AD42: 31434.444 | AE42: 22156.773 | AF42: 859.99533 | AG42: 1821.5452 | AH42: 0 | AI42: 2056.3107 | AJ42: 0.0009440189 | AK42: 3.0617133 | AL42: 2.9032716 | AM42: 21.984245 | AN42: 17.485983 | AO42: 0 | AP42: 0 | AQ42: 315.21763 | AR42: 1229.1401 | AS42: 1348.4953 | AT42: 734.30855 | AU42: 631.99606 | AV42: 75.335691 | AW42: 20211.141 | AX42: 2805.627 | AY42: 59.315492
B43: =B42+1 -> 2057 | C43: 0.05 | D43: =AD43/AD42-1 -> -0.004 | E43: =AE43/AE42-1 -> -0.0038339665 | F43: =AF43/AF42-1 -> -0.0038339665 | G43: =AG43/AG42-1 -> -0.004 | I43: =AI43/AI42-1 -> -0.004 | J43: =AJ43/AJ42-1 -> 0 | K43: =AK43/AK42-1 -> -0.33613717 | L43: =AL43/AL42-1 -> -0.17436999 | M43: =AM43/AM42-1 -> -0.006 | N43: =AN43/AN42-1 -> -0.17370622 | Q43: =AQ43/AQ42-1 -> -0.0045637529 | R43: =AR43/AR42-1 -> -0.0038339665 | S43: =AS43/AS42-1 -> -0.0038339665 | T43: =AT43/AT42-1 -> -0.0037054651 | U43: =AU43/AU42-1 -> -0.0037054651 | V43: =AV43/AV42-1 -> -0.0037054651 | W43: =AW43/AW42-1 -> -0.0038109184 | X43: =AX43/AX42-1 -> -0.004 | Y43: =AY43/AY42-1 -> -0.004 | Z43: =(AE43+AF43)/AD43 -> 0.73233696 | AA43: =SUM(AQ43:AT43)/AD43 -> 0.11540303 | AB43: =(AI43+AG43)/AD43 -> 0.12336327 | AC43: =(AH43+SUM(AJ43:AP43))/AD43 -> 0.0013009617 | AD43: 31308.706 | AE43: 22071.825 | AF43: 856.69814 | AG43: 1814.259 | AH43: 0 | AI43: 2048.0855 | AJ43: 0.0009440189 | AK43: 2.0325577 | AL43: 2.3970281 | AM43: 21.85234 | AN43: 14.448559 | AO43: 0 | AP43: 0 | AQ43: 313.77905 | AR43: 1224.4276 | AS43: 1343.3252 | AT43: 731.5876 | AU43: 629.65422 | AV43: 75.056537 | AW43: 20134.118 | AX43: 2794.4045 | AY43: 59.07823
B44: =B43+1 -> 2058 | C44: 0.05 | D44: =AD44/AD43-1 -> -0.004 | E44: =AE44/AE43-1 -> -0.0038545047 | F44: =AF44/AF43-1 -> -0.0038545047 | G44: =AG44/AG43-1 -> -0.004 | I44: =AI44/AI43-1 -> -0.004 | J44: =AJ44/AJ43-1 -> -1 | K44: =AK44/AK43-1 -> -0.38109162 | L44: =AL44/AL43-1 -> -0.19121791 | M44: =AM44/AM43-1 -> -0.006 | N44: =AN44/AN43-1 -> -0.18327747 | Q44: =AQ44/AQ43-1 -> -0.004260654 | R44: =AR44/AR43-1 -> -0.0038545047 | S44: =AS44/AS43-1 -> -0.0038545047 | T44: =AT44/AT43-1 -> -0.003861311 | U44: =AU44/AU43-1 -> -0.003861311 | V44: =AV44/AV43-1 -> -0.003861311 | W44: =AW44/AW43-1 -> -0.0038343115 | X44: =AX44/AX43-1 -> -0.004 | Y44: =AY44/AY43-1 -> -0.004 | Z44: =(AE44+AF44)/AD44 -> 0.73244394 | AA44: =SUM(AQ44:AT44)/AD44 -> 0.11541564 | AB44: =(AI44+AG44)/AD44 -> 0.12336327 | AC44: =(AH44+SUM(AJ44:AP44))/AD44 -> 0.0011774933 | AD44: 31183.471 | AE44: 21986.749 | AF44: 853.39599 | AG44: 1807.002 | AH44: 0 | AI44: 2039.8931 | AJ44: 0 | AK44: 1.257967 | AL44: 1.9386734 | AM44: 21.721226 | AN44: 11.800463 | AO44: 0 | AP44: 0 | AQ44: 312.44215 | AR44: 1219.708 | AS44: 1338.1474 | AT44: 728.76271 | AU44: 627.22293 | AV44: 74.766721 | AW44: 20056.918 | AX44: 2783.2269 | AY44: 58.841917
B45: =B44+1 -> 2059 | C45: 0.05 | D45: =AD45/AD44-1 -> -0.0039 | E45: =AE45/AE44-1 -> -0.0037661415 | F45: =AF45/AF44-1 -> -0.0037661415 | G45: =AG45/AG44-1 -> -0.0039 | I45: =AI45/AI44-1 -> -0.0039 | K45: =AK45/AK44-1 -> -0.43779528 | L45: =AL45/AL44-1 -> -0.19584217 | M45: =AM45/AM44-1 -> -0.006 | N45: =AN45/AN44-1 -> -0.1968996 | Q45: =AQ45/AQ44-1 -> -0.0039575849 | R45: =AR45/AR44-1 -> -0.0037661415 | S45: =AS45/AS44-1 -> -0.0037661415 | T45: =AT45/AT44-1 -> -0.004013189 | U45: =AU45/AU44-1 -> -0.004013189 | V45: =AV45/AV44-1 -> -0.004013189 | W45: =AW45/AW44-1 -> -0.0037475665 | X45: =AX45/AX44-1 -> -0.0039 | Y45: =AY45/AY44-1 -> -0.0039 | Z45: =(AE45+AF45)/AD45 -> 0.73254237 | AA45: =SUM(AQ45:AT45)/AD45 -> 0.11542343 | AB45: =(AI45+AG45)/AD45 -> 0.12336327 | AC45: =(AH45+SUM(AJ45:AP45))/AD45 -> 0.0010731519 | AD45: 31061.856 | AE45: 21903.943 | AF45: 850.18198 | AG45: 1799.9547 | AH45: 0 | AI45: 2031.9375 | AJ45: 0 | AK45: 0.70723498 | AL45: 1.5589994 | AM45: 21.590899 | AN45: 9.4769569 | AO45: 0 | AP45: 0 | AQ45: 311.20563 | AR45: 1215.1144 | AS45: 1333.1077 | AT45: 725.83805 | AU45: 624.70577 | AV45: 74.466668 | AW45: 19981.753 | AX45: 2772.3723 | AY45: 58.612433
B46: =B45+1 -> 2060 | C46: 0.05 | D46: =AD46/AD45-1 -> -0.0041 | E46: =AE46/AE45-1 -> -0.0039925406 | F46: =AF46/AF45-1 -> -0.0039925406 | G46: =AG46/AG45-1 -> -0.0041 | I46: =AI46/AI45-1 -> -0.0041 | K46: =AK46/AK45-1 -> -0.50280112 | M46: =AM46/AM45-1 -> -0.006 | N46: =AN46/AN45-1 -> -0.22119709 | Q46: =AQ46/AQ45-1 -> -0.0036545123 | R46: =AR46/AR45-1 -> -0.0039925406 | S46: =AS46/AS45-1 -> -0.0039925406 | T46: =AT46/AT45-1 -> -0.0042283934 | U46: =AU46/AU45-1 -> -0.0042283934 | V46: =AV46/AV45-1 -> -0.0042283934 | W46: =AW46/AW45-1 -> -0.0039776311 | X46: =AX46/AX45-1 -> -0.0041 | Y46: =AY46/AY45-1 -> -0.0041 | Z46: =(AE46+AF46)/AD46 -> 0.73262141 | AA46: =SUM(AQ46:AT46)/AD46 -> 0.11543375 | AB46: =(AI46+AG46)/AD46 -> 0.12336327 | AC46: =(AH46+SUM(AJ46:AP46))/AD46 -> 0.00098614106 | AD46: 30934.502 | AE46: 21816.491 | AF46: 846.7876 | AG46: 1792.5748 | AH46: 0 | AI46: 2023.6066 | AJ46: 0 | AK46: 0.35163644 | AL46: 1.3121117 | AM46: 21.461353 | AN46: 7.3806816 | AO46: 0 | AP46: 0 | AQ46: 310.06833 | AR46: 1210.263 | AS46: 1327.7852 | AT46: 722.76892 | AU46: 622.06427 | AV46: 74.151793 | AW46: 19902.273 | AX46: 2761.0055 | AY46: 58.372122
B47: =B46+1 -> 2061 | C47: 0.05 | D47: =AD47/AD46-1 -> -0.0043 | E47: =AE47/AE46-1 -> -0.0042167877 | F47: =AF47/AF46-1 -> -0.0042167877 | G47: =AG47/AG46-1 -> -0.0043 | I47: =AI47/AI46-1 -> -0.0043 | K47: =AK47/AK46-1 -> -0.57746479 | M47: =AM47/AM46-1 -> -0.006 | Q47: =AQ47/AQ46-1 -> -0.0033512775 | R47: =AR47/AR46-1 -> -0.0042167877 | S47: =AS47/AS46-1 -> -0.0042167877 | T47: =AT47/AT46-1 -> -0.0044318478 | U47: =AU47/AU46-1 -> -0.0044318478 | V47: =AV47/AV46-1 -> -0.0044318478 | W47: =AW47/AW46-1 -> -0.0042052438 | X47: =AX47/AX46-1 -> -0.0043 | Y47: =AY47/AY46-1 -> -0.0043 | Z47: =(AE47+AF47)/AD47 -> 0.73268264 | AA47: =SUM(AQ47:AT47)/AD47 -> 0.11544706 | AB47: =(AI47+AG47)/AD47 -> 0.12336327 | AC47: =(AH47+SUM(AJ47:AP47))/AD47 -> 0.00091415622 | AD47: 30801.484 | AE47: 21724.496 | AF47: 843.21687 | AG47: 1784.8668 | AH47: 0 | AI47: 2014.9051 | AJ47: 0 | AK47: 0.14857878 | AL47: 1.1059379 | AM47: 21.332585 | AN47: 5.5702663 | AO47: 0 | AP47: 0 | AQ47: 309.0292 | AR47: 1205.1596 | AS47: 1322.1862 | AT47: 719.56572 | AU47: 619.30737 | AV47: 73.823164 | AW47: 19818.579 | AX47: 2749.1332 | AY47: 58.121122
B48: =B47+1 -> 2062 | C48: 0.05 | D48: =AD48/AD47-1 -> -0.0044 | E48: =AE48/AE47-1 -> -0.0043362285 | F48: =AF48/AF47-1 -> -0.0043362285 | G48: =AG48/AG47-1 -> -0.0044 | I48: =AI48/AI47-1 -> -0.0044 | K48: =AK48/AK47-1 -> -0.66 | M48: =AM48/AM47-1 -> -0.006 | Q48: =AQ48/AQ47-1 -> -0.003048102 | R48: =AR48/AR47-1 -> -0.0043362285 | S48: =AS48/AS47-1 -> -0.0043362285 | T48: =AT48/AT47-1 -> -0.0045353505 | U48: =AU48/AU47-1 -> -0.0045353505 | V48: =AV48/AV47-1 -> -0.0045353505 | W48: =AW48/AW47-1 -> -0.0043273824 | X48: =AX48/AX47-1 -> -0.0044 | Y48: =AY48/AY47-1 -> -0.0044 | Z48: =(AE48+AF48)/AD48 -> 0.73272957 | AA48: =SUM(AQ48:AT48)/AD48 -> 0.11546276 | AB48: =(AI48+AG48)/AD48 -> 0.12336327 | AC48: =(AH48+SUM(AJ48:AP48))/AD48 -> 0.00085425544 | AD48: 30665.957 | AE48: 21630.293 | AF48: 839.56049 | AG48: 1777.0134 | AH48: 0 | AI48: 2006.0395 | AJ48: 0 | AK48: 0.050516784 | AL48: 0.90220561 | AM48: 21.20459 | AN48: 4.039249 | AO48: 0 | AP48: 0 | AQ48: 308.08725 | AR48: 1199.9338 | AS48: 1316.4529 | AT48: 716.30224 | AU48: 616.49859 | AV48: 73.48835 | AW48: 19732.817 | AX48: 2737.037 | AY48: 57.865389
B49: =B48+1 -> 2063 | C49: 0.05 | D49: =AD49/AD48-1 -> -0.0045 | E49: =AE49/AE48-1 -> -0.0044563051 | F49: =AF49/AF48-1 -> -0.0044563051 | G49: =AG49/AG48-1 -> -0.0045 | I49: =AI49/AI48-1 -> -0.0045 | K49: =AK49/AK48-1 -> -0.7254902 | M49: =AM49/AM48-1 -> -0.006 | Q49: =AQ49/AQ48-1 -> -0.003 | R49: =AR49/AR48-1 -> -0.0044563051 | S49: =AS49/AS48-1 -> -0.0044563051 | T49: =AT49/AT48-1 -> -0.0045342492 | U49: =AU49/AU48-1 -> -0.0045342492 | V49: =AV49/AV48-1 -> -0.0045342492 | W49: =AW49/AW48-1 -> -0.0044502444 | X49: =AX49/AX48-1 -> -0.0045 | Y49: =AY49/AY48-1 -> -0.0045 | Z49: =(AE49+AF49)/AD49 -> 0.73276173 | AA49: =SUM(AQ49:AT49)/AD49 -> 0.1154807 | AB49: =(AI49+AG49)/AD49 -> 0.12336327 | AC49: =(AH49+SUM(AJ49:AP49))/AD49 -> 0.00080470876 | AD49: 30527.96 | AE49: 21533.902 | AF49: 835.81915 | AG49: 1769.0168 | AH49: 0 | AI49: 1997.0123 | AJ49: 0 | AK49: 0.013867353 | AL49: 0.69074893 | AM49: 21.077362 | AN49: 2.784139 | AO49: 0 | AP49: 0 | AQ49: 307.16299 | AR49: 1194.5865 | AS49: 1310.5864 | AT49: 713.05434 | AU49: 613.70324 | AV49: 73.155135 | AW49: 19645.001 | AX49: 2724.7204 | AY49: 57.604995
B50: =B49+1 -> 2064 | C50: 0.05 | D50: =AD50/AD49-1 -> -0.0047 | E50: =AE50/AE49-1 -> -0.004680998 | F50: =AF50/AF49-1 -> -0.004680998 | G50: =AG50/AG49-1 -> -0.0047 | I50: =AI50/AI49-1 -> -0.0047 | K50: =AK50/AK49-1 -> -0.71428571 | M50: =AM50/AM49-1 -> -0.006 | Q50: =AQ50/AQ49-1 -> -0.003 | R50: =AR50/AR49-1 -> -0.004680998 | S50: =AS50/AS49-1 -> -0.004680998 | T50: =AT50/AT49-1 -> -0.0044849389 | U50: =AU50/AU49-1 -> -0.0044849389 | V50: =AV50/AV49-1 -> -0.0044849389 | W50: =AW50/AW49-1 -> -0.0046783625 | X50: =AX50/AX49-1 -> -0.0047 | Y50: =AY50/AY49-1 -> -0.0047 | Z50: =(AE50+AF50)/AD50 -> 0.73277572 | AA50: =SUM(AQ50:AT50)/AD50 -> 0.1155045 | AB50: =(AI50+AG50)/AD50 -> 0.12336327 | AC50: =(AH50+SUM(AJ50:AP50))/AD50 -> 0.00076196099 | AD50: 30384.479 | AE50: 21433.102 | AF50: 831.90669 | AG50: 1760.7024 | AH50: 0 | AI50: 1987.6264 | AJ50: 0 | AK50: 0.0039621007 | AL50: 0.37439275 | AM50: 20.950898 | AN50: 1.8225349 | AO50: 0 | AP50: 0 | AQ50: 306.2415 | AR50: 1188.9946 | AS50: 1304.4516 | AT50: 709.85634 | AU50: 610.95082 | AV50: 72.827039 | AW50: 19553.094 | AX50: 2711.9142 | AY50: 57.334251
B51: =B50+1 -> 2065 | C51: 0.05 | D51: =AD51/AD50-1 -> -0.005 | E51: =AE51/AE50-1 -> -0.0050148986 | F51: =AF51/AF50-1 -> -0.0050148986 | G51: =AG51/AG50-1 -> -0.005 | I51: =AI51/AI50-1 -> -0.005 | K51: =AK51/AK50-1 -> -0.25 | M51: =AM51/AM50-1 -> -0.006 | Q51: =AQ51/AQ50-1 -> -0.003 | R51: =AR51/AR50-1 -> -0.0050148986 | S51: =AS51/AS50-1 -> -0.0050148986 | T51: =AT51/AT50-1 -> -0.0044743974 | U51: =AU51/AU50-1 -> -0.0044743974 | V51: =AV51/AV50-1 -> -0.0044743974 | W51: =AW51/AW50-1 -> -0.005016965 | X51: =AX51/AX50-1 -> -0.005 | Y51: =AY51/AY50-1 -> -0.005 | Z51: =(AE51+AF51)/AD51 -> 0.73276475 | AA51: =SUM(AQ51:AT51)/AD51 -> 0.11553587 | AB51: =(AI51+AG51)/AD51 -> 0.12336327 | AC51: =(AH51+SUM(AJ51:AP51))/AD51 -> 0.00072975034 | AD51: 30232.557 | AE51: 21325.617 | AF51: 827.73476 | AG51: 1751.8989 | AH51: 0 | AI51: 1977.6882 | AJ51: 0 | AK51: 0.0029715755 | AL51: 0.13078411 | AM51: 20.825192 | AN51: 1.1032704 | AO51: 0 | AP51: 0 | AQ51: 305.32277 | AR51: 1183.0319 | AS51: 1297.9099 | AT51: 706.68016 | AU51: 608.21718 | AV51: 72.501182 | AW51: 19454.997 | AX51: 2698.3546 | AY51: 57.04758
B52: =B51+1 -> 2066 | C52: 0.05 | D52: =AD52/AD51-1 -> -0.0054 | E52: =AE52/AE51-1 -> -0.0054599549 | F52: =AF52/AF51-1 -> -0.0054599549 | G52: =AG52/AG51-1 -> -0.0054 | I52: =AI52/AI51-1 -> -0.0054 | K52: =AK52/AK51-1 -> -0.33333333 | M52: =AM52/AM51-1 -> -0.006 | Q52: =AQ52/AQ51-1 -> -0.003 | R52: =AR52/AR51-1 -> -0.0054599549 | S52: =AS52/AS51-1 -> -0.0054599549 | T52: =AT52/AT51-1 -> -0.0044900955 | U52: =AU52/AU51-1 -> -0.0044900955 | V52: =AV52/AV51-1 -> -0.0044900955 | W52: =AW52/AW51-1 -> -0.0054682705 | X52: =AX52/AX51-1 -> -0.0054 | Y52: =AY52/AY51-1 -> -0.0054 | Z52: =(AE52+AF52)/AD52 -> 0.73272058 | AA52: =SUM(AQ52:AT52)/AD52 -> 0.11557668 | AB52: =(AI52+AG52)/AD52 -> 0.12336327 | AC52: =(AH52+SUM(AJ52:AP52))/AD52 -> 0.00071282274 | AD52: 30069.301 | AE52: 21209.18 | AF52: 823.21536 | AG52: 1742.4387 | AH52: 0 | AI52: 1967.0087 | AJ52: 0 | AK52: 0.0019810504 | AL52: 0.078559333 | AM52: 20.700241 | AN52: 0.65329968 | AO52: 0 | AP52: 0 | AQ52: 304.4068 | AR52: 1176.5726 | AS52: 1290.8233 | AT52: 703.5071 | AU52: 605.48623 | AV52: 72.175645 | AW52: 19348.612 | AX52: 2683.7835 | AY52: 56.739523
B53: =B52+1 -> 2067 | C53: 0.05 | D53: =AD53/AD52-1 -> -0.0052 | E53: =AE53/AE52-1 -> -0.0052495476 | F53: =AF53/AF52-1 -> -0.0052495476 | G53: =AG53/AG52-1 -> -0.0052 | I53: =AI53/AI52-1 -> -0.0052 | K53: =AK53/AK52-1 -> -0.5 | M53: =AM53/AM52-1 -> -0.006 | Q53: =AQ53/AQ52-1 -> -0.003 | R53: =AR53/AR52-1 -> -0.0052495476 | S53: =AS53/AS52-1 -> -0.0052495476 | T53: =AT53/AT52-1 -> -0.004567964 | U53: =AU53/AU52-1 -> -0.004567964 | V53: =AV53/AV52-1 -> -0.004567964 | W53: =AW53/AW52-1 -> -0.0052564202 | X53: =AX53/AX52-1 -> -0.0052 | Y53: =AY53/AY52-1 -> -0.0052 | Z53: =(AE53+AF53)/AD53 -> 0.73268408 | AA53: =SUM(AQ53:AT53)/AD53 -> 0.11560984 | AB53: =(AI53+AG53)/AD53 -> 0.12336327 | AC53: =(AH53+SUM(AJ53:AP53))/AD53 -> 0.00070208647 | AD53: 29912.941 | AE53: 21097.842 | AF53: 818.89385 | AG53: 1733.378 | AH53: 0 | AI53: 1956.7803 | AJ53: 0 | AK53: 0.00099052518 | AL53: 0.047594477 | AM53: 20.57604 | AN53: 0.37684597 | AO53: 0 | AP53: 0 | AQ53: 303.49358 | AR53: 1170.3962 | AS53: 1284.0471 | AT53: 700.2935 | AU53: 602.72039 | AV53: 71.845949 | AW53: 19246.908 | AX53: 2669.8278 | AY53: 56.444478
B54: =B53+1 -> 2068 | C54: 0.05 | D54: =AD54/AD53-1 -> -0.005 | E54: =AE54/AE53-1 -> -0.0050448483 | F54: =AF54/AF53-1 -> -0.0050448483 | G54: =AG54/AG53-1 -> -0.005 | I54: =AI54/AI53-1 -> -0.005 | K54: =AK54/AK53-1 -> 0 | M54: =AM54/AM53-1 -> -0.006 | Q54: =AQ54/AQ53-1 -> -0.0025 | R54: =AR54/AR53-1 -> -0.0050448483 | S54: =AS54/AS53-1 -> -0.0050448483 | T54: =AT54/AT53-1 -> -0.0045918943 | U54: =AU54/AU53-1 -> -0.0045918943 | V54: =AV54/AV53-1 -> -0.0045918943 | W54: =AW54/AW53-1 -> -0.0050510695 | X54: =AX54/AX53-1 -> -0.005 | Y54: =AY54/AY53-1 -> -0.005 | Z54: =(AE54+AF54)/AD54 -> 0.73265106 | AA54: =SUM(AQ54:AT54)/AD54 -> 0.11564124 | AB54: =(AI54+AG54)/AD54 -> 0.12336327 | AC54: =(AH54+SUM(AJ54:AP54))/AD54 -> 0.00069469526 | AD54: 29763.376 | AE54: 20991.406 | AF54: 814.76266 | AG54: 1724.7111 | AH54: 0 | AI54: 1946.9964 | AJ54: 0 | AK54: 0.00099052518 | AL54: 0.022397488 | AM54: 20.452584 | AN54: 0.20050452 | AO54: 0 | AP54: 0 | AQ54: 302.73485 | AR54: 1164.4917 | AS54: 1277.5693 | AT54: 697.07783 | AU54: 599.95276 | AV54: 71.51604 | AW54: 19149.69 | AX54: 2656.4787 | AY54: 56.162255
B55: =B54+1 -> 2069 | C55: 0.05 | D55: =AD55/AD54-1 -> -0.0051 | E55: =AE55/AE54-1 -> -0.0051531028 | F55: =AF55/AF54-1 -> -0.0051531028 | G55: =AG55/AG54-1 -> -0.0051 | I55: =AI55/AI54-1 -> -0.0051 | K55: =AK55/AK54-1 -> -1 | M55: =AM55/AM54-1 -> -0.006 | Q55: =AQ55/AQ54-1 -> -0.0025 | R55: =AR55/AR54-1 -> -0.0051531028 | S55: =AS55/AS54-1 -> -0.0051531028 | T55: =AT55/AT54-1 -> -0.0046235139 | U55: =AU55/AU54-1 -> -0.0046235139 | V55: =AV55/AV54-1 -> -0.0046235139 | W55: =AW55/AW54-1 -> -0.0051604694 | X55: =AX55/AX54-1 -> -0.0051 | Y55: =AY55/AY54-1 -> -0.0051 | Z55: =(AE55+AF55)/AD55 -> 0.73261195 | AA55: =SUM(AQ55:AT55)/AD55 -> 0.11567466 | AB55: =(AI55+AG55)/AD55 -> 0.12336327 | AC55: =(AH55+SUM(AJ55:AP55))/AD55 -> 0.00068984884 | AD55: 29611.583 | AE55: 20883.235 | AF55: 810.5641 | AG55: 1715.9151 | AH55: 0 | AI55: 1937.0667 | AJ55: 0 | AK55: 0 | AL55: 0.011197107 | AM55: 20.329868 | AN55: 0.086450601 | AO55: 0 | AP55: 0 | AQ55: 301.97801 | AR55: 1158.4909 | AS55: 1270.9858 | AT55: 693.85488 | AU55: 597.17887 | AV55: 71.185385 | AW55: 19050.869 | AX55: 2642.9306 | AY55: 55.875828
B56: =B55+1 -> 2070 | C56: 0.05 | D56: =AD56/AD55-1 -> -0.004 | E56: =AE56/AE55-1 -> -0.0039782329 | F56: =AF56/AF55-1 -> -0.0039782329 | G56: =AG56/AG55-1 -> -0.004 | I56: =AI56/AI55-1 -> -0.004 | M56: =AM56/AM55-1 -> -0.006 | Q56: =AQ56/AQ55-1 -> -0.0025 | R56: =AR56/AR55-1 -> -0.0039782329 | S56: =AS56/AS55-1 -> -0.0039782329 | T56: =AT56/AT55-1 -> -0.0046404963 | U56: =AU56/AU55-1 -> -0.0046404963 | V56: =AV56/AV55-1 -> -0.0046404963 | W56: =AW56/AW55-1 -> -0.0039752131 | X56: =AX56/AX55-1 -> -0.004 | Y56: =AY56/AY55-1 -> -0.004 | Z56: =(AE56+AF56)/AD56 -> 0.73262796 | AA56: =SUM(AQ56:AT56)/AD56 -> 0.11567674 | AB56: =(AI56+AG56)/AD56 -> 0.12336327 | AC56: =(AH56+SUM(AJ56:AP56))/AD56 -> 0.00068615832 | AD56: 29493.136 | AE56: 20800.157 | AF56: 807.33949 | AG56: 1709.0514 | AH56: 0 | AI56: 1929.3184 | AJ56: 0 | AK56: 0 | AL56: 0.0055909895 | AM56: 20.207889 | AN56: 0.023480886 | AO56: 0 | AP56: 0 | AQ56: 301.22307 | AR56: 1153.8822 | AS56: 1265.9296 | AT56: 690.63505 | AU56: 594.40766 | AV56: 70.855049 | AW56: 18975.137 | AX56: 2632.3589 | AY56: 55.652325

Sheet Chô_7%
B1: Hypothèses de cotisants
B3: Hypothèses de productivité : 0,4 %, 0,7 %, 1,0 %, 1,3 %, et 1,6 % et taux de chômage de 7% | J3: Scénario démographique : scénario central INSEE 2026
B4: Année | C4: Taux de Cotmage BIT | D4: EMPLOI TOTAL | E4: =AE4 -> CNAV | F4: =AF4 -> MSA_SA | G4: =AG4 -> FPE civils et militaires | H4: =AH4 -> FSPOEIE | I4: =AI4 -> CNRACL | J4: =AJ4 -> CANSSM | K4: =AK4 -> SNCF | L4: =AL4 -> RATP | ... T4: =AT4 -> CNAVPL_RB + PAMC | U4: Autoentrepreneur SSI | V4: Autoentrepreneur PL | W4: AGIRC-ARRCO | X4: IRCANTEC | Y4: CRPNPAC | Z4: Part emploi salariés secteur privé | AA4: Part emploi non-salariés | AB4: Part emploi FP | AC4: PartEmploiRégimesSpéciaux | AD4: Emploi total | AE4: CNAV | AF4: MSA_SA | AG4: FPE civils et militaires | AH4: FSPOEIE | AI4: CNRACL | AJ4: CANSSM | AK4: SNCF | AL4: RATP | AM4: ENIM | AN4: CNIEG | AO4: CRPCEN | AP4: BDF | AQ4: MSA_EXA | AR4: Régime général des non salariés | AS4: Auto-entrepreneurs SSI | AT4: CNAVPL_RB + PAMC | AU4: Auto-entrepreneurs CNAVPL | AV4: CNBF_RB | AW4: AGIRC-ARRCO | AX4: IRCANTEC | AY4: CRPNPAC
B5: 2019 | Z5: =(AE5+AF5)/AD5 -> 0.72950787 | AA5: =SUM(AQ5:AT5)/AD5 -> 0.1221487 | AB5: =(AI5+AG5)/AD5 -> 0.14760355 | AC5: =(AH5+SUM(AJ5:AP5))/AD5 -> 0.015018111 | AD5: 28662 | AE5: 20127.908 | AF5: 781.24675 | AG5: 2028.58 | AH5: 23.25736 | AI5: 2202.033 | AJ5: 1.274 | AK5: 135.2512 | AL5: 41.349475 | AM5: 30.103681 | AN5: 136.624 | AO5: 53.626 | AP5: 8.9633864 | AQ5: 468.846 | AR5: 1139.6185 | AS5: 1094.1505 | AT5: 798.41102 | AU5: 460.0945 | AV5: 67.703785 | AW5: 18164.761 | AX5: 3060.8466 | AY5: 34.756
B6: =B5+1 -> 2020 | C6: 0.081 | D6: =AD6/AD5-1 -> -0.00058265299 | E6: =AE6/AE5-1 -> -0.0117 | F6: =AF6/AF5-1 -> -0.0117 | G6: =AG6/AG5-1 -> -0.0057380039 | H6: =AH6/AH5-1 -> -0.055971217 | I6: =AI6/AI5-1 -> -0.001280127 | J6: =AJ6/AJ5-1 -> -0.10361068 | K6: =AK6/AK5-1 -> -0.033145579 | ... Y6: =AY6/AY5-1 -> -0.050926459 | Z6: =(AE6+AF6)/AD6 -> 0.72139295 | AA6: =SUM(AQ6:AT6)/AD6 -> 0.11779204 | AB6: =(AI6+AG6)/AD6 -> 0.14718485 | AC6: =(AH6+SUM(AJ6:AP6))/AD6 -> 0.014762596 | AD6: 28645.3 | AE6: 19892.411 | AF6: 772.10616 | AG6: 2016.94 | AH6: 21.955617 | AI6: 2199.2141 | AJ6: 1.142 | AK6: 130.76822 | AL6: 42.095938 | AM6: 27.847 | AN6: 135.53 | AO6: 55.144 | AP6: 8.3962017 | AQ6: 461.372 | AR6: 1092.183 | AS6: 1013.8385 | AT6: 806.7949 | AU6: 507.843 | AV6: 68.442605 | AW6: 17952.233 | AX6: 3050.3856 | AY6: 32.986
B7: =B6+1 -> 2021 | C7: 0.079 | D7: =AD7/AD6-1 -> 0.026178815 | E7: =AE7/AE6-1 -> 0.021 | F7: =AF7/AF6-1 -> 0.021 | G7: =AG7/AG6-1 -> -0.005186074 | H7: =AH7/AH6-1 -> -0.065786055 | I7: =AI7/AI6-1 -> -0.0042848734 | J7: =AJ7/AJ6-1 -> -0.10157618 | K7: =AK7/AK6-1 -> -0.063161156 | ... Y7: =AY7/AY6-1 -> 0.061056206 | Z7: =(AE7+AF7)/AD7 -> 0.7177523 | AA7: =SUM(AQ7:AT7)/AD7 -> 0.11197635 | AB7: =(AI7+AG7)/AD7 -> 0.1427536 | AC7: =(AH7+SUM(AJ7:AP7))/AD7 -> 0.014170378 | AD7: 29395.2 | AE7: 20310.152 | AF7: 788.32039 | AG7: 2006.48 | AH7: 20.511243 | AI7: 2189.7908 | AJ7: 1.026 | AK7: 122.50875 | AL7: 41.742868 | AM7: 26.697 | AN7: 135.497 | AO7: 60.703 | AP7: 7.8552202 | AQ7: 455.144 | AR7: 1092.4415 | AS7: 953.7705 | AT7: 790.21134 | AU7: 502.821 | AV7: 69.363454 | AW7: 18329.23 | AX7: 3036 | AY7: 35
B8: =B7+1 -> 2022 | C8: 0.073 | D8: =AD8/AD7-1 -> 0.022748612 | E8: =AE8/AE7-1 -> 0.033 | F8: =AF8/AF7-1 -> 0.033 | G8: =AG8/AG7-1 -> -0.0065288465 | H8: =AH8/AH7-1 -> -0.071484864 | I8: =AI8/AI7-1 -> -0.00072593838 | J8: =AJ8/AJ7-1 -> -0.10818713 | K8: =AK8/AK7-1 -> -0.052457959 | ... Y8: =AY8/AY7-1 -> 0.057905879 | Z8: =(AE8+AF8)/AD8 -> 0.72494659 | AA8: =SUM(AQ8:AT8)/AD8 -> 0.11270903 | AB8: =(AI8+AG8)/AD8 -> 0.13908978 | AC8: =(AH8+SUM(AJ8:AP8))/AD8 -> 0.013720329 | AD8: 30063.9 | AE8: 20980.387 | AF8: 814.33496 | AG8: 1993.38 | AH8: 19.045 | AI8: 2188.2011 | AJ8: 0.915 | AK8: 116.08219 | AL8: 40.588261 | AM8: 28.319 | AN8: 136.279 | AO8: 63.798 | AP8: 7.4601363 | AQ8: 448.721 | AR8: 1092.2545 | AS8: 1047.5915 | AT8: 799.90594 | AU8: 591.326 | AV8: 71.046484 | AW8: 18934.095 | AX8: 3025.372 | AY8: 37.026706
B9: =B8+1 -> 2023 | C9: 0.074 | D9: =AD9/AD8-1 -> 0.011006556 | E9: =AE9/AE8-1 -> 0.013 | F9: =AF9/AF8-1 -> 0.013 | G9: =AG9/AG8-1 -> 0.0092606528 | H9: =AH9/AH8-1 -> -0.07912838 | I9: =AI9/AI8-1 -> -0.019975015 | J9: =AJ9/AJ8-1 -> -0.15510018 | K9: =AK9/AK8-1 -> -0.027602801 | ... Y9: =AY9/AY8-1 -> 0.054755552 | Z9: =(AE9+AF9)/AD9 -> 0.726376 | AA9: =SUM(AQ9:AT9)/AD9 -> 0.11342292 | AB9: =(AI9+AG9)/AD9 -> 0.13674483 | AC9: =(AH9+SUM(AJ9:AP9))/AD9 -> 0.013243045 | AD9: 30394.8 | AE9: 21253.132 | AF9: 824.92131 | AG9: 2011.84 | AH9: 17.538 | AI9: 2144.4918 | AJ9: 0.77308333 | AK9: 112.878 | AL9: 41.064 | AM9: 24.8 | AN9: 137.99847 | AO9: 60.303 | AP9: 7.1651363 | AQ9: 442.105 | AR9: 1086.696 | AS9: 1105.7255 | AT9: 812.9405 | AU9: 656.0225 | AV9: 74.921 | AW9: 19180.238 | AX9: 3007.1041 | AY9: 39.054123
B10: =B9+1 -> 2024 | C10: 0.074 | D10: =AD10/AD9-1 -> 0.0075177333 | E10: =AE10/AE9-1 -> 0.004 | F10: =AF10/AF9-1 -> 0.004 | G10: =AG10/AG9-1 -> -0.020389295 | H10: =AH10/AH9-1 -> -0.06505873 | I10: =AI10/AI9-1 -> 0.0033559264 | J10: =AJ10/AJ9-1 -> -0.095289425 | K10: =AK10/AK9-1 -> -0.032016868 | ... Y10: =AY10/AY9-1 -> 0.051605226 | Z10: =(AE10+AF10)/AD10 -> 0.72383987 | AA10: =SUM(AQ10:AT10)/AD10 -> 0.11499577 | AB10: =(AI10+AG10)/AD10 -> 0.13462 | AC10: =(AH10+SUM(AJ10:AP10))/AD10 -> 0.012559744 | AD10: 30623.3 | AE10: 21338.144 | AF10: 828.221 | AG10: 1970.82 | AH10: 16.397 | AI10: 2151.6885 | AJ10: 0.69941667 | AK10: 109.264 | AL10: 37.258 | AM10: 25.22 | AN10: 134.94625 | AO10: 53.826 | AP10: 7.0101363 | AQ10: 431.497 | AR10: 1078.1665 | AS10: 1182.8615 | AT10: 829.025 | AU10: 713.5155 | AV10: 75.701 | AW10: 19256.959 | AX10: 2982.633 | AY10: 41.06952
B11: =B10+1 -> 2025 | C11: 0.077 | D11: =AD11/AD10-1 -> 0.0021 | E11: =AE11/AE10-1 -> -0.00093015088 | F11: =AF11/AF10-1 -> -0.00093015088 | G11: =AG11/AG10-1 -> -0.0089201449 | H11: =AH11/AH10-1 -> -0.064251884 | I11: =AI11/AI10-1 -> -0.0027280211 | J11: =AJ11/AJ10-1 -> -0.06286454 | K11: =AK11/AK10-1 -> -0.0305041 | ... Y11: =AY11/AY10-1 -> 0.048454899 | Z11: =(AE11+AF11)/AD11 -> 0.72165112 | AA11: =SUM(AQ11:AT11)/AD11 -> 0.11711812 | AB11: =(AI11+AG11)/AD11 -> 0.13357374 | AC11: =(AH11+SUM(AJ11:AP11))/AD11 -> 0.012144527 | AD11: 30687.609 | AE11: 21318.297 | AF11: 827.45063 | AG11: 1953.24 | AH11: 15.343462 | AI11: 2145.8187 | AJ11: 0.65544816 | AK11: 105.931 | AL11: 35.411141 | AM11: 24.862986 | AN11: 132.24733 | AO11: 51.625 | AP11: 6.6101363 | AQ11: 423.40252 | AR11: 1119.6714 | AS11: 1228.3967 | AT11: 822.60463 | AU11: 707.98969 | AV11: 77.164 | AW11: 19239.047 | AX11: 2965.6671 | AY11: 43.05954
B12: =B11+1 -> 2026 | C12: 0.0807 | D12: =AD12/AD11-1 -> 0.0005 | E12: =AE12/AE11-1 -> -0.0030156474 | F12: =AF12/AF11-1 -> -0.0030156474 | G12: =AG12/AG11-1 -> -0.0032151707 | H12: =AH12/AH11-1 -> -0.064018571 | I12: =AI12/AI11-1 -> 0.0002330113 | J12: =AJ12/AJ11-1 -> -0.066896635 | K12: =AK12/AK11-1 -> -0.03 | ... Y12: =AY12/AY11-1 -> 0.045304573 | Z12: =(AE12+AF12)/AD12 -> 0.71911532 | AA12: =SUM(AQ12:AT12)/AD12 -> 0.11861636 | AB12: =(AI12+AG12)/AD12 -> 0.13331873 | AC12: =(AH12+SUM(AJ12:AP12))/AD12 -> 0.011751157 | AD12: 30702.953 | AE12: 21254.008 | AF12: 824.95533 | AG12: 1946.96 | AH12: 14.361195 | AI12: 2146.3187 | AJ12: 0.61160088 | AK12: 102.75307 | AL12: 34.326248 | AM12: 25.08311 | AN12: 129.0146 | AO12: 48.42425 | AP12: 6.2211363 | AQ12: 416.47128 | AR12: 1149.3902 | AS12: 1261.0014 | AT12: 815.00957 | AU12: 701.45286 | AV12: 78.318678 | AW12: 19181.029 | AX12: 2961.4853 | AY12: 45.010334
B13: =B12+1 -> 2027 | C13: 0.0824 | D13: =AD13/AD12-1 -> 0.0012 | E13: =AE13/AE12-1 -> -0.0021038341 | F13: =AF13/AF12-1 -> -0.0021038341 | G13: =AG13/AG12-1 -> -0.0030817274 | H13: =AH13/AH12-1 -> -0.065464823 | I13: =AI13/AI12-1 -> 0.00023295702 | J13: =AJ13/AJ12-1 -> -0.067646744 | K13: =AK13/AK12-1 -> -0.03 | ... Y13: =AY13/AY12-1 -> 0.042154246 | Z13: =(AE13+AF13)/AD13 -> 0.71674233 | AA13: =SUM(AQ13:AT13)/AD13 -> 0.11989122 | AB13: =(AI13+AG13)/AD13 -> 0.13298002 | AC13: =(AH13+SUM(AJ13:AP13))/AD13 -> 0.011366729 | AD13: 30739.796 | AE13: 21209.293 | AF13: 823.21976 | AG13: 1940.96 | AH13: 13.421042 | AI13: 2146.8187 | AJ13: 0.57022808 | AK13: 99.670478 | AL13: 33.112301 | AM13: 25.331847 | AN13: 125.88425 | AO13: 45.615643 | AP13: 5.8051363 | AQ13: 410.31588 | AR13: 1176.5789 | AS13: 1290.8302 | AT13: 807.7067 | AU13: 695.16751 | AV13: 79.441654 | AW13: 19140.675 | AX13: 2957.506 | AY13: 46.907711
B14: =B13+1 -> 2028 | C14: 0.0811 | D14: =AD14/AD13-1 -> 0.0038 | E14: =AE14/AE13-1 -> 0.0028358246 | F14: =AF14/AF13-1 -> 0.0028358246 | G14: =AG14/AG13-1 -> -0.0023081362 | H14: =AH14/AH13-1 -> -0.079451228 | I14: =AI14/AI13-1 -> 0 | J14: =AJ14/AJ13-1 -> -0.07244246 | K14: =AK14/AK13-1 -> -0.03 | ... Y14: =AY14/AY13-1 -> 0.039003919 | Z14: =(AE14+AF14)/AD14 -> 0.71605388 | AA14: =SUM(AQ14:AT14)/AD14 -> 0.11926386 | AB14: =(AI14+AG14)/AD14 -> 0.13233142 | AC14: =(AH14+SUM(AJ14:AP14))/AD14 -> 0.010969635 | AD14: 30856.608 | AE14: 21269.439 | AF14: 825.55427 | AG14: 1936.48 | AH14: 12.354724 | AI14: 2146.8187 | AJ14: 0.52891935 | AK14: 96.680364 | AL14: 31.882127 | AM14: 25.609197 | AN14: 123.01691 | AO14: 42.878705 | AP14: 5.5347662 | AQ14: 404.98553 | AR14: 1179.9155 | AS14: 1294.4908 | AT14: 800.68615 | AU14: 689.12515 | AV14: 80.518599 | AW14: 19194.955 | AX14: 2954.2647 | AY14: 48.737295
B15: =B14+1 -> 2029 | C15: 0.0795 | D15: =AD15/AD14-1 -> 0.0044 | E15: =AE15/AE14-1 -> 0.0039954494 | F15: =AF15/AF14-1 -> 0.0039954494 | G15: =AG15/AG14-1 -> -0.0022515079 | H15: =AH15/AH14-1 -> -0.095162683 | I15: =AI15/AI14-1 -> 0 | J15: =AJ15/AJ14-1 -> -0.079039645 | K15: =AK15/AK14-1 -> -0.03 | ... Y15: =AY15/AY14-1 -> 0.035853593 | Z15: =(AE15+AF15)/AD15 -> 0.71576547 | AA15: =SUM(AQ15:AT15)/AD15 -> 0.11868991 | AB15: =(AI15+AG15)/AD15 -> 0.13161103 | AC15: =(AH15+SUM(AJ15:AP15))/AD15 -> 0.010570323 | AD15: 30992.377 | AE15: 21354.42 | AF15: 828.85273 | AG15: 1932.12 | AH15: 11.179015 | AI15: 2146.8187 | AJ15: 0.48711375 | AK15: 93.779953 | AL15: 30.758881 | AM15: 25.91516 | AN15: 120.0993 | AO15: 40.134468 | AP15: 5.2455507 | AQ15: 400.24673 | AR15: 1184.6298 | AS15: 1299.6629 | AT15: 793.94298 | AU15: 683.32152 | AV15: 81.453829 | AW15: 19271.647 | AX15: 2951.1103 | AY15: 50.484702
B16: =B15+1 -> 2030 | C16: 0.0779 | D16: =AD16/AD15-1 -> 0.0055 | E16: =AE16/AE15-1 -> 0.0033323833 | F16: =AF16/AF15-1 -> 0.0033323833 | G16: =AG16/AG15-1 -> -0.002204832 | H16: =AH16/AH15-1 -> 0 | I16: =AI16/AI15-1 -> 0 | J16: =AJ16/AJ15-1 -> -0.10465116 | K16: =AK16/AK15-1 -> -0.030915639 | ... Y16: =AY16/AY15-1 -> 0.032703266 | Z16: =(AE16+AF16)/AD16 -> 0.71422245 | AA16: =SUM(AQ16:AT16)/AD16 -> 0.11771767 | AB16: =(AI16+AG16)/AD16 -> 0.13075443 | AC16: =(AH16+SUM(AJ16:AP16))/AD16 -> 0.010202626 | AD16: 31162.835 | AE16: 21425.581 | AF16: 831.61478 | AG16: 1927.86 | AH16: 11.179015 | AI16: 2146.8187 | AJ16: 0.43613673 | AK16: 90.880685 | AL16: 29.747853 | AM16: 25.707839 | AN16: 117.37617 | AO16: 37.671525 | AP16: 4.9435203 | AQ16: 395.194 | AR16: 1188.5774 | AS16: 1303.9938 | AT16: 780.65105 | AU16: 671.88157 | AV16: 80.090155 | AW16: 19335.868 | AX16: 2948.0282 | AY16: 52.135717
B17: =B16+1 -> 2031 | C17: 0.0763 | D17: =AD17/AD16-1 -> 0.0057 | E17: =AE17/AE16-1 -> 0.0081836224 | F17: =AF17/AF16-1 -> 0.0081836224 | G17: =AG17/AG16-1 -> -0.0020022201 | H17: =AH17/AH16-1 -> -0.13139757 | I17: =AI17/AI16-1 -> 0 | J17: =AJ17/AJ16-1 -> -0.10822511 | K17: =AK17/AK16-1 -> -0.032435967 | ... Y17: =AY17/AY16-1 -> 0.02955294 | Z17: =(AE17+AF17)/AD17 -> 0.71598626 | AA17: =SUM(AQ17:AT17)/AD17 -> 0.11721775 | AB17: =(AI17+AG17)/AD17 -> 0.12989019 | AC17: =(AH17+SUM(AJ17:AP17))/AD17 -> 0.0097861392 | AD17: 31340.463 | AE17: 21600.92 | AF17: 838.4204 | AG17: 1924 | AH17: 9.7101198 | AI17: 2146.8187 | AJ17: 0.38893579 | AK17: 87.932883 | AL17: 28.681816 | AM17: 25.553592 | AN17: 114.59856 | AO17: 35.223886 | AP17: 4.6123421 | AQ17: 390.31989 | AR17: 1198.3043 | AS17: 1314.6652 | AT17: 770.369 | AU17: 663.03214 | AV17: 79.035278 | AW17: 19494.105 | AX17: 2945.2355 | AY17: 53.676481
... B30: =B29+1 -> 2044 | C30: 0.07 | D30: =AD30/AD29-1 -> -0.0013 | E30: =AE30/AE29-1 -> -0.00095517446 | F30: =AF30/AF29-1 -> -0.00095517446 | G30: =AG30/AG29-1 -> -0.0014573878 | H30: =AH30/AH29-1 -> -0.29213322 | I30: =AI30/AI29-1 -> -0.0013 | J30: =AJ30/AJ29-1 -> -0.15517241 | K30: =AK30/AK29-1 -> -0.088882109 | ... Y30: =AY30/AY29-1 -> -0.0013 | Z30: =(AE30+AF30)/AD30 -> 0.72832208 | AA30: =SUM(AQ30:AT30)/AD30 -> 0.11559439 | AB30: =(AI30+AG30)/AD30 -> 0.12605671 | AC30: =(AH30+SUM(AJ30:AP30))/AD30 -> 0.004465517 | AD30: 32049.041 | AE30: 22469.876 | AF30: 872.14814 | AG30: 1897.8984 | AH30: 0.71664535 | AI30: 2142.0982 | AJ30: 0.046256926 | AK30: 35.497451 | AL30: 14.189346 | AM30: 23.630611 | AN30: 67.639937 | AO30: 0 | AP30: 1.3952905 | AQ30: 341.01821 | AR30: 1246.5093 | AS30: 1367.5512 | AT30: 749.61055 | AU30: 645.166 | AV30: 76.905584 | AW30: 20419.088 | AX30: 2922.9357 | AY30: 60.590999
B31: =B30+1 -> 2045 | C31: 0.07 | D31: =AD31/AD30-1 -> -0.0017 | E31: =AE31/AE30-1 -> -0.0014304516 | F31: =AF31/AF30-1 -> -0.0014304516 | G31: =AG31/AG30-1 -> -0.0017839813 | H31: =AH31/AH30-1 -> -0.30360265 | I31: =AI31/AI30-1 -> -0.0017 | J31: =AJ31/AJ30-1 -> -0.18367347 | K31: =AK31/AK30-1 -> -0.091776655 | ... N31: =AN31/AN30-1 -> -0.057007173 | P31: =AP31/AP30-1 -> -0.18891095 | Q31: =AQ31/AQ30-1 -> -0.0081991774 | R31: =AR31/AR30-1 -> -0.0014304516 | S31: =AS31/AS30-1 -> -0.0014304516 | T31: =AT31/AT30-1 -> 0.00086794122 | U31: =AU31/AU30-1 -> 0.00086794122 | V31: =AV31/AV30-1 -> 0.00086794122 | W31: =AW31/AW30-1 -> -0.001386219 | ... Y31: =AY31/AY30-1 -> -0.0017 | Z31: =(AE31+AF31)/AD31 -> 0.72851873 | AA31: =SUM(AQ31:AT31)/AD31 -> 0.11560731 | AB31: =(AI31+AG31)/AD31 -> 0.12605173 | AC31: =(AH31+SUM(AJ31:AP31))/AD31 -> 0.0042021575 | AD31: 31994.557 | AE31: 22437.734 | AF31: 870.90057 | AG31: 1894.5126 | AH31: 0.49906992 | AI31: 2138.4566 | AJ31: 0.037760756 | AK31: 32.239614 | AL31: 13.265217 | AM31: 23.488827 | AN31: 63.783975 | AO31: 0 | AP31: 1.1317049 | AQ31: 338.22214 | AR31: 1244.7263 | AS31: 1365.595 | AT31: 750.26116 | AU31: 645.72597 | AV31: 76.972334 | AW31: 20390.783 | AX31: 2917.8514 | AY31: 60.487994
B32: =B31+1 -> 2046 | C32: 0.07 | D32: =AD32/AD31-1 -> -0.0027 | E32: =AE32/AE31-1 -> -0.0024858416 | F32: =AF32/AF31-1 -> -0.0024858416 | G32: =AG32/AG31-1 -> -0.0027313854 | H32: =AH32/AH31-1 -> -0.32312039 | I32: =AI32/AI31-1 -> -0.0027 | J32: =AJ32/AJ31-1 -> -0.225 | K32: =AK32/AK31-1 -> -0.099852526 | ... N32: =AN32/AN31-1 -> -0.06140147 | P32: =AP32/AP31-1 -> -0.22802557 | Q32: =AQ32/AQ31-1 -> -0.0078974145 | R32: =AR32/AR31-1 -> -0.0024858416 | S32: =AS32/AS31-1 -> -0.0024858416 | T32: =AT32/AT31-1 -> 0.00039065043 | U32: =AU32/AU31-1 -> 0.00039065043 | V32: =AV32/AV31-1 -> 0.00039065043 | W32: =AW32/AW31-1 -> -0.0024530866 | ... Y32: =AY32/AY31-1 -> -0.0027 | Z32: =(AE32+AF32)/AD32 -> 0.72867517 | AA32: =SUM(AQ32:AT32)/AD32 -> 0.1156424 | AB32: =(AI32+AG32)/AD32 -> 0.12604986 | AC32: =(AH32+SUM(AJ32:AP32))/AD32 -> 0.0039418293 | AD32: 31908.172 | AE32: 22381.957 | AF32: 868.73565 | AG32: 1889.338 | AH32: 0.33781025 | AI32: 2132.6828 | AJ32: 0.029264586 | AK32: 29.020407 | AL32: 12.299998 | AM32: 23.347894 | AN32: 59.867546 | AO32: 0 | AP32: 0.87364722 | AQ32: 335.55106 | AR32: 1241.6321 | AS32: 1362.2003 | AT32: 750.55425 | AU32: 645.97822 | AV32: 77.002403 | AW32: 20340.763 | AX32: 2909.9302 | AY32: 60.324677
B33: =B32+1 -> 2047 | C33: 0.07 | D33: =AD33/AD32-1 -> -0.0028 | E33: =AE33/AE32-1 -> -0.0025618421 | F33: =AF33/AF32-1 -> -0.0025618421 | G33: =AG33/AG32-1 -> -0.0028103782 | H33: =AH33/AH32-1 -> -0.34424981 | I33: =AI33/AI32-1 -> -0.0028 | J33: =AJ33/AJ32-1 -> -0.19354839 | K33: =AK33/AK32-1 -> -0.11215783 | ... N33: =AN33/AN32-1 -> -0.06682223 | P33: =AP33/AP32-1 -> -0.28416274 | Q33: =AQ33/AQ32-1 -> -0.0075946988 | R33: =AR33/AR32-1 -> -0.0025618421 | S33: =AS33/AS32-1 -> -0.0025618421 | T33: =AT33/AT32-1 -> -0.00022017434 | U33: =AU33/AU32-1 -> -0.00022017434 | V33: =AV33/AV32-1 -> -0.00022017434 | W33: =AW33/AW32-1 -> -0.002527074 | ... Y33: =AY33/AY32-1 -> -0.0028 | Z33: =(AE33+AF33)/AD33 -> 0.7288492 | AA33: =SUM(AQ33:AT33)/AD33 -> 0.11567218 | AB33: =(AI33+AG33)/AD33 -> 0.12604925 | AC33: =(AH33+SUM(AJ33:AP33))/AD33 -> 0.0036792962 | AD33: 31818.829 | AE33: 22324.618 | AF33: 866.51009 | AG33: 1884.0282 | AH33: 0.22151914 | AI33: 2126.7113 | AJ33: 0.023600473 | AK33: 25.765541 | AL33: 11.35998 | AM33: 23.207807 | AN33: 55.867063 | AO33: 0 | AP33: 0.62538923 | AQ33: 333.00265 | AR33: 1238.4512 | AS33: 1358.7106 | AT33: 750.389 | AU33: 645.83599 | AV33: 76.985449 | AW33: 20289.36 | AX33: 2901.7682 | AY33: 60.155768
B34: =B33+1 -> 2048 | C34: 0.07 | D34: =AD34/AD33-1 -> -0.0032 | E34: =AE34/AE33-1 -> -0.0029585838 | F34: =AF34/AF33-1 -> -0.0029585838 | G34: =AG34/AG33-1 -> -0.0031997962 | H34: =AH34/AH33-1 -> -0.37485386 | I34: =AI34/AI33-1 -> -0.0032 | J34: =AJ34/AJ33-1 -> -0.2 | K34: =AK34/AK33-1 -> -0.12613409 | ... N34: =AN34/AN33-1 -> -0.074212114 | P34: =AP34/AP33-1 -> -0.43352817 | Q34: =AQ34/AQ33-1 -> -0.0072937988 | R34: =AR34/AR33-1 -> -0.0029585838 | S34: =AS34/AS33-1 -> -0.0029585838 | T34: =AT34/AT33-1 -> -0.00077424252 | U34: =AU34/AU33-1 -> -0.00077424252 | V34: =AV34/AV33-1 -> -0.00077424252 | W34: =AW34/AW33-1 -> -0.0029240703 | ... Y34: =AY34/AY33-1 -> -0.0032 | Z34: =(AE34+AF34)/AD34 -> 0.72902572 | AA34: =SUM(AQ34:AT34)/AD34 -> 0.11570636 | AB34: =(AI34+AG34)/AD34 -> 0.12604926 | AC34: =(AH34+SUM(AJ34:AP34))/AD34 -> 0.0034125687 | AD34: 31717.009 | AE34: 22258.569 | AF34: 863.94645 | AG34: 1877.9997 | AH34: 0.13848183 | AI34: 2119.9058 | AJ34: 0.018880378 | AK34: 22.515628 | AL34: 10.419605 | AM34: 23.06856 | AN34: 51.72105 | AO34: 0 | AP34: 0.35426538 | AQ34: 330.5738 | AR34: 1234.7871 | AS34: 1354.6907 | AT34: 749.80802 | AU34: 645.33596 | AV34: 76.925844 | AW34: 20230.032 | AX34: 2892.4828 | AY34: 59.963269
B35: =B34+1 -> 2049 | C35: 0.07 | D35: =AD35/AD34-1 -> -0.0032 | E35: =AE35/AE34-1 -> -0.0029280865 | F35: =AF35/AF34-1 -> -0.0029280865 | G35: =AG35/AG34-1 -> -0.0031997955 | H35: =AH35/AH34-1 -> -0.43326323 | I35: =AI35/AI34-1 -> -0.0032 | J35: =AJ35/AJ34-1 -> -0.25 | K35: =AK35/AK34-1 -> -0.14174475 | ... N35: =AN35/AN34-1 -> -0.083760972 | P35: =AP35/AP34-1 -> -0.78233556 | Q35: =AQ35/AQ34-1 -> -0.0069891095 | R35: =AR35/AR34-1 -> -0.0029280865 | S35: =AS35/AS34-1 -> -0.0029280865 | T35: =AT35/AT34-1 -> -0.0012544408 | U35: =AU35/AU34-1 -> -0.0012544408 | V35: =AV35/AV34-1 -> -0.0012544408 | W35: =AW35/AW34-1 -> -0.0028892221 | ... Y35: =AY35/AY34-1 -> -0.0032 | Z35: =(AE35+AF35)/AD35 -> 0.72922459 | AA35: =SUM(AQ35:AT35)/AD35 -> 0.11573516 | AB35: =(AI35+AG35)/AD35 -> 0.12604927 | AC35: =(AH35+SUM(AJ35:AP35))/AD35 -> 0.0031396202 | AD35: 31615.515 | AE35: 22193.394 | AF35: 861.41674 | AG35: 1871.9905 | AH35: 0.078482747 | AI35: 2113.1221 | AJ35: 0.014160284 | AK35: 19.324156 | AL35: 9.4478038 | AM35: 22.930149 | AN35: 47.388844 | AO35: 0 | AP35: 0.077110975 | AQ35: 328.26338 | AR35: 1231.1716 | AS35: 1350.7241 | AT35: 748.86743 | AU35: 644.52642 | AV35: 76.829345 | AW35: 20171.583 | AX35: 2883.2272 | AY35: 59.771387
B36: =B35+1 -> 2050 | C36: 0.07 | D36: =AD36/AD35-1 -> -0.0038 | E36: =AE36/AE35-1 -> -0.0035578196 | F36: =AF36/AF35-1 -> -0.0035578196 | G36: =AG36/AG35-1 -> -0.0037997564 | H36: =AH36/AH35-1 -> -0.49614539 | I36: =AI36/AI35-1 -> -0.0038 | J36: =AJ36/AJ35-1 -> -0.33333333 | K36: =AK36/AK35-1 -> -0.15925983 | ... N36: =AN36/AN35-1 -> -0.096995618 | P36: =AP36/AP35-1 -> -1 | Q36: =AQ36/AQ35-1 -> -0.0066845382 | R36: =AR36/AR35-1 -> -0.0035578196 | S36: =AS36/AS35-1 -> -0.0035578196 | T36: =AT36/AT35-1 -> -0.0016557211 | U36: =AU36/AU35-1 -> -0.0016557211 | V36: =AV36/AV35-1 -> -0.0016557211 | W36: =AW36/AW35-1 -> -0.0035232198 | ... Y36: =AY36/AY35-1 -> -0.0038 | Z36: =(AE36+AF36)/AD36 -> 0.72940186 | AA36: =SUM(AQ36:AT36)/AD36 -> 0.11577593 | AB36: =(AI36+AG36)/AD36 -> 0.12604929 | AC36: =(AH36+SUM(AJ36:AP36))/AD36 -> 0.0028717052 | AD36: 31495.376 | AE36: 22114.434 | AF36: 858.35197 | AG36: 1864.8774 | AH36: 0.039543894 | AI36: 2105.0922 | AJ36: 0.009440189 | AK36: 16.246594 | AL36: 8.5649541 | AM36: 22.792568 | AN36: 42.792334 | AO36: 0 | AP36: 0 | AQ36: 326.06909 | AR36: 1226.7913 | AS36: 1345.9185 | AT36: 747.62751 | AU36: 643.45927 | AV36: 76.702137 | AW36: 20100.514 | AX36: 2872.2712 | AY36: 59.544255
B37: =B36+1 -> 2051 | C37: 0.07 | D37: =AD37/AD36-1 -> -0.0039 | E37: =AE37/AE36-1 -> -0.0036520225 | F37: =AF37/AF36-1 -> -0.0036520225 | G37: =AG37/AG36-1 -> -0.003899749 | H37: =AH37/AH36-1 -> -0.52469972 | I37: =AI37/AI36-1 -> -0.0039 | J37: =AJ37/AJ36-1 -> -0.3 | K37: =AK37/AK36-1 -> -0.18168516 | ... N37: =AN37/AN36-1 -> -0.10968332 | Q37: =AQ37/AQ36-1 -> -0.0063832217 | R37: =AR37/AR36-1 -> -0.0036520225 | S37: =AS37/AS36-1 -> -0.0036520225 | T37: =AT37/AT36-1 -> -0.0020226903 | U37: =AU37/AU36-1 -> -0.0020226903 | V37: =AV37/AV36-1 -> -0.0020226903 | W37: =AW37/AW36-1 -> -0.0036166045 | X37: =AX37/AX36-1 -> -0.0038998821 | Y37: =AY37/AY36-1 -> -0.0039 | Z37: =(AE37+AF37)/AD37 -> 0.72958345 | AA37: =SUM(AQ37:AT37)/AD37 -> 0.11581519 | AB37: =(AI37+AG37)/AD37 -> 0.1260493 | AC37: =(AH37+SUM(AJ37:AP37))/AD37 -> 0.0026069936 | AD37: 31372.544 | AE37: 22033.671 | AF37: 855.21725 | AG37: 1857.6048 | AH37: 0.018795224 | AI37: 2096.8824 | AJ37: 0.0066081323 | AK37: 13.294829 | AL37: 7.7132461 | AM37: 22.655813 | AN37: 38.098729 | AO37: 0 | AP37: 0 | AQ37: 323.98772 | AR37: 1222.311 | AS37: 1341.0031 | AT37: 746.11529 | AU37: 642.15775 | AV37: 76.546992 | AW37: 20027.819 | AX37: 2861.0697 | AY37: 59.312033
B38: =B37+1 -> 2052 | C38: 0.07 | D38: =AD38/AD37-1 -> -0.0039 | E38: =AE38/AE37-1 -> -0.00363474 | F38: =AF38/AF37-1 -> -0.00363474 | G38: =AG38/AG37-1 -> -0.0039105146 | H38: =AH38/AH37-1 -> -0.47819453 | I38: =AI38/AI37-1 -> -0.0039 | J38: =AJ38/AJ37-1 -> -0.42857143 | K38: =AK38/AK37-1 -> -0.20704813 | ... N38: =AN38/AN37-1 -> -0.12298507 | Q38: =AQ38/AQ37-1 -> -0.0060798501 | R38: =AR38/AR37-1 -> -0.00363474 | S38: =AS38/AS37-1 -> -0.00363474 | T38: =AT38/AT37-1 -> -0.0025226917 | U38: =AU38/AU37-1 -> -0.0025226917 | V38: =AV38/AV37-1 -> -0.0025226917 | W38: =AW38/AW37-1 -> -0.0035961408 | X38: =AX38/AX37-1 -> -0.0039049392 | Y38: =AY38/AY37-1 -> -0.0039 | Z38: =(AE38+AF38)/AD38 -> 0.72977773 | AA38: =SUM(AQ38:AT38)/AD38 -> 0.11584723 | AB38: =(AI38+AG38)/AD38 -> 0.12604868 | AC38: =(AH38+SUM(AJ38:AP38))/AD38 -> 0.0023488047 | AD38: 31250.191 | AE38: 21953.585 | AF38: 852.10876 | AG38: 1850.3407 | AH38: 0.0098074505 | AI38: 2088.7045 | AJ38: 0.0037760756 | AK38: 10.54216 | AL38: 6.9118205 | AM38: 22.519878 | AN38: 33.413154 | AO38: 0 | AP38: 0 | AQ38: 322.01792 | AR38: 1217.8682 | AS38: 1336.1289 | AT38: 744.23307 | AU38: 640.53778 | AV38: 76.353888 | AW38: 19955.796 | AX38: 2849.8974 | AY38: 59.080716
B39: =B38+1 -> 2053 | C39: 0.07 | D39: =AD39/AD38-1 -> -0.004 | E39: =AE39/AE38-1 -> -0.0037381964 | F39: =AF39/AF38-1 -> -0.0037381964 | G39: =AG39/AG38-1 -> -0.0039997838 | H39: =AH39/AH38-1 -> -0.45643152 | I39: =AI39/AI38-1 -> -0.004 | J39: =AJ39/AJ38-1 -> -0.25 | K39: =AK39/AK38-1 -> -0.22991638 | ... N39: =AN39/AN38-1 -> -0.13216865 | Q39: =AQ39/AQ38-1 -> -0.0057764816 | R39: =AR39/AR38-1 -> -0.0037381964 | S39: =AS39/AS38-1 -> -0.0037381964 | T39: =AT39/AT38-1 -> -0.002952213 | U39: =AU39/AU38-1 -> -0.002952213 | V39: =AV39/AV38-1 -> -0.002952213 | W39: =AW39/AW38-1 -> -0.0037008226 | X39: =AX39/AX38-1 -> -0.0039998985 | Y39: =AY39/AY38-1 -> -0.004 | Z39: =(AE39+AF39)/AD39 -> 0.72996956 | AA39: =SUM(AQ39:AT39)/AD39 -> 0.11587539 | AB39: =(AI39+AG39)/AD39 -> 0.12604869 | AC39: =(AH39+SUM(AJ39:AP39))/AD39 -> 0.0021038779 | AD39: 31125.19 | AE39: 21871.518 | AF39: 848.92341 | AG39: 1842.9397 | AH39: 0.005331021 | AI39: 2080.3497 | AJ39: 0.0028320567 | AK39: 8.1183444 | AL39: 5.9753497 | AM39: 22.384758 | AN39: 28.996983 | AO39: 0 | AP39: 0 | AQ39: 320.15779 | AR39: 1213.3156 | AS39: 1331.1342 | AT39: 742.03594 | AU39: 638.64678 | AV39: 76.128475 | AW39: 19881.943 | AX39: 2838.4981 | AY39: 58.844393
B40: =B39+1 -> 2054 | C40: 0.07 | D40: =AD40/AD39-1 -> -0.0039 | E40: =AE40/AE39-1 -> -0.0036351782 | F40: =AF40/AF39-1 -> -0.0036351782 | G40: =AG40/AG39-1 -> -0.0039214928 | H40: =AH40/AH39-1 -> -0.50200591 | I40: =AI40/AI39-1 -> -0.0039 | J40: =AJ40/AJ39-1 -> -0.33333333 | K40: =AK40/AK39-1 -> -0.25195217 | ... N40: =AN40/AN39-1 -> -0.14465791 | Q40: =AQ40/AQ39-1 -> -0.0054729319 | R40: =AR40/AR39-1 -> -0.0036351782 | S40: =AS40/AS39-1 -> -0.0036351782 | T40: =AT40/AT39-1 -> -0.0032634927 | U40: =AU40/AU39-1 -> -0.0032634927 | V40: =AV40/AV39-1 -> -0.0032634927 | W40: =AW40/AW39-1 -> -0.0035959288 | X40: =AX40/AX39-1 -> -0.0039100961 | Y40: =AY40/AY39-1 -> -0.0039 | Z40: =(AE40+AF40)/AD40 -> 0.73016363 | AA40: =SUM(AQ40:AT40)/AD40 -> 0.11589612 | AB40: =(AI40+AG40)/AD40 -> 0.12604741 | AC40: =(AH40+SUM(AJ40:AP40))/AD40 -> 0.0018748799 | AD40: 31003.802 | AE40: 21792.011 | AF40: 845.83742 | AG40: 1835.7126 | AH40: 0.0026548169 | AI40: 2072.2363 | AJ40: 0.0018880378 | AK40: 6.0729099 | AL40: 4.9981609 | AM40: 22.25045 | AN40: 24.80234 | AO40: 0 | AP40: 0 | AQ40: 318.40559 | AR40: 1208.905 | AS40: 1326.2953 | AT40: 739.61431 | AU40: 636.56256 | AV40: 75.88003 | AW40: 19810.449 | AX40: 2827.3993 | AY40: 58.6149
B41: =B40+1 -> 2055 | C41: 0.07 | D41: =AD41/AD40-1 -> -0.0036 | E41: =AE41/AE40-1 -> -0.0033292941 | F41: =AF41/AF40-1 -> -0.0033292941 | G41: =AG41/AG40-1 -> -0.0036325672 | H41: =AH41/AH40-1 -> -0.50213388 | I41: =AI41/AI40-1 -> -0.0036 | J41: =AJ41/AJ40-1 -> -0.5 | K41: =AK41/AK40-1 -> -0.27630077 | ... N41: =AN41/AN40-1 -> -0.15588264 | Q41: =AQ41/AQ40-1 -> -0.0051701792 | R41: =AR41/AR40-1 -> -0.0033292941 | S41: =AS41/AS40-1 -> -0.0033292941 | T41: =AT41/AT40-1 -> -0.0035060404 | U41: =AU41/AU40-1 -> -0.0035060404 | V41: =AV41/AV40-1 -> -0.0035060404 | W41: =AW41/AW40-1 -> -0.0032884749 | X41: =AX41/AX40-1 -> -0.0036152981 | Y41: =AY41/AY40-1 -> -0.0036 | Z41: =(AE41+AF41)/AD41 -> 0.730362 | AA41: =SUM(AQ41:AT41)/AD41 -> 0.1159044 | AB41: =(AI41+AG41)/AD41 -> 0.12604548 | AC41: =(AH41+SUM(AJ41:AP41))/AD41 -> 0.0016671674 | AD41: 30892.188 | AE41: 21719.459 | AF41: 843.02138 | AG41: 1829.0443 | AH41: 0.0013217434 | AI41: 2064.7763 | AJ41: 0.0009440189 | AK41: 4.3949602 | AL41: 4.0521888 | AM41: 22.116947 | AN41: 20.936086 | AO41: 0 | AP41: 0 | AQ41: 316.75938 | AR41: 1204.8802 | AS41: 1321.8797 | AT41: 737.02119 | AU41: 634.33074 | AV41: 75.613992 | AW41: 19745.303 | AX41: 2817.1774 | AY41: 58.403886
B42: =B41+1 -> 2056 | C42: 0.07 | D42: =AD42/AD41-1 -> -0.0041 | E42: =AE42/AE41-1 -> -0.0038819481 | F42: =AF42/AF41-1 -> -0.0038819481 | G42: =AG42/AG41-1 -> -0.0041 | H42: =AH42/AH41-1 -> -1 | I42: =AI42/AI41-1 -> -0.0041 | J42: =AJ42/AJ41-1 -> 0 | K42: =AK42/AK41-1 -> -0.30335812 | ... N42: =AN42/AN41-1 -> -0.16479217 | Q42: =AQ42/AQ41-1 -> -0.0048672638 | R42: =AR42/AR41-1 -> -0.0038819481 | S42: =AS42/AS41-1 -> -0.0038819481 | T42: =AT42/AT41-1 -> -0.0036805456 | U42: =AU42/AU41-1 -> -0.0036805456 | V42: =AV42/AV41-1 -> -0.0036805456 | W42: =AW42/AW41-1 -> -0.0038508373 | X42: =AX42/AX41-1 -> -0.0041 | Y42: =AY42/AY41-1 -> -0.0041 | Z42: =(AE42+AF42)/AD42 -> 0.73052191 | AA42: =SUM(AQ42:AT42)/AD42 -> 0.11592446 | AB42: =(AI42+AG42)/AD42 -> 0.12604548 | AC42: =(AH42+SUM(AJ42:AP42))/AD42 -> 0.0014768527 | AD42: 30765.53 | AE42: 21635.145 | AF42: 839.74881 | AG42: 1821.5452 | AH42: 0 | AI42: 2056.3107 | AJ42: 0.0009440189 | AK42: 3.0617133 | AL42: 2.9032716 | AM42: 21.984245 | AN42: 17.485983 | AO42: 0 | AP42: 0 | AQ42: 315.21763 | AR42: 1200.2029 | AS42: 1316.7482 | AT42: 734.30855 | AU42: 631.99606 | AV42: 75.335691 | AW42: 19669.267 | AX42: 2805.627 | AY42: 58.16443
B43: =B42+1 -> 2057 | C43: 0.07 | D43: =AD43/AD42-1 -> -0.004 | E43: =AE43/AE42-1 -> -0.0038295391 | F43: =AF43/AF42-1 -> -0.0038295391 | G43: =AG43/AG42-1 -> -0.004 | I43: =AI43/AI42-1 -> -0.004 | J43: =AJ43/AJ42-1 -> 0 | K43: =AK43/AK42-1 -> -0.33613717 | L43: =AL43/AL42-1 -> -0.17436999 | M43: =AM43/AM42-1 -> -0.006 | N43: =AN43/AN42-1 -> -0.17370622 | Q43: =AQ43/AQ42-1 -> -0.0045637529 | R43: =AR43/AR42-1 -> -0.0038295391 | S43: =AS43/AS42-1 -> -0.0038295391 | T43: =AT43/AT42-1 -> -0.0037054651 | U43: =AU43/AU42-1 -> -0.0037054651 | V43: =AV43/AV42-1 -> -0.0037054651 | W43: =AW43/AW42-1 -> -0.0038052246 | X43: =AX43/AX42-1 -> -0.004 | Y43: =AY43/AY42-1 -> -0.004 | Z43: =(AE43+AF43)/AD43 -> 0.73064694 | AA43: =SUM(AQ43:AT43)/AD43 -> 0.11593972 | AB43: =(AI43+AG43)/AD43 -> 0.12604548 | AC43: =(AH43+SUM(AJ43:AP43))/AD43 -> 0.0013292476 | AD43: 30642.468 | AE43: 21552.293 | AF43: 836.53296 | AG43: 1814.259 | AH43: 0 | AI43: 2048.0855 | AJ43: 0.0009440189 | AK43: 2.0325577 | AL43: 2.3970281 | AM43: 21.85234 | AN43: 14.448559 | AO43: 0 | AP43: 0 | AQ43: 313.77905 | AR43: 1195.6067 | AS43: 1311.7057 | AT43: 731.5876 | AU43: 629.65422 | AV43: 75.056537 | AW43: 19594.421 | AX43: 2794.4045 | AY43: 57.931773
B44: =B43+1 -> 2058 | C44: 0.07 | D44: =AD44/AD43-1 -> -0.004 | E44: =AE44/AE43-1 -> -0.0038506257 | F44: =AF44/AF43-1 -> -0.0038506257 | G44: =AG44/AG43-1 -> -0.004 | I44: =AI44/AI43-1 -> -0.004 | J44: =AJ44/AJ43-1 -> -1 | K44: =AK44/AK43-1 -> -0.38109162 | L44: =AL44/AL43-1 -> -0.19121791 | M44: =AM44/AM43-1 -> -0.006 | N44: =AN44/AN43-1 -> -0.18327747 | Q44: =AQ44/AQ43-1 -> -0.004260654 | R44: =AR44/AR43-1 -> -0.0038506257 | S44: =AS44/AS43-1 -> -0.0038506257 | T44: =AT44/AT43-1 -> -0.003861311 | U44: =AU44/AU43-1 -> -0.003861311 | V44: =AV44/AV43-1 -> -0.003861311 | W44: =AW44/AW43-1 -> -0.0038293231 | X44: =AX44/AX43-1 -> -0.004 | Y44: =AY44/AY43-1 -> -0.004 | Z44: =(AE44+AF44)/AD44 -> 0.73075652 | AA44: =SUM(AQ44:AT44)/AD44 -> 0.11595263 | AB44: =(AI44+AG44)/AD44 -> 0.12604548 | AC44: =(AH44+SUM(AJ44:AP44))/AD44 -> 0.0012030948 | AD44: 30519.898 | AE44: 21469.303 | AF44: 833.31179 | AG44: 1807.002 | AH44: 0 | AI44: 2039.8931 | AJ44: 0 | AK44: 1.257967 | AL44: 1.9386734 | AM44: 21.721226 | AN44: 11.800463 | AO44: 0 | AP44: 0 | AQ44: 312.44215 | AR44: 1191.0029 | AS44: 1306.6548 | AT44: 728.76271 | AU44: 627.22293 | AV44: 74.766721 | AW44: 19519.388 | AX44: 2783.2269 | AY44: 57.700046
B45: =B44+1 -> 2059 | C45: 0.07 | D45: =AD45/AD44-1 -> -0.0039 | E45: =AE45/AE44-1 -> -0.0037625733 | F45: =AF45/AF44-1 -> -0.0037625733 | G45: =AG45/AG44-1 -> -0.0039 | I45: =AI45/AI44-1 -> -0.0039 | K45: =AK45/AK44-1 -> -0.43779528 | L45: =AL45/AL44-1 -> -0.19584217 | M45: =AM45/AM44-1 -> -0.006 | N45: =AN45/AN44-1 -> -0.1968996 | Q45: =AQ45/AQ44-1 -> -0.0039575849 | R45: =AR45/AR44-1 -> -0.0037625733 | S45: =AS45/AS44-1 -> -0.0037625733 | T45: =AT45/AT44-1 -> -0.004013189 | U45: =AU45/AU44-1 -> -0.004013189 | V45: =AV45/AV44-1 -> -0.004013189 | W45: =AW45/AW44-1 -> -0.0037429779 | X45: =AX45/AX44-1 -> -0.0039 | Y45: =AY45/AY44-1 -> -0.0039 | Z45: =(AE45+AF45)/AD45 -> 0.73085734 | AA45: =SUM(AQ45:AT45)/AD45 -> 0.11596062 | AB45: =(AI45+AG45)/AD45 -> 0.12604548 | AC45: =(AH45+SUM(AJ45:AP45))/AD45 -> 0.0010964847 | AD45: 30400.871 | AE45: 21388.523 | AF45: 830.17639 | AG45: 1799.9547 | AH45: 0 | AI45: 2031.9375 | AJ45: 0 | AK45: 0.70723498 | AL45: 1.5589994 | AM45: 21.590899 | AN45: 9.4769569 | AO45: 0 | AP45: 0 | AQ45: 311.20563 | AR45: 1186.5216 | AS45: 1301.7384 | AT45: 725.83805 | AU45: 624.70577 | AV45: 74.466668 | AW45: 19446.327 | AX45: 2772.3723 | AY45: 57.475015
B46: =B45+1 -> 2060 | C46: 0.07 | D46: =AD46/AD45-1 -> -0.0041 | E46: =AE46/AE45-1 -> -0.0039896765 | F46: =AF46/AF45-1 -> -0.0039896765 | G46: =AG46/AG45-1 -> -0.0041 | I46: =AI46/AI45-1 -> -0.0041 | K46: =AK46/AK45-1 -> -0.50280112 | M46: =AM46/AM45-1 -> -0.006 | N46: =AN46/AN45-1 -> -0.22119709 | Q46: =AQ46/AQ45-1 -> -0.0036545123 | R46: =AR46/AR45-1 -> -0.0039896765 | S46: =AS46/AS45-1 -> -0.0039896765 | T46: =AT46/AT45-1 -> -0.0042283934 | U46: =AU46/AU45-1 -> -0.0042283934 | V46: =AV46/AV45-1 -> -0.0042283934 | W46: =AW46/AW45-1 -> -0.0039739481 | X46: =AX46/AX45-1 -> -0.0041 | Y46: =AY46/AY45-1 -> -0.0041 | Z46: =(AE46+AF46)/AD46 -> 0.7309383 | AA46: =SUM(AQ46:AT46)/AD46 -> 0.11597119 | AB46: =(AI46+AG46)/AD46 -> 0.12604548 | AC46: =(AH46+SUM(AJ46:AP46))/AD46 -> 0.0010075821 | AD46: 30276.227 | AE46: 21303.19 | AF46: 826.86426 | AG46: 1792.5748 | AH46: 0 | AI46: 2023.6066 | AJ46: 0 | AK46: 0.35163644 | AL46: 1.3121117 | AM46: 21.461353 | AN46: 7.3806816 | AO46: 0 | AP46: 0 | AQ46: 310.06833 | AR46: 1181.7878 | AS46: 1296.5449 | AT46: 722.76892 | AU46: 622.06427 | AV46: 74.151793 | AW46: 19369.048 | AX46: 2761.0055 | AY46: 57.239368
B47: =B46+1 -> 2061 | C47: 0.07 | D47: =AD47/AD46-1 -> -0.0043 | E47: =AE47/AE46-1 -> -0.0042145701 | F47: =AF47/AF46-1 -> -0.0042145701 | G47: =AG47/AG46-1 -> -0.0043 | I47: =AI47/AI46-1 -> -0.0043 | K47: =AK47/AK46-1 -> -0.57746479 | M47: =AM47/AM46-1 -> -0.006 | Q47: =AQ47/AQ46-1 -> -0.0033512775 | R47: =AR47/AR46-1 -> -0.0042145701 | S47: =AS47/AS46-1 -> -0.0042145701 | T47: =AT47/AT46-1 -> -0.0044318478 | U47: =AU47/AU46-1 -> -0.0044318478 | V47: =AV47/AV46-1 -> -0.0044318478 | W47: =AW47/AW46-1 -> -0.0042023922 | X47: =AX47/AX46-1 -> -0.0043 | Y47: =AY47/AY46-1 -> -0.0043 | Z47: =(AE47+AF47)/AD47 -> 0.73100101 | AA47: =SUM(AQ47:AT47)/AD47 -> 0.11598481 | AB47: =(AI47+AG47)/AD47 -> 0.12604548 | AC47: =(AH47+SUM(AJ47:AP47))/AD47 -> 0.00093403209 | AD47: 30146.039 | AE47: 21213.406 | AF47: 823.37938 | AG47: 1784.8668 | AH47: 0 | AI47: 2014.9051 | AJ47: 0 | AK47: 0.14857878 | AL47: 1.1059379 | AM47: 21.332585 | AN47: 5.5702663 | AO47: 0 | AP47: 0 | AQ47: 309.0292 | AR47: 1176.8071 | AS47: 1291.0805 | AT47: 719.56572 | AU47: 619.30737 | AV47: 73.823164 | AW47: 19287.652 | AX47: 2749.1332 | AY47: 56.993239
B48: =B47+1 -> 2062 | C48: 0.07 | D48: =AD48/AD47-1 -> -0.0044 | E48: =AE48/AE47-1 -> -0.0043345291 | F48: =AF48/AF47-1 -> -0.0043345291 | G48: =AG48/AG47-1 -> -0.0044 | I48: =AI48/AI47-1 -> -0.0044 | K48: =AK48/AK47-1 -> -0.66 | M48: =AM48/AM47-1 -> -0.006 | Q48: =AQ48/AQ47-1 -> -0.003048102 | R48: =AR48/AR47-1 -> -0.0043345291 | S48: =AS48/AS47-1 -> -0.0043345291 | T48: =AT48/AT47-1 -> -0.0045353505 | U48: =AU48/AU47-1 -> -0.0045353505 | V48: =AV48/AV47-1 -> -0.0045353505 | W48: =AW48/AW47-1 -> -0.0043251973 | X48: =AX48/AX47-1 -> -0.0044 | Y48: =AY48/AY47-1 -> -0.0044 | Z48: =(AE48+AF48)/AD48 -> 0.73104908 | AA48: =SUM(AQ48:AT48)/AD48 -> 0.11600086 | AB48: =(AI48+AG48)/AD48 -> 0.12604548 | AC48: =(AH48+SUM(AJ48:AP48))/AD48 -> 0.00087282893 | AD48: 30013.397 | AE48: 21121.456 | AF48: 819.81042 | AG48: 1777.0134 | AH48: 0 | AI48: 2006.0395 | AJ48: 0 | AK48: 0.050516784 | AL48: 0.90220561 | AM48: 21.20459 | AN48: 4.039249 | AO48: 0 | AP48: 0 | AQ48: 308.08725 | AR48: 1171.7062 | AS48: 1285.4843 | AT48: 716.30224 | AU48: 616.49859 | AV48: 73.48835 | AW48: 19204.229 | AX48: 2737.037 | AY48: 56.742468
B49: =B48+1 -> 2063 | C49: 0.07 | D49: =AD49/AD48-1 -> -0.0045 | E49: =AE49/AE48-1 -> -0.0044551408 | F49: =AF49/AF48-1 -> -0.0044551408 | G49: =AG49/AG48-1 -> -0.0045 | I49: =AI49/AI48-1 -> -0.0045 | K49: =AK49/AK48-1 -> -0.7254902 | M49: =AM49/AM48-1 -> -0.006 | Q49: =AQ49/AQ48-1 -> -0.003 | R49: =AR49/AR48-1 -> -0.0044551408 | S49: =AS49/AS48-1 -> -0.0044551408 | T49: =AT49/AT48-1 -> -0.0045342492 | U49: =AU49/AU48-1 -> -0.0045342492 | V49: =AV49/AV48-1 -> -0.0045342492 | W49: =AW49/AW48-1 -> -0.0044487473 | X49: =AX49/AX48-1 -> -0.0045 | Y49: =AY49/AY48-1 -> -0.0045 | Z49: =(AE49+AF49)/AD49 -> 0.73108203 | AA49: =SUM(AQ49:AT49)/AD49 -> 0.1160192 | AB49: =(AI49+AG49)/AD49 -> 0.12604548 | AC49: =(AH49+SUM(AJ49:AP49))/AD49 -> 0.00082220499 | AD49: 29878.336 | AE49: 21027.357 | AF49: 816.15805 | AG49: 1769.0168 | AH49: 0 | AI49: 1997.0123 | AJ49: 0 | AK49: 0.013867353 | AL49: 0.69074893 | AM49: 21.077362 | AN49: 2.784139 | AO49: 0 | AP49: 0 | AQ49: 307.16299 | AR49: 1166.486 | AS49: 1279.7573 | AT49: 713.05434 | AU49: 613.70324 | AV49: 73.155135 | AW49: 19118.794 | AX49: 2724.7204 | AY49: 56.487127
B50: =B49+1 -> 2064 | C50: 0.07 | D50: =AD50/AD49-1 -> -0.0047 | E50: =AE50/AE49-1 -> -0.0046804917 | F50: =AF50/AF49-1 -> -0.0046804917 | G50: =AG50/AG49-1 -> -0.0047 | I50: =AI50/AI49-1 -> -0.0047 | K50: =AK50/AK49-1 -> -0.71428571 | M50: =AM50/AM49-1 -> -0.006 | Q50: =AQ50/AQ49-1 -> -0.003 | R50: =AR50/AR49-1 -> -0.0046804917 | S50: =AS50/AS49-1 -> -0.0046804917 | T50: =AT50/AT49-1 -> -0.0044849389 | U50: =AU50/AU49-1 -> -0.0044849389 | V50: =AV50/AV49-1 -> -0.0044849389 | W50: =AW50/AW49-1 -> -0.0046777115 | X50: =AX50/AX49-1 -> -0.0047 | Y50: =AY50/AY49-1 -> -0.0047 | Z50: =(AE50+AF50)/AD50 -> 0.73109636 | AA50: =SUM(AQ50:AT50)/AD50 -> 0.11604352 | AB50: =(AI50+AG50)/AD50 -> 0.12604548 | AC50: =(AH50+SUM(AJ50:AP50))/AD50 -> 0.00077852778 | AD50: 29737.908 | AE50: 20928.938 | AF50: 812.33803 | AG50: 1760.7024 | AH50: 0 | AI50: 1987.6264 | AJ50: 0 | AK50: 0.0039621007 | AL50: 0.37439275 | AM50: 20.950898 | AN50: 1.8225349 | AO50: 0 | AP50: 0 | AQ50: 306.2415 | AR50: 1161.0263 | AS50: 1273.7674 | AT50: 709.85634 | AU50: 610.95082 | AV50: 72.827039 | AW50: 19029.362 | AX50: 2711.9142 | AY50: 56.221638
B51: =B50+1 -> 2065 | C51: 0.07 | D51: =AD51/AD50-1 -> -0.005 | E51: =AE51/AE50-1 -> -0.0050152956 | F51: =AF51/AF50-1 -> -0.0050152956 | G51: =AG51/AG50-1 -> -0.005 | I51: =AI51/AI50-1 -> -0.005 | K51: =AK51/AK50-1 -> -0.25 | M51: =AM51/AM50-1 -> -0.006 | Q51: =AQ51/AQ50-1 -> -0.003 | R51: =AR51/AR50-1 -> -0.0050152956 | S51: =AS51/AS50-1 -> -0.0050152956 | T51: =AT51/AT50-1 -> -0.0044743974 | U51: =AU51/AU50-1 -> -0.0044743974 | V51: =AV51/AV50-1 -> -0.0044743974 | W51: =AW51/AW50-1 -> -0.0050174754 | X51: =AX51/AX50-1 -> -0.005 | Y51: =AY51/AY50-1 -> -0.005 | Z51: =(AE51+AF51)/AD51 -> 0.73108512 | AA51: =SUM(AQ51:AT51)/AD51 -> 0.11607557 | AB51: =(AI51+AG51)/AD51 -> 0.12604548 | AC51: =(AH51+SUM(AJ51:AP51))/AD51 -> 0.0007456168 | AD51: 29589.219 | AE51: 20823.973 | AF51: 808.26391 | AG51: 1751.8989 | AH51: 0 | AI51: 1977.6882 | AJ51: 0 | AK51: 0.0029715755 | AL51: 0.13078411 | AM51: 20.825192 | AN51: 1.1032704 | AO51: 0 | AP51: 0 | AQ51: 305.32277 | AR51: 1155.2034 | AS51: 1267.3791 | AT51: 706.68016 | AU51: 608.21718 | AV51: 72.501182 | AW51: 18933.883 | AX51: 2698.3546 | AY51: 55.94053
B52: =B51+1 -> 2066 | C52: 0.07 | D52: =AD52/AD51-1 -> -0.0054 | E52: =AE52/AE51-1 -> -0.0054615524 | F52: =AF52/AF51-1 -> -0.0054615524 | G52: =AG52/AG51-1 -> -0.0054 | I52: =AI52/AI51-1 -> -0.0054 | K52: =AK52/AK51-1 -> -0.33333333 | M52: =AM52/AM51-1 -> -0.006 | Q52: =AQ52/AQ51-1 -> -0.003 | R52: =AR52/AR51-1 -> -0.0054615524 | S52: =AS52/AS51-1 -> -0.0054615524 | T52: =AT52/AT51-1 -> -0.0044900955 | U52: =AU52/AU51-1 -> -0.0044900955 | V52: =AV52/AV51-1 -> -0.0044900955 | W52: =AW52/AW51-1 -> -0.0054703245 | X52: =AX52/AX51-1 -> -0.0054 | Y52: =AY52/AY51-1 -> -0.0054 | Z52: =(AE52+AF52)/AD52 -> 0.73103987 | AA52: =SUM(AQ52:AT52)/AD52 -> 0.11611725 | AB52: =(AI52+AG52)/AD52 -> 0.12604548 | AC52: =(AH52+SUM(AJ52:AP52))/AD52 -> 0.00072832115 | AD52: 29429.437 | AE52: 20710.242 | AF52: 803.84953 | AG52: 1742.4387 | AH52: 0 | AI52: 1967.0087 | AJ52: 0 | AK52: 0.0019810504 | AL52: 0.078559333 | AM52: 20.700241 | AN52: 0.65329968 | AO52: 0 | AP52: 0 | AQ52: 304.4068 | AR52: 1148.8942 | AS52: 1260.4572 | AT52: 703.5071 | AU52: 605.48623 | AV52: 72.175645 | AW52: 18830.308 | AX52: 2683.7835 | AY52: 55.638451
B53: =B52+1 -> 2067 | C53: 0.07 | D53: =AD53/AD52-1 -> -0.0052 | E53: =AE53/AE52-1 -> -0.0052508679 | F53: =AF53/AF52-1 -> -0.0052508679 | G53: =AG53/AG52-1 -> -0.0052 | I53: =AI53/AI52-1 -> -0.0052 | K53: =AK53/AK52-1 -> -0.5 | M53: =AM53/AM52-1 -> -0.006 | Q53: =AQ53/AQ52-1 -> -0.003 | R53: =AR53/AR52-1 -> -0.0052508679 | S53: =AS53/AS52-1 -> -0.0052508679 | T53: =AT53/AT52-1 -> -0.004567964 | U53: =AU53/AU52-1 -> -0.004567964 | V53: =AV53/AV52-1 -> -0.004567964 | W53: =AW53/AW52-1 -> -0.0052581178 | X53: =AX53/AX52-1 -> -0.0052 | Y53: =AY53/AY52-1 -> -0.0052 | Z53: =(AE53+AF53)/AD53 -> 0.73100249 | AA53: =SUM(AQ53:AT53)/AD53 -> 0.11615113 | AB53: =(AI53+AG53)/AD53 -> 0.12604548 | AC53: =(AH53+SUM(AJ53:AP53))/AD53 -> 0.00071735145 | AD53: 29276.404 | AE53: 20601.495 | AF53: 799.62863 | AG53: 1733.378 | AH53: 0 | AI53: 1956.7803 | AJ53: 0 | AK53: 0.00099052518 | AL53: 0.047594477 | AM53: 20.57604 | AN53: 0.37684597 | AO53: 0 | AP53: 0 | AQ53: 303.49358 | AR53: 1142.8615 | AS53: 1253.8387 | AT53: 700.2935 | AU53: 602.72039 | AV53: 71.845949 | AW53: 18731.296 | AX53: 2669.8278 | AY53: 55.349131
B54: =B53+1 -> 2068 | C54: 0.07 | D54: =AD54/AD53-1 -> -0.005 | E54: =AE54/AE53-1 -> -0.0050460434 | F54: =AF54/AF53-1 -> -0.0050460434 | G54: =AG54/AG53-1 -> -0.005 | I54: =AI54/AI53-1 -> -0.005 | K54: =AK54/AK53-1 -> 0 | M54: =AM54/AM53-1 -> -0.006 | Q54: =AQ54/AQ53-1 -> -0.0025 | R54: =AR54/AR53-1 -> -0.0050460434 | S54: =AS54/AS53-1 -> -0.0050460434 | T54: =AT54/AT53-1 -> -0.0045918943 | U54: =AU54/AU53-1 -> -0.0045918943 | V54: =AV54/AV53-1 -> -0.0045918943 | W54: =AW54/AW53-1 -> -0.0050526062 | X54: =AX54/AX53-1 -> -0.005 | Y54: =AY54/AY53-1 -> -0.005 | Z54: =(AE54+AF54)/AD54 -> 0.73096866 | AA54: =SUM(AQ54:AT54)/AD54 -> 0.1161832 | AB54: =(AI54+AG54)/AD54 -> 0.12604548 | AC54: =(AH54+SUM(AJ54:AP54))/AD54 -> 0.00070979954 | AD54: 29130.022 | AE54: 20497.539 | AF54: 795.59367 | AG54: 1724.7111 | AH54: 0 | AI54: 1946.9964 | AJ54: 0 | AK54: 0.00099052518 | AL54: 0.022397488 | AM54: 20.452584 | AN54: 0.20050452 | AO54: 0 | AP54: 0 | AQ54: 302.73485 | AR54: 1137.0946 | AS54: 1247.5118 | AT54: 697.07783 | AU54: 599.95276 | AV54: 71.51604 | AW54: 18636.654 | AX54: 2656.4787 | AY54: 55.072385
B55: =B54+1 -> 2069 | C55: 0.07 | D55: =AD55/AD54-1 -> -0.0051 | E55: =AE55/AE54-1 -> -0.005154518 | F55: =AF55/AF54-1 -> -0.005154518 | G55: =AG55/AG54-1 -> -0.0051 | I55: =AI55/AI54-1 -> -0.0051 | K55: =AK55/AK54-1 -> -1 | M55: =AM55/AM54-1 -> -0.006 | Q55: =AQ55/AQ54-1 -> -0.0025 | R55: =AR55/AR54-1 -> -0.005154518 | S55: =AS55/AS54-1 -> -0.005154518 | T55: =AT55/AT54-1 -> -0.0046235139 | U55: =AU55/AU54-1 -> -0.0046235139 | V55: =AV55/AV54-1 -> -0.0046235139 | W55: =AW55/AW54-1 -> -0.005162289 | X55: =AX55/AX54-1 -> -0.0051 | Y55: =AY55/AY54-1 -> -0.0051 | Z55: =(AE55+AF55)/AD55 -> 0.73092861 | AA55: =SUM(AQ55:AT55)/AD55 -> 0.11621733 | AB55: =(AI55+AG55)/AD55 -> 0.12604548 | AC55: =(AH55+SUM(AJ55:AP55))/AD55 -> 0.00070484775 | AD55: 28981.459 | AE55: 20391.884 | AF55: 791.49276 | AG55: 1715.9151 | AH55: 0 | AI55: 1937.0667 | AJ55: 0 | AK55: 0 | AL55: 0.011197107 | AM55: 20.329868 | AN55: 0.086450601 | AO55: 0 | AP55: 0 | AQ55: 301.97801 | AR55: 1131.2334 | AS55: 1241.0815 | AT55: 693.85488 | AU55: 597.17887 | AV55: 71.185385 | AW55: 18540.447 | AX55: 2642.9306 | AY55: 54.791516
B56: =B55+1 -> 2070 | C56: 0.07 | D56: =AD56/AD55-1 -> -0.004 | E56: =AE56/AE55-1 -> -0.0039776528 | F56: =AF56/AF55-1 -> -0.0039776528 | G56: =AG56/AG55-1 -> -0.004 | I56: =AI56/AI55-1 -> -0.004 | M56: =AM56/AM55-1 -> -0.006 | Q56: =AQ56/AQ55-1 -> -0.0025 | R56: =AR56/AR55-1 -> -0.0039776528 | S56: =AS56/AS55-1 -> -0.0039776528 | T56: =AT56/AT55-1 -> -0.0046404963 | U56: =AU56/AU55-1 -> -0.0046404963 | V56: =AV56/AV55-1 -> -0.0046404963 | W56: =AW56/AW55-1 -> -0.0039744672 | X56: =AX56/AX55-1 -> -0.004 | Y56: =AY56/AY55-1 -> -0.004 | Z56: =(AE56+AF56)/AD56 -> 0.73094501 | AA56: =SUM(AQ56:AT56)/AD56 -> 0.11621946 | AB56: =(AI56+AG56)/AD56 -> 0.12604548 | AC56: =(AH56+SUM(AJ56:AP56))/AD56 -> 0.00070107699 | AD56: 28865.533 | AE56: 20310.773 | AF56: 788.34448 | AG56: 1709.0514 | AH56: 0 | AI56: 1929.3184 | AJ56: 0 | AK56: 0 | AL56: 0.0055909895 | AM56: 20.207889 | AN56: 0.023480886 | AO56: 0 | AP56: 0 | AQ56: 301.22307 | AR56: 1126.7338 | AS56: 1236.1449 | AT56: 690.63505 | AU56: 594.40766 | AV56: 70.855049 | AW56: 18466.758 | AX56: 2632.3589 | AY56: 54.57235

Sheet Chô_10%
B1: Hypothèses de cotisants
B3: Hypothèses de productivité : 0,4 % et taux de chômage de 10% | J3: Scénario démographique : scénario central INSEE 2026
B4: Année | C4: Taux de Cotmage BIT | D4: EMPLOI TOTAL | E4: =AE4 -> CNAV | F4: =AF4 -> MSA_SA | G4: =AG4 -> FPE civils et militaires | H4: =AH4 -> FSPOEIE | I4: =AI4 -> CNRACL | J4: =AJ4 -> CANSSM | K4: =AK4 -> SNCF | L4: =AL4 -> RATP | ... T4: =AT4 -> CNAVPL_RB + PAMC | U4: Autoentrepreneur SSI | V4: Autoentrepreneur PL | W4: AGIRC-ARRCO | X4: IRCANTEC | Y4: CRPNPAC | Z4: Part emploi salariés secteur privé | AA4: Part emploi non-salariés | AB4: Part emploi FP | AC4: PartEmploiRégimesSpéciaux | AD4: Emploi total | AE4: CNAV | AF4: MSA_SA | AG4: FPE civils et militaires | AH4: FSPOEIE | AI4: CNRACL | AJ4: CANSSM | AK4: SNCF | AL4: RATP | AM4: ENIM | AN4: CNIEG | AO4: CRPCEN | AP4: BDF | AQ4: MSA_EXA | AR4: Régime général des non salariés | AS4: Auto-entrepreneurs SSI | AT4: CNAVPL_RB + PAMC | AU4: Auto-entrepreneurs CNAVPL | AV4: CNBF_RB | AW4: AGIRC-ARRCO | AX4: IRCANTEC | AY4: CRPNPAC
B5: 2019 | Z5: =(AE5+AF5)/AD5 -> 0.72950787 | AA5: =SUM(AQ5:AT5)/AD5 -> 0.1221487 | AB5: =(AI5+AG5)/AD5 -> 0.14760355 | AC5: =(AH5+SUM(AJ5:AP5))/AD5 -> 0.015018111 | AD5: 28662 | AE5: 20127.908 | AF5: 781.24675 | AG5: 2028.58 | AH5: 23.25736 | AI5: 2202.033 | AJ5: 1.274 | AK5: 135.2512 | AL5: 41.349475 | AM5: 30.103681 | AN5: 136.624 | AO5: 53.626 | AP5: 8.9633864 | AQ5: 468.846 | AR5: 1139.6185 | AS5: 1094.1505 | AT5: 798.41102 | AU5: 460.0945 | AV5: 67.703785 | AW5: 18154.536 | AX5: 3060.8466 | AY5: 34.756
B6: =B5+1 -> 2020 | C6: 0.081 | D6: =AD6/AD5-1 -> -0.00058265299 | E6: =AE6/AE5-1 -> -0.0117 | F6: =AF6/AF5-1 -> -0.0117 | G6: =AG6/AG5-1 -> -0.0057380039 | H6: =AH6/AH5-1 -> -0.055971217 | I6: =AI6/AI5-1 -> -0.001280127 | J6: =AJ6/AJ5-1 -> -0.10361068 | K6: =AK6/AK5-1 -> -0.033145579 | ... Y6: =AY6/AY5-1 -> -0.050926459 | Z6: =(AE6+AF6)/AD6 -> 0.72139295 | AA6: =SUM(AQ6:AT6)/AD6 -> 0.11779204 | AB6: =(AI6+AG6)/AD6 -> 0.14718485 | AC6: =(AH6+SUM(AJ6:AP6))/AD6 -> 0.014762596 | AD6: 28645.3 | AE6: 19892.411 | AF6: 772.10616 | AG6: 2016.94 | AH6: 21.955617 | AI6: 2199.2141 | AJ6: 1.142 | AK6: 130.76822 | AL6: 42.095938 | AM6: 27.847 | AN6: 135.53 | AO6: 55.144 | AP6: 8.3962017 | AQ6: 461.372 | AR6: 1092.183 | AS6: 1013.8385 | AT6: 806.7949 | AU6: 507.843 | AV6: 68.442605 | AW6: 17942.128 | AX6: 3050.3856 | AY6: 32.986
B7: =B6+1 -> 2021 | C7: 0.079 | D7: =AD7/AD6-1 -> 0.026178815 | E7: =AE7/AE6-1 -> 0.021 | F7: =AF7/AF6-1 -> 0.021 | G7: =AG7/AG6-1 -> -0.005186074 | H7: =AH7/AH6-1 -> -0.065786055 | I7: =AI7/AI6-1 -> -0.0042848734 | J7: =AJ7/AJ6-1 -> -0.10157618 | K7: =AK7/AK6-1 -> -0.063161156 | ... Y7: =AY7/AY6-1 -> 0.061056206 | Z7: =(AE7+AF7)/AD7 -> 0.7177523 | AA7: =SUM(AQ7:AT7)/AD7 -> 0.11197635 | AB7: =(AI7+AG7)/AD7 -> 0.1427536 | AC7: =(AH7+SUM(AJ7:AP7))/AD7 -> 0.014170378 | AD7: 29395.2 | AE7: 20310.152 | AF7: 788.32039 | AG7: 2006.48 | AH7: 20.511243 | AI7: 2189.7908 | AJ7: 1.026 | AK7: 122.50875 | AL7: 41.742868 | AM7: 26.697 | AN7: 135.497 | AO7: 60.703 | AP7: 7.8552202 | AQ7: 455.144 | AR7: 1092.4415 | AS7: 953.7705 | AT7: 790.21134 | AU7: 502.821 | AV7: 69.363454 | AW7: 18318.912 | AX7: 3036 | AY7: 35
B8: =B7+1 -> 2022 | C8: 0.073 | D8: =AD8/AD7-1 -> 0.022748612 | E8: =AE8/AE7-1 -> 0.033 | F8: =AF8/AF7-1 -> 0.033 | G8: =AG8/AG7-1 -> -0.0065288465 | H8: =AH8/AH7-1 -> -0.071484864 | I8: =AI8/AI7-1 -> -0.00072593838 | J8: =AJ8/AJ7-1 -> -0.10818713 | K8: =AK8/AK7-1 -> -0.052457959 | ... Y8: =AY8/AY7-1 -> 0.057747984 | Z8: =(AE8+AF8)/AD8 -> 0.72494659 | AA8: =SUM(AQ8:AT8)/AD8 -> 0.11270903 | AB8: =(AI8+AG8)/AD8 -> 0.13908978 | AC8: =(AH8+SUM(AJ8:AP8))/AD8 -> 0.013720329 | AD8: 30063.9 | AE8: 20980.387 | AF8: 814.33496 | AG8: 1993.38 | AH8: 19.045 | AI8: 2188.2011 | AJ8: 0.915 | AK8: 116.08219 | AL8: 40.588261 | AM8: 28.319 | AN8: 136.279 | AO8: 63.798 | AP8: 7.4601363 | AQ8: 448.721 | AR8: 1092.2545 | AS8: 1047.5915 | AT8: 799.90594 | AU8: 591.326 | AV8: 71.046484 | AW8: 18923.436 | AX8: 3025.372 | AY8: 37.021179
B9: =B8+1 -> 2023 | C9: 0.074 | D9: =AD9/AD8-1 -> 0.011006556 | E9: =AE9/AE8-1 -> 0.013 | F9: =AF9/AF8-1 -> 0.013 | G9: =AG9/AG8-1 -> 0.0092606528 | H9: =AH9/AH8-1 -> -0.07912838 | I9: =AI9/AI8-1 -> -0.019975015 | J9: =AJ9/AJ8-1 -> -0.15510018 | K9: =AK9/AK8-1 -> -0.027602801 | ... Y9: =AY9/AY8-1 -> 0.054439763 | Z9: =(AE9+AF9)/AD9 -> 0.726376 | AA9: =SUM(AQ9:AT9)/AD9 -> 0.11342292 | AB9: =(AI9+AG9)/AD9 -> 0.13674483 | AC9: =(AH9+SUM(AJ9:AP9))/AD9 -> 0.013243045 | AD9: 30394.8 | AE9: 21253.132 | AF9: 824.92131 | AG9: 2011.84 | AH9: 17.538 | AI9: 2144.4918 | AJ9: 0.77308333 | AK9: 112.878 | AL9: 41.064 | AM9: 24.8 | AN9: 137.99847 | AO9: 60.303 | AP9: 7.1651363 | AQ9: 442.105 | AR9: 1086.696 | AS9: 1105.7255 | AT9: 812.9405 | AU9: 656.0225 | AV9: 74.921 | AW9: 19169.441 | AX9: 3007.1041 | AY9: 39.036604
B10: =B9+1 -> 2024 | C10: 0.074 | D10: =AD10/AD9-1 -> 0.0075177333 | E10: =AE10/AE9-1 -> 0.004 | F10: =AF10/AF9-1 -> 0.004 | G10: =AG10/AG9-1 -> -0.020389295 | H10: =AH10/AH9-1 -> -0.06505873 | I10: =AI10/AI9-1 -> 0.0033559264 | J10: =AJ10/AJ9-1 -> -0.095289425 | K10: =AK10/AK9-1 -> -0.032016868 | ... Y10: =AY10/AY9-1 -> 0.051131542 | Z10: =(AE10+AF10)/AD10 -> 0.72383987 | AA10: =SUM(AQ10:AT10)/AD10 -> 0.11499577 | AB10: =(AI10+AG10)/AD10 -> 0.13462 | AC10: =(AH10+SUM(AJ10:AP10))/AD10 -> 0.012559744 | AD10: 30623.3 | AE10: 21338.144 | AF10: 828.221 | AG10: 1970.82 | AH10: 16.397 | AI10: 2151.6885 | AJ10: 0.69941667 | AK10: 109.264 | AL10: 37.258 | AM10: 25.22 | AN10: 134.94625 | AO10: 53.826 | AP10: 7.0101363 | AQ10: 431.497 | AR10: 1078.1665 | AS10: 1182.8615 | AT10: 829.025 | AU10: 713.5155 | AV10: 75.701 | AW10: 19246.119 | AX10: 2982.633 | AY10: 41.032605
B11: =B10+1 -> 2025 | C11: 0.0768 | D11: =AD11/AD10-1 -> 0.0021 | E11: =AE11/AE10-1 -> -0.00093015088 | F11: =AF11/AF10-1 -> -0.00093015088 | G11: =AG11/AG10-1 -> -0.0089201449 | H11: =AH11/AH10-1 -> -0.064251884 | I11: =AI11/AI10-1 -> -0.0027280211 | J11: =AJ11/AJ10-1 -> -0.06286454 | K11: =AK11/AK10-1 -> -0.0305041 | ... Y11: =AY11/AY10-1 -> 0.04782332 | Z11: =(AE11+AF11)/AD11 -> 0.72165112 | AA11: =SUM(AQ11:AT11)/AD11 -> 0.11711812 | AB11: =(AI11+AG11)/AD11 -> 0.13357374 | AC11: =(AH11+SUM(AJ11:AP11))/AD11 -> 0.012144527 | AD11: 30687.609 | AE11: 21318.297 | AF11: 827.45063 | AG11: 1953.24 | AH11: 15.343462 | AI11: 2145.8187 | AJ11: 0.65544816 | AK11: 105.931 | AL11: 35.411141 | AM11: 24.862986 | AN11: 132.24733 | AO11: 51.625 | AP11: 6.6101363 | AQ11: 423.40252 | AR11: 1119.6714 | AS11: 1228.3967 | AT11: 822.60463 | AU11: 707.98969 | AV11: 77.164 | AW11: 19228.217 | AX11: 2965.6671 | AY11: 42.994921
B12: =B11+1 -> 2026 | C12: 0.0807 | D12: =AD12/AD11-1 -> 0.0005 | E12: =AE12/AE11-1 -> -0.0030156474 | F12: =AF12/AF11-1 -> -0.0030156474 | G12: =AG12/AG11-1 -> -0.0032151707 | H12: =AH12/AH11-1 -> -0.064018571 | I12: =AI12/AI11-1 -> 0.0002330113 | J12: =AJ12/AJ11-1 -> -0.066896635 | K12: =AK12/AK11-1 -> -0.03 | ... Y12: =AY12/AY11-1 -> 0.044515099 | Z12: =(AE12+AF12)/AD12 -> 0.71911532 | AA12: =SUM(AQ12:AT12)/AD12 -> 0.11861636 | AB12: =(AI12+AG12)/AD12 -> 0.13331873 | AC12: =(AH12+SUM(AJ12:AP12))/AD12 -> 0.011751157 | AD12: 30702.953 | AE12: 21254.008 | AF12: 824.95533 | AG12: 1946.96 | AH12: 14.361195 | AI12: 2146.3187 | AJ12: 0.61160088 | AK12: 102.75307 | AL12: 34.326248 | AM12: 25.08311 | AN12: 129.0146 | AO12: 48.42425 | AP12: 6.2211363 | AQ12: 416.47128 | AR12: 1149.3902 | AS12: 1261.0014 | AT12: 815.00957 | AU12: 701.45286 | AV12: 78.318678 | AW12: 19170.232 | AX12: 2961.4853 | AY12: 44.908844
B13: =B12+1 -> 2027 | C13: 0.0824 | D13: =AD13/AD12-1 -> 0.0012 | E13: =AE13/AE12-1 -> -0.0021038341 | F13: =AF13/AF12-1 -> -0.0021038341 | G13: =AG13/AG12-1 -> -0.0030817274 | H13: =AH13/AH12-1 -> -0.065464823 | I13: =AI13/AI12-1 -> 0.00023295702 | J13: =AJ13/AJ12-1 -> -0.067646744 | K13: =AK13/AK12-1 -> -0.03 | ... Y13: =AY13/AY12-1 -> 0.041206878 | Z13: =(AE13+AF13)/AD13 -> 0.71674233 | AA13: =SUM(AQ13:AT13)/AD13 -> 0.11989122 | AB13: =(AI13+AG13)/AD13 -> 0.13298002 | AC13: =(AH13+SUM(AJ13:AP13))/AD13 -> 0.011366729 | AD13: 30739.796 | AE13: 21209.293 | AF13: 823.21976 | AG13: 1940.96 | AH13: 13.421042 | AI13: 2146.8187 | AJ13: 0.57022808 | AK13: 99.670478 | AL13: 33.112301 | AM13: 25.331847 | AN13: 125.88425 | AO13: 45.615643 | AP13: 5.8051363 | AQ13: 410.31588 | AR13: 1176.5789 | AS13: 1290.8302 | AT13: 807.7067 | AU13: 695.16751 | AV13: 79.441654 | AW13: 19129.901 | AX13: 2957.506 | AY13: 46.759397
B14: =B13+1 -> 2028 | C14: 0.0811 | D14: =AD14/AD13-1 -> 0.0038 | E14: =AE14/AE13-1 -> 0.0028358246 | F14: =AF14/AF13-1 -> 0.0028358246 | G14: =AG14/AG13-1 -> -0.0023081362 | H14: =AH14/AH13-1 -> -0.079451228 | I14: =AI14/AI13-1 -> 0 | J14: =AJ14/AJ13-1 -> -0.07244246 | K14: =AK14/AK13-1 -> -0.03 | ... Y14: =AY14/AY13-1 -> 0.037898656 | Z14: =(AE14+AF14)/AD14 -> 0.71605388 | AA14: =SUM(AQ14:AT14)/AD14 -> 0.11926386 | AB14: =(AI14+AG14)/AD14 -> 0.13233142 | AC14: =(AH14+SUM(AJ14:AP14))/AD14 -> 0.010969635 | AD14: 30856.608 | AE14: 21269.439 | AF14: 825.55427 | AG14: 1936.48 | AH14: 12.354724 | AI14: 2146.8187 | AJ14: 0.52891935 | AK14: 96.680364 | AL14: 31.882127 | AM14: 25.609197 | AN14: 123.01691 | AO14: 42.878705 | AP14: 5.5347662 | AQ14: 404.98553 | AR14: 1179.9155 | AS14: 1294.4908 | AT14: 800.68615 | AU14: 689.12515 | AV14: 80.518599 | AW14: 19184.15 | AX14: 2954.2647 | AY14: 48.531516
B15: =B14+1 -> 2029 | C15: 0.0795 | D15: =AD15/AD14-1 -> 0.0044 | E15: =AE15/AE14-1 -> 0.0039954494 | F15: =AF15/AF14-1 -> 0.0039954494 | G15: =AG15/AG14-1 -> -0.0022515079 | H15: =AH15/AH14-1 -> -0.095162683 | I15: =AI15/AI14-1 -> 0 | J15: =AJ15/AJ14-1 -> -0.079039645 | K15: =AK15/AK14-1 -> -0.03 | ... Y15: =AY15/AY14-1 -> 0.034590435 | Z15: =(AE15+AF15)/AD15 -> 0.71576547 | AA15: =SUM(AQ15:AT15)/AD15 -> 0.11868991 | AB15: =(AI15+AG15)/AD15 -> 0.13161103 | AC15: =(AH15+SUM(AJ15:AP15))/AD15 -> 0.010570323 | AD15: 30992.377 | AE15: 21354.42 | AF15: 828.85273 | AG15: 1932.12 | AH15: 11.179015 | AI15: 2146.8187 | AJ15: 0.48711375 | AK15: 93.779953 | AL15: 30.758881 | AM15: 25.91516 | AN15: 120.0993 | AO15: 40.134468 | AP15: 5.2455507 | AQ15: 400.24673 | AR15: 1184.6298 | AS15: 1299.6629 | AT15: 793.94298 | AU15: 683.32152 | AV15: 81.453829 | AW15: 19260.799 | AX15: 2951.1103 | AY15: 50.210242
B16: =B15+1 -> 2030 | C16: 0.0806 | D16: =AD16/AD15-1 -> 0.0025 | E16: =AE16/AE15-1 -> 0.0033323833 | F16: =AF16/AF15-1 -> 0.0033323833 | G16: =AG16/AG15-1 -> -0.002204832 | H16: =AH16/AH15-1 -> 0 | I16: =AI16/AI15-1 -> 0 | J16: =AJ16/AJ15-1 -> -0.10465116 | K16: =AK16/AK15-1 -> -0.030915639 | ... Y16: =AY16/AY15-1 -> 0.031282214 | Z16: =(AE16+AF16)/AD16 -> 0.71635977 | AA16: =SUM(AQ16:AT16)/AD16 -> 0.11806994 | AB16: =(AI16+AG16)/AD16 -> 0.13114571 | AC16: =(AH16+SUM(AJ16:AP16))/AD16 -> 0.010233157 | AD16: 31069.858 | AE16: 21425.581 | AF16: 831.61478 | AG16: 1927.86 | AH16: 11.179015 | AI16: 2146.8187 | AJ16: 0.43613673 | AK16: 90.880685 | AL16: 29.747853 | AM16: 25.707839 | AN16: 117.37617 | AO16: 37.671525 | AP16: 4.9435203 | AQ16: 395.194 | AR16: 1188.5774 | AS16: 1303.9938 | AT16: 780.65105 | AU16: 671.88157 | AV16: 80.090155 | AW16: 19324.983 | AX16: 2948.0282 | AY16: 51.780929
B17: =B16+1 -> 2031 | C17: 0.0818 | D17: =AD17/AD16-1 -> 0.0027 | E17: =AE17/AE16-1 -> 0.0044412153 | F17: =AF17/AF16-1 -> 0.0044412153 | G17: =AG17/AG16-1 -> -0.0020022201 | H17: =AH17/AH16-1 -> -0.13139757 | I17: =AI17/AI16-1 -> 0 | J17: =AJ17/AJ16-1 -> -0.10822511 | K17: =AK17/AK16-1 -> -0.032435967 | ... Y17: =AY17/AY16-1 -> 0.027973992 | Z17: =(AE17+AF17)/AD17 -> 0.71760375 | AA17: =SUM(AQ17:AT17)/AD17 -> 0.11762085 | AB17: =(AI17+AG17)/AD17 -> 0.13066867 | AC17: =(AH17+SUM(AJ17:AP17))/AD17 -> 0.0098447914 | AD17: 31153.746 | AE17: 21520.737 | AF17: 835.30816 | AG17: 1924 | AH17: 9.7101198 | AI17: 2146.8187 | AJ17: 0.38893579 | AK17: 87.932883 | AL17: 28.681816 | AM17: 25.553592 | AN17: 114.59856 | AO17: 35.223886 | AP17: 4.6123421 | AQ17: 390.31989 | AR17: 1193.8562 | AS17: 1309.7852 | AT17: 770.369 | AU17: 663.03214 | AV17: 79.035278 | AW17: 19410.81 | AX17: 2945.2355 | AY17: 53.229449
... B30: =B29+1 -> 2044 | C30: 0.1 | D30: =AD30/AD29-1 -> -0.0013 | E30: =AE30/AE29-1 -> -0.00094094129 | F30: =AF30/AF29-1 -> -0.00094094129 | G30: =AG30/AG29-1 -> -0.0014573878 | H30: =AH30/AH29-1 -> -0.29213322 | I30: =AI30/AI29-1 -> -0.0013 | J30: =AJ30/AJ29-1 -> -0.15517241 | K30: =AK30/AK29-1 -> -0.088882109 | ... Y30: =AY30/AY29-1 -> -0.0013 | Z30: =(AE30+AF30)/AD30 -> 0.72545815 | AA30: =SUM(AQ30:AT30)/AD30 -> 0.11640636 | AB30: =(AI30+AG30)/AD30 -> 0.13025255 | AC30: =(AH30+SUM(AJ30:AP30))/AD30 -> 0.0046141534 | AD30: 31016.641 | AE30: 21660.54 | AF30: 840.7345 | AG30: 1897.8984 | AH30: 0.71664535 | AI30: 2142.0982 | AJ30: 0.046256926 | AK30: 35.497451 | AL30: 14.189346 | AM30: 23.630611 | AN30: 67.639937 | AO30: 0 | AP30: 1.3952905 | AQ30: 341.01821 | AR30: 1201.6117 | AS30: 1318.2938 | AT30: 749.61055 | AU30: 645.166 | AV30: 76.905584 | AW30: 19578.339 | AX30: 2922.9357 | AY30: 58.83293
B31: =B30+1 -> 2045 | C31: 0.1 | D31: =AD31/AD30-1 -> -0.0017 | E31: =AE31/AE30-1 -> -0.0014193296 | F31: =AF31/AF30-1 -> -0.0014193296 | G31: =AG31/AG30-1 -> -0.0017839813 | H31: =AH31/AH30-1 -> -0.30360265 | I31: =AI31/AI30-1 -> -0.0017 | J31: =AJ31/AJ30-1 -> -0.18367347 | K31: =AK31/AK30-1 -> -0.091776655 | ... N31: =AN31/AN30-1 -> -0.057007173 | P31: =AP31/AP30-1 -> -0.18891095 | Q31: =AQ31/AQ30-1 -> -0.0081991774 | R31: =AR31/AR30-1 -> -0.0014193296 | S31: =AS31/AS30-1 -> -0.0014193296 | T31: =AT31/AT30-1 -> 0.00086794122 | U31: =AU31/AU30-1 -> 0.00086794122 | V31: =AV31/AV30-1 -> 0.00086794122 | W31: =AW31/AW30-1 -> -0.0013715371 | ... Y31: =AY31/AY30-1 -> -0.0017 | Z31: =(AE31+AF31)/AD31 -> 0.72566211 | AA31: =SUM(AQ31:AT31)/AD31 -> 0.11641979 | AB31: =(AI31+AG31)/AD31 -> 0.1302474 | AC31: =(AH31+SUM(AJ31:AP31))/AD31 -> 0.0043420278 | AD31: 30963.913 | AE31: 21629.797 | AF31: 839.54122 | AG31: 1894.5126 | AH31: 0.49906992 | AI31: 2138.4566 | AJ31: 0.037760756 | AK31: 32.239614 | AL31: 13.265217 | AM31: 23.488827 | AN31: 63.783975 | AO31: 0 | AP31: 1.1317049 | AQ31: 338.22214 | AR31: 1199.9062 | AS31: 1316.4227 | AT31: 750.26116 | AU31: 645.72597 | AV31: 76.972334 | AW31: 19551.487 | AX31: 2917.8514 | AY31: 58.732914
B32: =B31+1 -> 2046 | C32: 0.1 | D32: =AD32/AD31-1 -> -0.0027 | E32: =AE32/AE31-1 -> -0.0024770076 | F32: =AF32/AF31-1 -> -0.0024770076 | G32: =AG32/AG31-1 -> -0.0027313854 | H32: =AH32/AH31-1 -> -0.32312039 | I32: =AI32/AI31-1 -> -0.0027 | J32: =AJ32/AJ31-1 -> -0.225 | K32: =AK32/AK31-1 -> -0.099852526 | ... N32: =AN32/AN31-1 -> -0.06140147 | P32: =AP32/AP31-1 -> -0.22802557 | Q32: =AQ32/AQ31-1 -> -0.0078974145 | R32: =AR32/AR31-1 -> -0.0024770076 | S32: =AS32/AS31-1 -> -0.0024770076 | T32: =AT32/AT31-1 -> 0.00039065043 | U32: =AU32/AU31-1 -> 0.00039065043 | V32: =AV32/AV31-1 -> 0.00039065043 | W32: =AW32/AW31-1 -> -0.0024415281 | ... Y32: =AY32/AY31-1 -> -0.0027 | Z32: =(AE32+AF32)/AD32 -> 0.72582436 | AA32: =SUM(AQ32:AT32)/AD32 -> 0.11645613 | AB32: =(AI32+AG32)/AD32 -> 0.13024548 | AC32: =(AH32+SUM(AJ32:AP32))/AD32 -> 0.0040730345 | AD32: 30880.31 | AE32: 21576.22 | AF32: 837.46167 | AG32: 1889.338 | AH32: 0.33781025 | AI32: 2132.6828 | AJ32: 0.029264586 | AK32: 29.020407 | AL32: 12.299998 | AM32: 23.347894 | AN32: 59.867546 | AO32: 0 | AP32: 0.87364722 | AQ32: 335.55106 | AR32: 1196.934 | AS32: 1313.1619 | AT32: 750.55425 | AU32: 645.97822 | AV32: 77.002403 | AW32: 19503.751 | AX32: 2909.9302 | AY32: 58.574335
B33: =B32+1 -> 2047 | C33: 0.1 | D33: =AD33/AD32-1 -> -0.0028 | E33: =AE33/AE32-1 -> -0.0025520203 | F33: =AF33/AF32-1 -> -0.0025520203 | G33: =AG33/AG32-1 -> -0.0028103782 | H33: =AH33/AH32-1 -> -0.34424981 | I33: =AI33/AI32-1 -> -0.0028 | J33: =AJ33/AJ32-1 -> -0.19354839 | K33: =AK33/AK32-1 -> -0.11215783 | ... N33: =AN33/AN32-1 -> -0.06682223 | P33: =AP33/AP32-1 -> -0.28416274 | Q33: =AQ33/AQ32-1 -> -0.0075946988 | R33: =AR33/AR32-1 -> -0.0025520203 | S33: =AS33/AS32-1 -> -0.0025520203 | T33: =AT33/AT32-1 -> -0.00022017434 | U33: =AU33/AU32-1 -> -0.00022017434 | V33: =AV33/AV32-1 -> -0.00022017434 | W33: =AW33/AW32-1 -> -0.0025142947 | ... Y33: =AY33/AY32-1 -> -0.0028 | Z33: =(AE33+AF33)/AD33 -> 0.72600486 | AA33: =SUM(AQ33:AT33)/AD33 -> 0.11648697 | AB33: =(AI33+AG33)/AD33 -> 0.13024484 | AC33: =(AH33+SUM(AJ33:AP33))/AD33 -> 0.0038017629 | AD33: 30793.845 | AE33: 21521.157 | AF33: 835.32445 | AG33: 1884.0282 | AH33: 0.22151914 | AI33: 2126.7113 | AJ33: 0.023600473 | AK33: 25.765541 | AL33: 11.35998 | AM33: 23.207807 | AN33: 55.867063 | AO33: 0 | AP33: 0.62538923 | AQ33: 333.00265 | AR33: 1193.8794 | AS33: 1309.8107 | AT33: 750.389 | AU33: 645.83599 | AV33: 76.985449 | AW33: 19454.713 | AX33: 2901.7682 | AY33: 58.410327
B34: =B33+1 -> 2048 | C34: 0.1 | D34: =AD34/AD33-1 -> -0.0032 | E34: =AE34/AE33-1 -> -0.0029486301 | F34: =AF34/AF33-1 -> -0.0029486301 | G34: =AG34/AG33-1 -> -0.0031997962 | H34: =AH34/AH33-1 -> -0.37485386 | I34: =AI34/AI33-1 -> -0.0032 | J34: =AJ34/AJ33-1 -> -0.2 | K34: =AK34/AK33-1 -> -0.12613409 | ... N34: =AN34/AN33-1 -> -0.074212114 | P34: =AP34/AP33-1 -> -0.43352817 | Q34: =AQ34/AQ33-1 -> -0.0072937988 | R34: =AR34/AR33-1 -> -0.0029486301 | S34: =AS34/AS33-1 -> -0.0029486301 | T34: =AT34/AT33-1 -> -0.00077424252 | U34: =AU34/AU33-1 -> -0.00077424252 | V34: =AV34/AV33-1 -> -0.00077424252 | W34: =AW34/AW33-1 -> -0.0029111512 | ... Y34: =AY34/AY33-1 -> -0.0032 | Z34: =(AE34+AF34)/AD34 -> 0.72618794 | AA34: =SUM(AQ34:AT34)/AD34 -> 0.11652236 | AB34: =(AI34+AG34)/AD34 -> 0.13024485 | AC34: =(AH34+SUM(AJ34:AP34))/AD34 -> 0.0035261572 | AD34: 30695.305 | AE34: 21457.699 | AF34: 832.86139 | AG34: 1877.9997 | AH34: 0.13848183 | AI34: 2119.9058 | AJ34: 0.018880378 | AK34: 22.515628 | AL34: 10.419605 | AM34: 23.06856 | AN34: 51.72105 | AO34: 0 | AP34: 0.35426538 | AQ34: 330.5738 | AR34: 1190.3591 | AS34: 1305.9486 | AT34: 749.80802 | AU34: 645.33596 | AV34: 76.925844 | AW34: 19398.077 | AX34: 2892.4828 | AY34: 58.223414
B35: =B34+1 -> 2049 | C35: 0.1 | D35: =AD35/AD34-1 -> -0.0032 | E35: =AE35/AE34-1 -> -0.0029168782 | F35: =AF35/AF34-1 -> -0.0029168782 | G35: =AG35/AG34-1 -> -0.0031997955 | H35: =AH35/AH34-1 -> -0.43326323 | I35: =AI35/AI34-1 -> -0.0032 | J35: =AJ35/AJ34-1 -> -0.25 | K35: =AK35/AK34-1 -> -0.14174475 | ... N35: =AN35/AN34-1 -> -0.083760972 | P35: =AP35/AP34-1 -> -0.78233556 | Q35: =AQ35/AQ34-1 -> -0.0069891095 | R35: =AR35/AR34-1 -> -0.0029168782 | S35: =AS35/AS34-1 -> -0.0029168782 | T35: =AT35/AT34-1 -> -0.0012544408 | U35: =AU35/AU34-1 -> -0.0012544408 | V35: =AV35/AV34-1 -> -0.0012544408 | W35: =AW35/AW34-1 -> -0.0028746757 | ... Y35: =AY35/AY34-1 -> -0.0032 | Z35: =(AE35+AF35)/AD35 -> 0.7263942 | AA35: =SUM(AQ35:AT35)/AD35 -> 0.1165522 | AB35: =(AI35+AG35)/AD35 -> 0.13024487 | AC35: =(AH35+SUM(AJ35:AP35))/AD35 -> 0.0032441235 | AD35: 30597.08 | AE35: 21395.109 | AF35: 830.43203 | AG35: 1871.9905 | AH35: 0.078482747 | AI35: 2113.1221 | AJ35: 0.014160284 | AK35: 19.324156 | AL35: 9.4478038 | AM35: 22.930149 | AN35: 47.388844 | AO35: 0 | AP35: 0.077110975 | AQ35: 328.26338 | AR35: 1186.887 | AS35: 1302.1393 | AT35: 748.86743 | AU35: 644.52642 | AV35: 76.829345 | AW35: 19342.314 | AX35: 2883.2272 | AY35: 58.037099
B36: =B35+1 -> 2050 | C36: 0.1 | D36: =AD36/AD35-1 -> -0.0038 | E36: =AE36/AE35-1 -> -0.0035478397 | F36: =AF36/AF35-1 -> -0.0035478397 | G36: =AG36/AG35-1 -> -0.0037997564 | H36: =AH36/AH35-1 -> -0.49614539 | I36: =AI36/AI35-1 -> -0.0038 | J36: =AJ36/AJ35-1 -> -0.33333333 | K36: =AK36/AK35-1 -> -0.15925983 | ... N36: =AN36/AN35-1 -> -0.096995618 | P36: =AP36/AP35-1 -> -1 | Q36: =AQ36/AQ35-1 -> -0.0066845382 | R36: =AR36/AR35-1 -> -0.0035478397 | S36: =AS36/AS35-1 -> -0.0035478397 | T36: =AT36/AT35-1 -> -0.0016557211 | U36: =AU36/AU35-1 -> -0.0016557211 | V36: =AV36/AV35-1 -> -0.0016557211 | W36: =AW36/AW35-1 -> -0.0035102689 | ... Y36: =AY36/AY35-1 -> -0.0038 | Z36: =(AE36+AF36)/AD36 -> 0.72657806 | AA36: =SUM(AQ36:AT36)/AD36 -> 0.11659441 | AB36: =(AI36+AG36)/AD36 -> 0.13024488 | AC36: =(AH36+SUM(AJ36:AP36))/AD36 -> 0.0029672909 | AD36: 30480.811 | AE36: 21319.203 | AF36: 827.4858 | AG36: 1864.8774 | AH36: 0.039543894 | AI36: 2105.0922 | AJ36: 0.009440189 | AK36: 16.246594 | AL36: 8.5649541 | AM36: 22.792568 | AN36: 42.792334 | AO36: 0 | AP36: 0 | AQ36: 326.06909 | AR36: 1182.6761 | AS36: 1297.5195 | AT36: 747.62751 | AU36: 643.45927 | AV36: 76.702137 | AW36: 19274.417 | AX36: 2872.2712 | AY36: 57.816558
B37: =B36+1 -> 2051 | C37: 0.1 | D37: =AD37/AD36-1 -> -0.0039 | E37: =AE37/AE36-1 -> -0.0036418063 | F37: =AF37/AF36-1 -> -0.0036418063 | G37: =AG37/AG36-1 -> -0.003899749 | H37: =AH37/AH36-1 -> -0.52469972 | I37: =AI37/AI36-1 -> -0.0039 | J37: =AJ37/AJ36-1 -> -0.3 | K37: =AK37/AK36-1 -> -0.18168516 | ... N37: =AN37/AN36-1 -> -0.10968332 | Q37: =AQ37/AQ36-1 -> -0.0063832217 | R37: =AR37/AR36-1 -> -0.0036418063 | S37: =AS37/AS36-1 -> -0.0036418063 | T37: =AT37/AT36-1 -> -0.0020226903 | U37: =AU37/AU36-1 -> -0.0020226903 | V37: =AV37/AV36-1 -> -0.0020226903 | W37: =AW37/AW36-1 -> -0.0036033479 | X37: =AX37/AX36-1 -> -0.0038998821 | Y37: =AY37/AY36-1 -> -0.0039 | Z37: =(AE37+AF37)/AD37 -> 0.7267664 | AA37: =SUM(AQ37:AT37)/AD37 -> 0.11663506 | AB37: =(AI37+AG37)/AD37 -> 0.1302449 | AC37: =(AH37+SUM(AJ37:AP37))/AD37 -> 0.0026937683 | AD37: 30361.936 | AE37: 21241.562 | AF37: 824.47225 | AG37: 1857.6048 | AH37: 0.018795224 | AI37: 2096.8824 | AJ37: 0.0066081323 | AK37: 13.294829 | AL37: 7.7132461 | AM37: 22.655813 | AN37: 38.098729 | AO37: 0 | AP37: 0 | AQ37: 323.98772 | AR37: 1178.369 | AS37: 1292.7942 | AT37: 746.11529 | AU37: 642.15775 | AV37: 76.546992 | AW37: 19204.965 | AX37: 2861.0697 | AY37: 57.591074
B38: =B37+1 -> 2052 | C38: 0.1 | D38: =AD38/AD37-1 -> -0.0039 | E38: =AE38/AE37-1 -> -0.0036238147 | F38: =AF38/AF37-1 -> -0.0036238147 | G38: =AG38/AG37-1 -> -0.0039105146 | H38: =AH38/AH37-1 -> -0.47819453 | I38: =AI38/AI37-1 -> -0.0039 | J38: =AJ38/AJ37-1 -> -0.42857143 | K38: =AK38/AK37-1 -> -0.20704813 | ... N38: =AN38/AN37-1 -> -0.12298507 | Q38: =AQ38/AQ37-1 -> -0.0060798501 | R38: =AR38/AR37-1 -> -0.0036238147 | S38: =AS38/AS37-1 -> -0.0036238147 | T38: =AT38/AT37-1 -> -0.0025226917 | U38: =AU38/AU37-1 -> -0.0025226917 | V38: =AV38/AV37-1 -> -0.0025226917 | W38: =AW38/AW37-1 -> -0.003581934 | X38: =AX38/AX37-1 -> -0.0039049392 | Y38: =AY38/AY37-1 -> -0.0039 | Z38: =(AE38+AF38)/AD38 -> 0.72696791 | AA38: =SUM(AQ38:AT38)/AD38 -> 0.11666825 | AB38: =(AI38+AG38)/AD38 -> 0.13024425 | AC38: =(AH38+SUM(AJ38:AP38))/AD38 -> 0.0024269855 | AD38: 30243.524 | AE38: 21164.587 | AF38: 821.48452 | AG38: 1850.3407 | AH38: 0.0098074505 | AI38: 2088.7045 | AJ38: 0.0037760756 | AK38: 10.54216 | AL38: 6.9118205 | AM38: 22.519878 | AN38: 33.413154 | AO38: 0 | AP38: 0 | AQ38: 322.01792 | AR38: 1174.0988 | AS38: 1288.1093 | AT38: 744.23307 | AU38: 640.53778 | AV38: 76.353888 | AW38: 19136.174 | AX38: 2849.8974 | AY38: 57.366469
B39: =B38+1 -> 2053 | C39: 0.1 | D39: =AD39/AD38-1 -> -0.004 | E39: =AE39/AE38-1 -> -0.0037274164 | F39: =AF39/AF38-1 -> -0.0037274164 | G39: =AG39/AG38-1 -> -0.0039997838 | H39: =AH39/AH38-1 -> -0.45643152 | I39: =AI39/AI38-1 -> -0.004 | J39: =AJ39/AJ38-1 -> -0.25 | K39: =AK39/AK38-1 -> -0.22991638 | ... N39: =AN39/AN38-1 -> -0.13216865 | Q39: =AQ39/AQ38-1 -> -0.0057764816 | R39: =AR39/AR38-1 -> -0.0037274164 | S39: =AS39/AS38-1 -> -0.0037274164 | T39: =AT39/AT38-1 -> -0.002952213 | U39: =AU39/AU38-1 -> -0.002952213 | V39: =AV39/AV38-1 -> -0.002952213 | W39: =AW39/AW38-1 -> -0.0036868364 | X39: =AX39/AX38-1 -> -0.0039998985 | Y39: =AY39/AY38-1 -> -0.004 | Z39: =(AE39+AF39)/AD39 -> 0.72716686 | AA39: =SUM(AQ39:AT39)/AD39 -> 0.11669743 | AB39: =(AI39+AG39)/AD39 -> 0.13024426 | AC39: =(AH39+SUM(AJ39:AP39))/AD39 -> 0.0021739062 | AD39: 30122.55 | AE39: 21085.698 | AF39: 818.4225 | AG39: 1842.9397 | AH39: 0.005331021 | AI39: 2080.3497 | AJ39: 0.0028320567 | AK39: 8.1183444 | AL39: 5.9753497 | AM39: 22.384758 | AN39: 28.996983 | AO39: 0 | AP39: 0 | AQ39: 320.15779 | AR39: 1169.7225 | AS39: 1283.308 | AT39: 742.03594 | AU39: 638.64678 | AV39: 76.128475 | AW39: 19065.622 | AX39: 2838.4981 | AY39: 57.137003
B40: =B39+1 -> 2054 | C40: 0.1 | D40: =AD40/AD39-1 -> -0.0039 | E40: =AE40/AE39-1 -> -0.0036242769 | F40: =AF40/AF39-1 -> -0.0036242769 | G40: =AG40/AG39-1 -> -0.0039214928 | H40: =AH40/AH39-1 -> -0.50200591 | I40: =AI40/AI39-1 -> -0.0039 | J40: =AJ40/AJ39-1 -> -0.33333333 | K40: =AK40/AK39-1 -> -0.25195217 | ... N40: =AN40/AN39-1 -> -0.14465791 | Q40: =AQ40/AQ39-1 -> -0.0054729319 | R40: =AR40/AR39-1 -> -0.0036242769 | S40: =AS40/AS39-1 -> -0.0036242769 | T40: =AT40/AT39-1 -> -0.0032634927 | U40: =AU40/AU39-1 -> -0.0032634927 | V40: =AV40/AV39-1 -> -0.0032634927 | W40: =AW40/AW39-1 -> -0.003581724 | X40: =AX40/AX39-1 -> -0.0039100961 | Y40: =AY40/AY39-1 -> -0.0039 | Z40: =(AE40+AF40)/AD40 -> 0.72736814 | AA40: =SUM(AQ40:AT40)/AD40 -> 0.11671893 | AB40: =(AI40+AG40)/AD40 -> 0.13024294 | AC40: =(AH40+SUM(AJ40:AP40))/AD40 -> 0.0019372859 | AD40: 30005.072 | AE40: 21009.277 | AF40: 815.45631 | AG40: 1835.7126 | AH40: 0.0026548169 | AI40: 2072.2363 | AJ40: 0.0018880378 | AK40: 6.0729099 | AL40: 4.9981609 | AM40: 22.25045 | AN40: 24.80234 | AO40: 0 | AP40: 0 | AQ40: 318.40559 | AR40: 1165.4831 | AS40: 1278.6569 | AT40: 739.61431 | AU40: 636.56256 | AV40: 75.88003 | AW40: 18997.334 | AX40: 2827.3993 | AY40: 56.914168
B41: =B40+1 -> 2055 | C41: 0.1 | D41: =AD41/AD40-1 -> -0.0036 | E41: =AE41/AE40-1 -> -0.0033181537 | F41: =AF41/AF40-1 -> -0.0033181537 | G41: =AG41/AG40-1 -> -0.0036325672 | H41: =AH41/AH40-1 -> -0.50213388 | I41: =AI41/AI40-1 -> -0.0036 | J41: =AJ41/AJ40-1 -> -0.5 | K41: =AK41/AK40-1 -> -0.27630077 | ... N41: =AN41/AN40-1 -> -0.15588264 | Q41: =AQ41/AQ40-1 -> -0.0051701792 | R41: =AR41/AR40-1 -> -0.0033181537 | S41: =AS41/AS40-1 -> -0.0033181537 | T41: =AT41/AT40-1 -> -0.0035060404 | U41: =AU41/AU40-1 -> -0.0035060404 | V41: =AV41/AV40-1 -> -0.0035060404 | W41: =AW41/AW40-1 -> -0.0032739293 | X41: =AX41/AX40-1 -> -0.0036152981 | Y41: =AY41/AY40-1 -> -0.0036 | Z41: =(AE41+AF41)/AD41 -> 0.72757389 | AA41: =SUM(AQ41:AT41)/AD41 -> 0.11672757 | AB41: =(AI41+AG41)/AD41 -> 0.13024095 | AC41: =(AH41+SUM(AJ41:AP41))/AD41 -> 0.0017226596 | AD41: 29897.054 | AE41: 20939.565 | AF41: 812.7505 | AG41: 1829.0443 | AH41: 0.0013217434 | AI41: 2064.7763 | AJ41: 0.0009440189 | AK41: 4.3949602 | AL41: 4.0521888 | AM41: 22.116947 | AN41: 20.936086 | AO41: 0 | AP41: 0 | AQ41: 316.75938 | AR41: 1161.6158 | AS41: 1274.4142 | AT41: 737.02119 | AU41: 634.33074 | AV41: 75.613992 | AW41: 18935.138 | AX41: 2817.1774 | AY41: 56.709277
B42: =B41+1 -> 2056 | C42: 0.1 | D42: =AD42/AD41-1 -> -0.0041 | E42: =AE42/AE41-1 -> -0.0038729771 | F42: =AF42/AF41-1 -> -0.0038729771 | G42: =AG42/AG41-1 -> -0.0041 | H42: =AH42/AH41-1 -> -1 | I42: =AI42/AI41-1 -> -0.0041 | J42: =AJ42/AJ41-1 -> 0 | K42: =AK42/AK41-1 -> -0.30335812 | ... N42: =AN42/AN41-1 -> -0.16479217 | Q42: =AQ42/AQ41-1 -> -0.0048672638 | R42: =AR42/AR41-1 -> -0.0038729771 | S42: =AS42/AS41-1 -> -0.0038729771 | T42: =AT42/AT41-1 -> -0.0036805456 | U42: =AU42/AU41-1 -> -0.0036805456 | V42: =AV42/AV41-1 -> -0.0036805456 | W42: =AW42/AW41-1 -> -0.0038392005 | X42: =AX42/AX41-1 -> -0.0041 | Y42: =AY42/AY41-1 -> -0.0041 | Z42: =(AE42+AF42)/AD42 -> 0.72773974 | AA42: =SUM(AQ42:AT42)/AD42 -> 0.11674837 | AB42: =(AI42+AG42)/AD42 -> 0.13024095 | AC42: =(AH42+SUM(AJ42:AP42))/AD42 -> 0.0015260103 | AD42: 29774.476 | AE42: 20858.467 | AF42: 809.60274 | AG42: 1821.5452 | AH42: 0 | AI42: 2056.3107 | AJ42: 0.0009440189 | AK42: 3.0617133 | AL42: 2.9032716 | AM42: 21.984245 | AN42: 17.485983 | AO42: 0 | AP42: 0 | AQ42: 315.21763 | AR42: 1157.1169 | AS42: 1269.4784 | AT42: 734.30855 | AU42: 631.99606 | AV42: 75.335691 | AW42: 18862.443 | AX42: 2805.627 | AY42: 56.476769
B43: =B42+1 -> 2057 | C43: 0.1 | D43: =AD43/AD42-1 -> -0.004 | E43: =AE43/AE42-1 -> -0.0038225277 | F43: =AF43/AF42-1 -> -0.0038225277 | G43: =AG43/AG42-1 -> -0.004 | I43: =AI43/AI42-1 -> -0.004 | J43: =AJ43/AJ42-1 -> 0 | K43: =AK43/AK42-1 -> -0.33613717 | L43: =AL43/AL42-1 -> -0.17436999 | M43: =AM43/AM42-1 -> -0.006 | N43: =AN43/AN42-1 -> -0.17370622 | Q43: =AQ43/AQ42-1 -> -0.0045637529 | R43: =AR43/AR42-1 -> -0.0038225277 | S43: =AS43/AS42-1 -> -0.0038225277 | T43: =AT43/AT42-1 -> -0.0037054651 | U43: =AU43/AU42-1 -> -0.0037054651 | V43: =AV43/AV42-1 -> -0.0037054651 | W43: =AW43/AW42-1 -> -0.0037961302 | X43: =AX43/AX42-1 -> -0.004 | Y43: =AY43/AY42-1 -> -0.004 | Z43: =(AE43+AF43)/AD43 -> 0.72786942 | AA43: =SUM(AQ43:AT43)/AD43 -> 0.11676419 | AB43: =(AI43+AG43)/AD43 -> 0.13024095 | AC43: =(AH43+SUM(AJ43:AP43))/AD43 -> 0.0013734921 | AD43: 29655.378 | AE43: 20778.735 | AF43: 806.50801 | AG43: 1814.259 | AH43: 0 | AI43: 2048.0855 | AJ43: 0.0009440189 | AK43: 2.0325577 | AL43: 2.3970281 | AM43: 21.85234 | AN43: 14.448559 | AO43: 0 | AP43: 0 | AQ43: 313.77905 | AR43: 1152.6938 | AS43: 1264.6258 | AT43: 731.5876 | AU43: 629.65422 | AV43: 75.056537 | AW43: 18790.838 | AX43: 2794.4045 | AY43: 56.250862
B44: =B43+1 -> 2058 | C44: 0.1 | D44: =AD44/AD43-1 -> -0.004 | E44: =AE44/AE43-1 -> -0.0038444827 | F44: =AF44/AF43-1 -> -0.0038444827 | G44: =AG44/AG43-1 -> -0.004 | I44: =AI44/AI43-1 -> -0.004 | J44: =AJ44/AJ43-1 -> -1 | K44: =AK44/AK43-1 -> -0.38109162 | L44: =AL44/AL43-1 -> -0.19121791 | M44: =AM44/AM43-1 -> -0.006 | N44: =AN44/AN43-1 -> -0.18327747 | Q44: =AQ44/AQ43-1 -> -0.004260654 | R44: =AR44/AR43-1 -> -0.0038444827 | S44: =AS44/AS43-1 -> -0.0038444827 | T44: =AT44/AT43-1 -> -0.003861311 | U44: =AU44/AU43-1 -> -0.003861311 | V44: =AV44/AV43-1 -> -0.003861311 | W44: =AW44/AW43-1 -> -0.0038213555 | X44: =AX44/AX43-1 -> -0.004 | Y44: =AY44/AY43-1 -> -0.004 | Z44: =(AE44+AF44)/AD44 -> 0.72798307 | AA44: =SUM(AQ44:AT44)/AD44 -> 0.11677758 | AB44: =(AI44+AG44)/AD44 -> 0.13024095 | AC44: =(AH44+SUM(AJ44:AP44))/AD44 -> 0.0012431402 | AD44: 29536.757 | AE44: 20698.851 | AF44: 803.4074 | AG44: 1807.002 | AH44: 0 | AI44: 2039.8931 | AJ44: 0 | AK44: 1.257967 | AL44: 1.9386734 | AM44: 21.721226 | AN44: 11.800463 | AO44: 0 | AP44: 0 | AQ44: 312.44215 | AR44: 1148.2623 | AS44: 1259.7639 | AT44: 728.76271 | AU44: 627.22293 | AV44: 74.766721 | AW44: 18719.032 | AX44: 2783.2269 | AY44: 56.025859
B45: =B44+1 -> 2059 | C45: 0.1 | D45: =AD45/AD44-1 -> -0.0039 | E45: =AE45/AE44-1 -> -0.0037569225 | F45: =AF45/AF44-1 -> -0.0037569225 | G45: =AG45/AG44-1 -> -0.0039 | I45: =AI45/AI44-1 -> -0.0039 | K45: =AK45/AK44-1 -> -0.43779528 | L45: =AL45/AL44-1 -> -0.19584217 | M45: =AM45/AM44-1 -> -0.006 | N45: =AN45/AN44-1 -> -0.1968996 | Q45: =AQ45/AQ44-1 -> -0.0039575849 | R45: =AR45/AR44-1 -> -0.0037569225 | S45: =AS45/AS44-1 -> -0.0037569225 | T45: =AT45/AT44-1 -> -0.004013189 | U45: =AU45/AU44-1 -> -0.004013189 | V45: =AV45/AV44-1 -> -0.004013189 | W45: =AW45/AW44-1 -> -0.0037356491 | X45: =AX45/AX44-1 -> -0.0039 | Y45: =AY45/AY44-1 -> -0.0039 | Z45: =(AE45+AF45)/AD45 -> 0.72808763 | AA45: =SUM(AQ45:AT45)/AD45 -> 0.11678588 | AB45: =(AI45+AG45)/AD45 -> 0.13024095 | AC45: =(AH45+SUM(AJ45:AP45))/AD45 -> 0.0011329816 | AD45: 29421.563 | AE45: 20621.087 | AF45: 800.38907 | AG45: 1799.9547 | AH45: 0 | AI45: 2031.9375 | AJ45: 0 | AK45: 0.70723498 | AL45: 1.5589994 | AM45: 21.590899 | AN45: 9.4769569 | AO45: 0 | AP45: 0 | AQ45: 311.20563 | AR45: 1143.9484 | AS45: 1255.0311 | AT45: 725.83805 | AU45: 624.70577 | AV45: 74.466668 | AW45: 18649.104 | AX45: 2772.3723 | AY45: 55.807358
B46: =B45+1 -> 2060 | C46: 0.1 | D46: =AD46/AD45-1 -> -0.0041 | E46: =AE46/AE45-1 -> -0.0039851408 | F46: =AF46/AF45-1 -> -0.0039851408 | G46: =AG46/AG45-1 -> -0.0041 | I46: =AI46/AI45-1 -> -0.0041 | K46: =AK46/AK45-1 -> -0.50280112 | M46: =AM46/AM45-1 -> -0.006 | N46: =AN46/AN45-1 -> -0.22119709 | Q46: =AQ46/AQ45-1 -> -0.0036545123 | R46: =AR46/AR45-1 -> -0.0039851408 | S46: =AS46/AS45-1 -> -0.0039851408 | T46: =AT46/AT45-1 -> -0.0042283934 | U46: =AU46/AU45-1 -> -0.0042283934 | V46: =AV46/AV45-1 -> -0.0042283934 | W46: =AW46/AW45-1 -> -0.0039680658 | X46: =AX46/AX45-1 -> -0.0041 | Y46: =AY46/AY45-1 -> -0.0041 | Z46: =(AE46+AF46)/AD46 -> 0.72817161 | AA46: =SUM(AQ46:AT46)/AD46 -> 0.11679684 | AB46: =(AI46+AG46)/AD46 -> 0.13024095 | AC46: =(AH46+SUM(AJ46:AP46))/AD46 -> 0.0010411198 | AD46: 29300.935 | AE46: 20538.909 | AF46: 797.1994 | AG46: 1792.5748 | AH46: 0 | AI46: 2023.6066 | AJ46: 0 | AK46: 0.35163644 | AL46: 1.3121117 | AM46: 21.461353 | AN46: 7.3806816 | AO46: 0 | AP46: 0 | AQ46: 310.06833 | AR46: 1139.3896 | AS46: 1250.0296 | AT46: 722.76892 | AU46: 622.06427 | AV46: 74.151793 | AW46: 18575.103 | AX46: 2761.0055 | AY46: 55.578548
B47: =B46+1 -> 2061 | C47: 0.1 | D47: =AD47/AD46-1 -> -0.0043 | E47: =AE47/AE46-1 -> -0.0042110582 | F47: =AF47/AF46-1 -> -0.0042110582 | G47: =AG47/AG46-1 -> -0.0043 | I47: =AI47/AI46-1 -> -0.0043 | K47: =AK47/AK46-1 -> -0.57746479 | M47: =AM47/AM46-1 -> -0.006 | Q47: =AQ47/AQ46-1 -> -0.0033512775 | R47: =AR47/AR46-1 -> -0.0042110582 | S47: =AS47/AS46-1 -> -0.0042110582 | T47: =AT47/AT46-1 -> -0.0044318478 | U47: =AU47/AU46-1 -> -0.0044318478 | V47: =AV47/AV46-1 -> -0.0044318478 | W47: =AW47/AW46-1 -> -0.0041978379 | X47: =AX47/AX46-1 -> -0.0043 | Y47: =AY47/AY46-1 -> -0.0043 | Z47: =(AE47+AF47)/AD47 -> 0.72823665 | AA47: =SUM(AQ47:AT47)/AD47 -> 0.11681094 | AB47: =(AI47+AG47)/AD47 -> 0.13024095 | AC47: =(AH47+SUM(AJ47:AP47))/AD47 -> 0.00096512168 | AD47: 29174.941 | AE47: 20452.419 | AF47: 793.84235 | AG47: 1784.8668 | AH47: 0 | AI47: 2014.9051 | AJ47: 0 | AK47: 0.14857878 | AL47: 1.1059379 | AM47: 21.332585 | AN47: 5.5702663 | AO47: 0 | AP47: 0 | AQ47: 309.0292 | AR47: 1134.5915 | AS47: 1244.7657 | AT47: 719.56572 | AU47: 619.30737 | AV47: 73.823164 | AW47: 18497.128 | AX47: 2749.1332 | AY47: 55.33956
B48: =B47+1 -> 2062 | C48: 0.1 | D48: =AD48/AD47-1 -> -0.0044 | E48: =AE48/AE47-1 -> -0.004331838 | F48: =AF48/AF47-1 -> -0.004331838 | G48: =AG48/AG47-1 -> -0.0044 | I48: =AI48/AI47-1 -> -0.0044 | K48: =AK48/AK47-1 -> -0.66 | M48: =AM48/AM47-1 -> -0.006 | Q48: =AQ48/AQ47-1 -> -0.003048102 | R48: =AR48/AR47-1 -> -0.004331838 | S48: =AS48/AS47-1 -> -0.004331838 | T48: =AT48/AT47-1 -> -0.0045353505 | U48: =AU48/AU47-1 -> -0.0045353505 | V48: =AV48/AV47-1 -> -0.0045353505 | W48: =AW48/AW47-1 -> -0.0043217074 | X48: =AX48/AX47-1 -> -0.0044 | Y48: =AY48/AY47-1 -> -0.0044 | Z48: =(AE48+AF48)/AD48 -> 0.72828651 | AA48: =SUM(AQ48:AT48)/AD48 -> 0.11682755 | AB48: =(AI48+AG48)/AD48 -> 0.13024095 | AC48: =(AH48+SUM(AJ48:AP48))/AD48 -> 0.00090188136 | AD48: 29046.571 | AE48: 20363.822 | AF48: 790.40355 | AG48: 1777.0134 | AH48: 0 | AI48: 2006.0395 | AJ48: 0 | AK48: 0.050516784 | AL48: 0.90220561 | AM48: 21.20459 | AN48: 4.039249 | AO48: 0 | AP48: 0 | AQ48: 308.08725 | AR48: 1129.6767 | AS48: 1239.3736 | AT48: 716.30224 | AU48: 616.49859 | AV48: 73.48835 | AW48: 18417.189 | AX48: 2737.037 | AY48: 55.096066
B49: =B48+1 -> 2063 | C49: 0.1 | D49: =AD49/AD48-1 -> -0.0045 | E49: =AE49/AE48-1 -> -0.004453297 | F49: =AF49/AF48-1 -> -0.004453297 | G49: =AG49/AG48-1 -> -0.0045 | I49: =AI49/AI48-1 -> -0.0045 | K49: =AK49/AK48-1 -> -0.7254902 | M49: =AM49/AM48-1 -> -0.006 | Q49: =AQ49/AQ48-1 -> -0.003 | R49: =AR49/AR48-1 -> -0.004453297 | S49: =AS49/AS48-1 -> -0.004453297 | T49: =AT49/AT48-1 -> -0.0045342492 | U49: =AU49/AU48-1 -> -0.0045342492 | V49: =AV49/AV48-1 -> -0.0045342492 | W49: =AW49/AW48-1 -> -0.0044463563 | X49: =AX49/AX48-1 -> -0.0045 | Y49: =AY49/AY48-1 -> -0.0045 | Z49: =(AE49+AF49)/AD49 -> 0.72832067 | AA49: =SUM(AQ49:AT49)/AD49 -> 0.11684651 | AB49: =(AI49+AG49)/AD49 -> 0.13024095 | AC49: =(AH49+SUM(AJ49:AP49))/AD49 -> 0.00084957238 | AD49: 28915.861 | AE49: 20273.136 | AF49: 786.88365 | AG49: 1769.0168 | AH49: 0 | AI49: 1997.0123 | AJ49: 0 | AK49: 0.013867353 | AL49: 0.69074893 | AM49: 21.077362 | AN49: 2.784139 | AO49: 0 | AP49: 0 | AQ49: 307.16299 | AR49: 1124.6459 | AS49: 1233.8543 | AT49: 713.05434 | AU49: 613.70324 | AV49: 73.155135 | AW49: 18335.299 | AX49: 2724.7204 | AY49: 54.848134
B50: =B49+1 -> 2064 | C50: 0.1 | D50: =AD50/AD49-1 -> -0.0047 | E50: =AE50/AE49-1 -> -0.0046796899 | F50: =AF50/AF49-1 -> -0.0046796899 | G50: =AG50/AG49-1 -> -0.0047 | I50: =AI50/AI49-1 -> -0.0047 | K50: =AK50/AK49-1 -> -0.71428571 | M50: =AM50/AM49-1 -> -0.006 | Q50: =AQ50/AQ49-1 -> -0.003 | R50: =AR50/AR49-1 -> -0.0046796899 | S50: =AS50/AS49-1 -> -0.0046796899 | T50: =AT50/AT49-1 -> -0.0044849389 | U50: =AU50/AU49-1 -> -0.0044849389 | V50: =AV50/AV49-1 -> -0.0044849389 | W50: =AW50/AW49-1 -> -0.0046766717 | X50: =AX50/AX49-1 -> -0.0047 | Y50: =AY50/AY49-1 -> -0.0047 | Z50: =(AE50+AF50)/AD50 -> 0.72833554 | AA50: =SUM(AQ50:AT50)/AD50 -> 0.11687165 | AB50: =(AI50+AG50)/AD50 -> 0.13024095 | AC50: =(AH50+SUM(AJ50:AP50))/AD50 -> 0.00080444136 | AD50: 28779.957 | AE50: 20178.264 | AF50: 783.20128 | AG50: 1760.7024 | AH50: 0 | AI50: 1987.6264 | AJ50: 0 | AK50: 0.0039621007 | AL50: 0.37439275 | AM50: 20.950898 | AN50: 1.8225349 | AO50: 0 | AP50: 0 | AQ50: 306.2415 | AR50: 1119.3829 | AS50: 1228.0802 | AT50: 709.85634 | AU50: 610.95082 | AV50: 72.827039 | AW50: 18249.551 | AX50: 2711.9142 | AY50: 54.590347
B51: =B50+1 -> 2065 | C51: 0.1 | D51: =AD51/AD50-1 -> -0.005 | E51: =AE51/AE50-1 -> -0.0050159242 | F51: =AF51/AF50-1 -> -0.0050159242 | G51: =AG51/AG50-1 -> -0.005 | I51: =AI51/AI50-1 -> -0.005 | K51: =AK51/AK50-1 -> -0.25 | M51: =AM51/AM50-1 -> -0.006 | Q51: =AQ51/AQ50-1 -> -0.003 | R51: =AR51/AR50-1 -> -0.0050159242 | S51: =AS51/AS50-1 -> -0.0050159242 | T51: =AT51/AT50-1 -> -0.0044743974 | U51: =AU51/AU50-1 -> -0.0044743974 | V51: =AV51/AV50-1 -> -0.0044743974 | W51: =AW51/AW50-1 -> -0.0050182906 | X51: =AX51/AX50-1 -> -0.005 | Y51: =AY51/AY50-1 -> -0.005 | Z51: =(AE51+AF51)/AD51 -> 0.72832388 | AA51: =SUM(AQ51:AT51)/AD51 -> 0.11690476 | AB51: =(AI51+AG51)/AD51 -> 0.13024095 | AC51: =(AH51+SUM(AJ51:AP51))/AD51 -> 0.00077043493 | AD51: 28636.057 | AE51: 20077.051 | AF51: 779.2728 | AG51: 1751.8989 | AH51: 0 | AI51: 1977.6882 | AJ51: 0 | AK51: 0.0029715755 | AL51: 0.13078411 | AM51: 20.825192 | AN51: 1.1032704 | AO51: 0 | AP51: 0 | AQ51: 305.32277 | AR51: 1113.7682 | AS51: 1221.9202 | AT51: 706.68016 | AU51: 608.21718 | AV51: 72.501182 | AW51: 18157.97 | AX51: 2698.3546 | AY51: 54.317396
B52: =B51+1 -> 2066 | C52: 0.1 | D52: =AD52/AD51-1 -> -0.0054 | E52: =AE52/AE51-1 -> -0.0054640822 | F52: =AF52/AF51-1 -> -0.0054640822 | G52: =AG52/AG51-1 -> -0.0054 | I52: =AI52/AI51-1 -> -0.0054 | K52: =AK52/AK51-1 -> -0.33333333 | M52: =AM52/AM51-1 -> -0.006 | Q52: =AQ52/AQ51-1 -> -0.003 | R52: =AR52/AR51-1 -> -0.0054640822 | S52: =AS52/AS51-1 -> -0.0054640822 | T52: =AT52/AT51-1 -> -0.0044900955 | U52: =AU52/AU51-1 -> -0.0044900955 | V52: =AV52/AV51-1 -> -0.0044900955 | W52: =AW52/AW51-1 -> -0.0054736051 | X52: =AX52/AX51-1 -> -0.0054 | Y52: =AY52/AY51-1 -> -0.0054 | Z52: =(AE52+AF52)/AD52 -> 0.72827695 | AA52: =SUM(AQ52:AT52)/AD52 -> 0.11694781 | AB52: =(AI52+AG52)/AD52 -> 0.13024095 | AC52: =(AH52+SUM(AJ52:AP52))/AD52 -> 0.00075256358 | AD52: 28481.422 | AE52: 19967.349 | AF52: 775.01479 | AG52: 1742.4387 | AH52: 0 | AI52: 1967.0087 | AJ52: 0 | AK52: 0.0019810504 | AL52: 0.078559333 | AM52: 20.700241 | AN52: 0.65329968 | AO52: 0 | AP52: 0 | AQ52: 304.4068 | AR52: 1107.6824 | AS52: 1215.2436 | AT52: 703.5071 | AU52: 605.48623 | AV52: 72.175645 | AW52: 18058.58 | AX52: 2683.7835 | AY52: 54.024082
B53: =B52+1 -> 2067 | C53: 0.1 | D53: =AD53/AD52-1 -> -0.0052 | E53: =AE53/AE52-1 -> -0.0052529587 | F53: =AF53/AF52-1 -> -0.0052529587 | G53: =AG53/AG52-1 -> -0.0052 | I53: =AI53/AI52-1 -> -0.0052 | K53: =AK53/AK52-1 -> -0.5 | M53: =AM53/AM52-1 -> -0.006 | Q53: =AQ53/AQ52-1 -> -0.003 | R53: =AR53/AR52-1 -> -0.0052529587 | S53: =AS53/AS52-1 -> -0.0052529587 | T53: =AT53/AT52-1 -> -0.004567964 | U53: =AU53/AU52-1 -> -0.004567964 | V53: =AV53/AV52-1 -> -0.004567964 | W53: =AW53/AW52-1 -> -0.0052608292 | X53: =AX53/AX52-1 -> -0.0052 | Y53: =AY53/AY52-1 -> -0.0052 | Z53: =(AE53+AF53)/AD53 -> 0.72823818 | AA53: =SUM(AQ53:AT53)/AD53 -> 0.1169828 | AB53: =(AI53+AG53)/AD53 -> 0.13024095 | AC53: =(AH53+SUM(AJ53:AP53))/AD53 -> 0.00074122876 | AD53: 28333.319 | AE53: 19862.461 | AF53: 770.94367 | AG53: 1733.378 | AH53: 0 | AI53: 1956.7803 | AJ53: 0 | AK53: 0.00099052518 | AL53: 0.047594477 | AM53: 20.57604 | AN53: 0.37684597 | AO53: 0 | AP53: 0 | AQ53: 303.49358 | AR53: 1101.8638 | AS53: 1208.8599 | AT53: 700.2935 | AU53: 602.72039 | AV53: 71.845949 | AW53: 17963.577 | AX53: 2669.8278 | AY53: 53.743157
B54: =B53+1 -> 2068 | C54: 0.1 | D54: =AD54/AD53-1 -> -0.005 | E54: =AE54/AE53-1 -> -0.005047936 | F54: =AF54/AF53-1 -> -0.005047936 | G54: =AG54/AG53-1 -> -0.005 | I54: =AI54/AI53-1 -> -0.005 | K54: =AK54/AK53-1 -> 0 | M54: =AM54/AM53-1 -> -0.006 | Q54: =AQ54/AQ53-1 -> -0.0025 | R54: =AR54/AR53-1 -> -0.005047936 | S54: =AS54/AS53-1 -> -0.005047936 | T54: =AT54/AT53-1 -> -0.0045918943 | U54: =AU54/AU53-1 -> -0.0045918943 | V54: =AV54/AV53-1 -> -0.0045918943 | W54: =AW54/AW53-1 -> -0.0050550605 | X54: =AX54/AX53-1 -> -0.005 | Y54: =AY54/AY53-1 -> -0.005 | Z54: =(AE54+AF54)/AD54 -> 0.7282031 | AA54: =SUM(AQ54:AT54)/AD54 -> 0.11701592 | AB54: =(AI54+AG54)/AD54 -> 0.13024095 | AC54: =(AH54+SUM(AJ54:AP54))/AD54 -> 0.00073342548 | AD54: 28191.652 | AE54: 19762.197 | AF54: 767.052 | AG54: 1724.7111 | AH54: 0 | AI54: 1946.9964 | AJ54: 0 | AK54: 0.00099052518 | AL54: 0.022397488 | AM54: 20.452584 | AN54: 0.20050452 | AO54: 0 | AP54: 0 | AQ54: 302.73485 | AR54: 1096.3017 | AS54: 1202.7577 | AT54: 697.07783 | AU54: 599.95276 | AV54: 71.51604 | AW54: 17872.77 | AX54: 2656.4787 | AY54: 53.474441
B55: =B54+1 -> 2069 | C55: 0.1 | D55: =AD55/AD54-1 -> -0.0051 | E55: =AE55/AE54-1 -> -0.005156759 | F55: =AF55/AF54-1 -> -0.005156759 | G55: =AG55/AG54-1 -> -0.0051 | I55: =AI55/AI54-1 -> -0.0051 | K55: =AK55/AK54-1 -> -1 | M55: =AM55/AM54-1 -> -0.006 | Q55: =AQ55/AQ54-1 -> -0.0025 | R55: =AR55/AR54-1 -> -0.005156759 | S55: =AS55/AS54-1 -> -0.005156759 | T55: =AT55/AT54-1 -> -0.0046235139 | U55: =AU55/AU54-1 -> -0.0046235139 | V55: =AV55/AV54-1 -> -0.0046235139 | W55: =AW55/AW54-1 -> -0.0051651952 | X55: =AX55/AX54-1 -> -0.0051 | Y55: =AY55/AY54-1 -> -0.0051 | Z55: =(AE55+AF55)/AD55 -> 0.72816156 | AA55: =SUM(AQ55:AT55)/AD55 -> 0.11705117 | AB55: =(AI55+AG55)/AD55 -> 0.13024095 | AC55: =(AH55+SUM(AJ55:AP55))/AD55 -> 0.00072830886 | AD55: 28047.875 | AE55: 19660.288 | AF55: 763.09649 | AG55: 1715.9151 | AH55: 0 | AI55: 1937.0667 | AJ55: 0 | AK55: 0 | AL55: 0.011197107 | AM55: 20.329868 | AN55: 0.086450601 | AO55: 0 | AP55: 0 | AQ55: 301.97801 | AR55: 1090.6483 | AS55: 1196.5554 | AT55: 693.85488 | AU55: 597.17887 | AV55: 71.185385 | AW55: 17780.454 | AX55: 2642.9306 | AY55: 53.201721
B56: =B55+1 -> 2070 | C56: 0.1 | D56: =AD56/AD55-1 -> -0.004 | E56: =AE56/AE55-1 -> -0.0039767341 | F56: =AF56/AF55-1 -> -0.0039767341 | G56: =AG56/AG55-1 -> -0.004 | I56: =AI56/AI55-1 -> -0.004 | M56: =AM56/AM55-1 -> -0.006 | Q56: =AQ56/AQ55-1 -> -0.0025 | R56: =AR56/AR55-1 -> -0.0039767341 | S56: =AS56/AS55-1 -> -0.0039767341 | T56: =AT56/AT55-1 -> -0.0046404963 | U56: =AU56/AU55-1 -> -0.0046404963 | V56: =AV56/AV55-1 -> -0.0046404963 | W56: =AW56/AW55-1 -> -0.0039732758 | X56: =AX56/AX55-1 -> -0.004 | Y56: =AY56/AY55-1 -> -0.004 | Z56: =(AE56+AF56)/AD56 -> 0.72817857 | AA56: =SUM(AQ56:AT56)/AD56 -> 0.11705338 | AB56: =(AI56+AG56)/AD56 -> 0.13024095 | AC56: =(AH56+SUM(AJ56:AP56))/AD56 -> 0.00072441259 | AD56: 27935.684 | AE56: 19582.104 | AF56: 760.06186 | AG56: 1709.0514 | AH56: 0 | AI56: 1929.3184 | AJ56: 0 | AK56: 0 | AL56: 0.0055909895 | AM56: 20.207889 | AN56: 0.023480886 | AO56: 0 | AP56: 0 | AQ56: 301.22307 | AR56: 1086.3111 | AS56: 1191.797 | AT56: 690.63505 | AU56: 594.40766 | AV56: 70.855049 | AW56: 17709.807 | AX56: 2632.3589 | AY56: 52.988914

Sheet CER
B1: Hypothèses de la part de cotisants en cumul emploi retraite
B3: Hypothèses de long terme : tous scénarios
B4: Année | C4: CNAV/SSI | D4: MSA Sal | E4: MSA EXA | F4: SSI | G4: CNAVPL
B5: 2015
B6: =B5+1 -> 2016 | C6: 0.02366086 | D6: 0.058078343 | E6: 0.086684688 | F6: 0.087240588 | G6: 0.11329912
B7: =B6+1 -> 2017 | C7: 0.023672371 | D7: 0.056714417 | E7: 0.082579547 | F7: 0.087582707 | G7: 0.09664388
B8: =B7+1 -> 2018 | C8: 0.024034714 | D8: 0.055130087 | E8: 0.074895309 | F8: 0.092702911 | G8: 0.096011721
B9: =B8+1 -> 2019 | C9: 0.024531561 | D9: 0.033903501 | E9: 0.10803334 | F9: 0.092702911 | G9: 0.096011721
B10: =B9+1 -> 2020 | C10: 0.032660746 | D10: 0.034045836 | E10: 0.11120527 | F10: 0.092702911 | G10: 0.096011721
B11: =B10+1 -> 2021 | C11: 0.034184308 | D11: 0.032691023 | E11: 0.11081768 | F11: 0.092702911 | G11: 0.096011721
B12: =B11+1 -> 2022 | C12: 0.034184308 | D12: 0.03107812 | E12: 0.11810903 | F12: 0.092702911 | G12: 0.096011721
B13: =B12+1 -> 2023 | C13: 0.034184308 | D13: 0.029920429 | E13: 0.13734294 | F13: 0.092702911 | G13: 0.096011721
B14: =B13+1 -> 2024 | C14: =C13 -> 0.034184308 | D14: =D13 -> 0.029920429 | E14: =E13 -> 0.13734294 | F14: 0.092702911 | G14: =G13 -> 0.096011721
B15: =B14+1 -> 2025 | C15: =C14 -> 0.034184308 | D15: =D14 -> 0.029920429 | E15: =E14 -> 0.13734294 | F15: 0.092702911 | G15: =G14 -> 0.096011721
B16: =B15+1 -> 2026 | C16: =C15 -> 0.034184308 | D16: =D15 -> 0.029920429 | E16: =E15 -> 0.13734294 | F16: 0.092702911 | G16: =G15 -> 0.096011721
B17: =B16+1 -> 2027 | C17: =C16 -> 0.034184308 | D17: =D16 -> 0.029920429 | E17: =E16 -> 0.13734294 | F17: =F16 -> 0.092702911 | G17: =G16 -> 0.096011721
B18: =B17+1 -> 2028 | C18: =C17 -> 0.034184308 | D18: =D17 -> 0.029920429 | E18: =E17 -> 0.13734294 | F18: =F17 -> 0.092702911 | G18: =G17 -> 0.096011721
B19: =B18+1 -> 2029 | C19: =C18 -> 0.034184308 | D19: =D18 -> 0.029920429 | E19: =E18 -> 0.13734294 | F19: =F18 -> 0.092702911 | G19: =G18 -> 0.096011721
B20: =B19+1 -> 2030 | C20: =C19 -> 0.034184308 | D20: =D19 -> 0.029920429 | E20: =E19 -> 0.13734294 | F20: =F19 -> 0.092702911 | G20: =G19 -> 0.096011721
B21: =B20+1 -> 2031 | C21: =C20 -> 0.034184308 | D21: =D20 -> 0.029920429 | E21: =E20 -> 0.13734294 | F21: =F20 -> 0.092702911 | G21: =G20 -> 0.096011721
B22: =B21+1 -> 2032 | C22: =C21 -> 0.034184308 | D22: =D21 -> 0.029920429 | E22: =E21 -> 0.13734294 | F22: =F21 -> 0.092702911 | G22: =G21 -> 0.096011721
B23: =B22+1 -> 2033 | C23: =C22 -> 0.034184308 | D23: =D22 -> 0.029920429 | E23: =E22 -> 0.13734294 | F23: =F22 -> 0.092702911 | G23: =G22 -> 0.096011721
B24: =B23+1 -> 2034 | C24: =C23 -> 0.034184308 | D24: =D23 -> 0.029920429 | E24: =E23 -> 0.13734294 | F24: =F23 -> 0.092702911 | G24: =G23 -> 0.096011721
B25: =B24+1 -> 2035 | C25: =C24 -> 0.034184308 | D25: =D24 -> 0.029920429 | E25: =E24 -> 0.13734294 | F25: =F24 -> 0.092702911 | G25: =G24 -> 0.096011721
B26: =B25+1 -> 2036 | C26: =C25 -> 0.034184308 | D26: =D25 -> 0.029920429 | E26: =E25 -> 0.13734294 | F26: =F25 -> 0.092702911 | G26: =G25 -> 0.096011721
B27: =B26+1 -> 2037 | C27: =C26 -> 0.034184308 | D27: =D26 -> 0.029920429 | E27: =E26 -> 0.13734294 | F27: =F26 -> 0.092702911 | G27: =G26 -> 0.096011721
B28: =B27+1 -> 2038 | C28: =C27 -> 0.034184308 | D28: =D27 -> 0.029920429 | E28: =E27 -> 0.13734294 | F28: =F27 -> 0.092702911 | G28: =G27 -> 0.096011721
... B60: =B59+1 -> 2070 | C60: =C59 -> 0.034184308 | D60: =D59 -> 0.029920429 | E60: =E59 -> 0.13734294 | F60: =F59 -> 0.092702911 | G60: =G59 -> 0.096011721

Sheet Flux_migratoires
B1: Hypothèses d'entrées sur le territoire
B3: Hypothèses de long terme : tous scénarios
B4: Année | C4: Solde migratoire | D4: Entrées non-immigrés | E4: Entrées immigrés | F4: Total des entrées
B5: 2015 | C5: 40000 | D5: =F5-E5 -> 122000 | E5: 278000 | F5: 400000
B6: =B5+1 -> 2016 | C6: 65044 | D6: =F6-E6 -> 130000 | E6: 287000 | F6: 417000
B7: =B6+1 -> 2017 | C7: 154661 | D7: =F7-E7 -> 120000 | E7: 291000 | F7: 411000
B8: =B7+1 -> 2018 | C8: 200506 | D8: =F8-E8 -> 126000 | E8: 305000 | F8: 431000
B9: =B8+1 -> 2019 | C9: 127621 | D9: =F9-E9 -> 126000 | E9: 307000 | F9: 433000
B10: =B9+1 -> 2020 | C10: 140005 | D10: =F10-E10 -> 125000 | E10: 246000 | F10: 371000
B11: =B10+1 -> 2021 | C11: 189687 | D11: =F11-E11 -> 104000 | E11: 283000 | F11: 387000
B12: =B11+1 -> 2022 | C12: 270777 | D12: =F12-E12 -> 115000 | E12: 375000 | F12: 490000
B13: =B12+1 -> 2023 | C13: 176000 | D13: =F13-E13 -> 120000 | E13: 347000 | F13: 467000
B14: =B13+1 -> 2024 | C14: 176000 | D14: =F14-E14 -> 137436.68 | E14: 301189.32 | F14: 438626
B15: =B14+1 -> 2025 | C15: 176000 | D15: =F15-E15 -> 115300 | E15: 301200 | F15: 416500
B16: =B15+1 -> 2026 | C16: 150000 | D16: =F16-E16 -> 113200 | E16: 290500 | F16: 403700
B17: =B16+1 -> 2027 | C17: 150000 | D17: =F17-E17 -> 113200 | E17: 290500 | F17: 403700
... B60: =B59+1 -> 2070 | C60: 150000 | D60: =F60-E60 -> 113200 | E60: 290500 | F60: 403700

Sheet FPE
B1: Cotisants FPE
B3: Hypothèses de long terme : tous scénarios
B4: Année | C4: Ensemble | D4: La poste - Orange | E4: Ensemble hors la Poste Orange
B5: 2019
B6: 2020 | C6: ='Chô_5%'!AG6*1000 -> 2016940 | D6: 96700 | E6: =C6-D6 -> 1920240
B7: =B6+1 -> 2021 | C7: ='Chô_5%'!AG7*1000 -> 2006480 | D7: 86200 | E7: =C7-D7 -> 1920280
B8: =B7+1 -> 2022 | C8: ='Chô_5%'!AG8*1000 -> 1993380 | D8: 73200 | E8: =C8-D8 -> 1920180
B9: =B8+1 -> 2023 | C9: ='Chô_5%'!AG9*1000 -> 2011840 | D9: 67480 | E9: =C9-D9 -> 1944360
B10: =B9+1 -> 2024 | C10: ='Chô_5%'!AG10*1000 -> 1970820 | D10: 58200 | E10: =C10-D10 -> 1912620
B11: =B10+1 -> 2025 | C11: ='Chô_5%'!AG11*1000 -> 1953240 | D11: 51520 | E11: =C11-D11 -> 1901720
B12: =B11+1 -> 2026 | C12: ='Chô_5%'!AG12*1000 -> 1946960 | D12: 45240 | E12: =C12-D12 -> 1901720
B13: =B12+1 -> 2027 | C13: ='Chô_5%'!AG13*1000 -> 1940960 | D13: 39240 | E13: =C13-D13 -> 1901720
B14: =B13+1 -> 2028 | C14: ='Chô_5%'!AG14*1000 -> 1936480 | D14: 34760 | E14: =C14-D14 -> 1901720
B15: =B14+1 -> 2029 | C15: ='Chô_5%'!AG15*1000 -> 1932120 | D15: 30400 | E15: =C15-D15 -> 1901720
B16: =B15+1 -> 2030 | C16: ='Chô_5%'!AG16*1000 -> 1927860 | D16: 26140 | E16: =C16-D16 -> 1901720
B17: =B16+1 -> 2031 | C17: ='Chô_5%'!AG17*1000 -> 1924000 | D17: 22280 | E17: =C17-D17 -> 1901720
B18: =B17+1 -> 2032 | C18: ='Chô_5%'!AG18*1000 -> 1919960 | D18: 18240 | E18: =C18-D18 -> 1901720
... B56: =B55+1 -> 2070 | C56: ='Chô_5%'!AG56*1000 -> 1709051.4 | D56: 0 | E56: =C56-D56 -> 1709051.4

Sheet CNRACL
B1: Cotisants FPT et FPH à la CNRACL
B3: Hypothèses de long terme : tous scénarios
B4: Année | C4: FPT | D4: FPH | E4: Ensemble
B5: 2019
B6: 2020 | C6: 1403199.4 | D6: =E6-C6 -> 796014.68 | E6: ='Chô_5%'!AI6*1000 -> 2199214.1
B7: =B6+1 -> 2021 | C7: 1393153 | D7: =E7-C7 -> 796637.77 | E7: ='Chô_5%'!AI7*1000 -> 2189790.8
B8: =B7+1 -> 2022 | C8: 1386721.6 | D8: =E8-C8 -> 801479.48 | E8: ='Chô_5%'!AI8*1000 -> 2188201.1
B9: =B8+1 -> 2023 | C9: 1348891 | D9: =E9-C9 -> 795600.74 | E9: ='Chô_5%'!AI9*1000 -> 2144491.8
B10: =B9+1 -> 2024 | C10: 1346333.5 | D10: =E10-C10 -> 805355 | E10: ='Chô_5%'!AI10*1000 -> 2151688.5
B11: =B10+1 -> 2025 | C11: 1340577.6 | D11: =E11-C11 -> 805241.11 | E11: ='Chô_5%'!AI11*1000 -> 2145818.7
B12: =B11+1 -> 2026 | C12: 1340577.6 | D12: =E12-C12 -> 805741.11 | E12: ='Chô_5%'!AI12*1000 -> 2146318.7
B13: =B12+1 -> 2027 | C13: 1340577.6 | D13: =E13-C13 -> 806241.11 | E13: ='Chô_5%'!AI13*1000 -> 2146818.7
B14: =B13+1 -> 2028 | C14: 1340577.6 | D14: =E14-C14 -> 806241.11 | E14: ='Chô_5%'!AI14*1000 -> 2146818.7
B15: =B14+1 -> 2029 | C15: 1340577.6 | D15: =E15-C15 -> 806241.11 | E15: ='Chô_5%'!AI15*1000 -> 2146818.7
B16: =B15+1 -> 2030 | C16: 1340577.6 | D16: =E16-C16 -> 806241.11 | E16: ='Chô_5%'!AI16*1000 -> 2146818.7
B17: =B16+1 -> 2031 | C17: 1340577.6 | D17: =E17-C17 -> 806241.11 | E17: ='Chô_5%'!AI17*1000 -> 2146818.7
B18: =B17+1 -> 2032 | C18: 1340577.6 | D18: =E18-C18 -> 806241.11 | E18: ='Chô_5%'!AI18*1000 -> 2146818.7
... B56: =B55+1 -> 2070 | C56: 1123077.3 | D56: =E56-C56 -> 806241.11 | E56: ='Chô_5%'!AI56*1000 -> 1929318.4
