Workbook

Sheet INFO
B1: Date de mise à jour
B2: - 23 avril 2026
B4: Onglet | C4: Contenu | D4: Méthode | E4: Dernière valeur connue | F4: Projection
B5: SMPT | C5: SMPT (historique et projeté, évolutions en réel et en nominal) | D5: Le SMPT est égal au rapport entre la masse des revenus déclarés (revenus mixtes d'activité et salaires et traitements bruts) et l'emploi total au sens de la comptabilité nationale. | E5: 2024 | F5: Selon scénario
B6: SMPT_AP | D6: Prise en compte de l'activité partielle de 2020 à 2022 dans les revenus d'activité | E6: =E5 -> 2024
B7: SMPT_reg_1,0% | D7: L'onglet SMPT_CSR_reg_0,7% concerne la variante demandée par la part des primes où le TI et le SMPT des fonctionnaires évoluent dès 2027 comme la RMPT de l'ensemble de l'économie, Cette variante est réalisée par le SG-COR. | E7: 2024 (Source : Acoss et régimes) | F7: Selon scénario
B8: SMPT_reg_0,7%
B9: SMPT_CSR_reg_0,7%
B10: SMPT_reg_0,4%
B11: MS_plafonnée | C11: Masse salariale plafonnée pour les régimes du secteur privé | D11: Voir la méthode de projection dans le cahier des charges | F11: =F7 -> Selon scénario
B12: SMPT_FPE | C12: Évolution du SMPT de la FPE | E12: 2024 | F12: Selon scénario
B13: TI_SMPT_CNRACL | C13: Évolution des TI par versant (FPH et FPT) et du SMPT de la CNRACL pour les deux versants | E13: 2024 | F13: Selon scénario
B14: SMIC | C14: Smic (historique et projeté) | D14: Smic horaire en moyenne annuelle * durée légale hebdomadaire du travail. Le Smic évolue comme le SMPT après un raccord linéaire sur une période de 10 ans (ici de 2028 à 2037). La valeur 2022 inclut la revalorisation automatique due à l'inflation de 2,01% au 01/08/2022. | E14: 46023 | F14: =F13 -> Selon scénario
B15: Prix | C15: Prix à la consommation (historique des évolutions et projeté) | D15: Série de pouvoir d'achat (yc tabac; les prix hors tabac sont dans le fichier Hypo_paramètres) | E15: 2025 | F15: Tous scénarios
B16: PSS | C16: Plafond de la sécurité sociale | D16: Selon le SMPT de n-1 | E16: =E14 -> 46023 | F16: Selon scénario
B17: PIB | C17: PIB (historique et projeté, en volume et en valeur) | D17: Séries de la comptabilité nationale, base 2014 | E17: 2024 | F17: Selon scénario
B18: Rdt_fi | C18: Rendements financiers servant au calcul des rendements des réserves et provisions | D18: Modification sept 2017 : Par convention, le rendement financier en 2017 (en nominal) est égal à 60% du taux des emprunts d'État ayant une échéance de plus d'au moins 7 ans et 40% du taux de rendement des actions (= à évol CAC_Net Return / évol CAC40) (+/- allocations d'actifs de l'AGIRC-ARRCO, voir règlement financier de juillet 2016). Ensuite le taux de rendement rejoint linéairement le taux de croissance du PIB (horizon 2023). | E18: 2025 | F18: =F17 -> Selon scénario

Sheet Graph
B1: ASSIETTE MOYENNE ENSEMBLE | I1: CNAV | P1: TI FPE civils et militaires | W1: TI CNRACL | AD1: SMPT FPE civils et militaires | AK1: SMPT CNRACL
C18: =SMPT_FPE!D5 -> Sc_0,7% CSR | D18: 0.01 | E18: 0,7% - avril 2025 | F18: 0.007 | G18: 0.004 | J18: =C18 -> Sc_0,7% CSR | K18: 0.01 | L18: =E18 -> 0,7% - avril 2025 | M18: 0.007 | N18: 0.004 | Q18: =J18 -> Sc_0,7% CSR | R18: 0.01 | S18: =L18 -> 0,7% - avril 2025 | T18: 0.007 | U18: 0.004 | X18: =Q18 -> Sc_0,7% CSR | Y18: 0.01 | Z18: =S18 -> 0,7% - avril 2025 | AA18: 0.007 | AB18: 0.004 | AE18: =X18 -> Sc_0,7% CSR | AF18: 0.01 | AG18: =Z18 -> 0,7% - avril 2025 | AH18: 0.007 | AI18: 0.004 | AL18: =AE18 -> Sc_0,7% CSR | AM18: 0.01 | AN18: =AG18 -> 0,7% - avril 2025 | AO18: 0.007 | AP18: 0.004
B19: 2022 | I19: 2022 | P19: 2022 | W19: 2022 | AD19: 2022 | AK19: 2022
B20: 2023 | C20: ='SMPT_CSR_rég_0,7%'!$C10 -> -0.0096 | D20: ='SMPT_rég_1,0%'!$C10 -> -0.0096 | E20: -0.0079 | F20: ='SMPT_rég_0,7%'!$C10 -> -0.0096 | G20: ='SMPT_rég_0,4%'!$C10 -> -0.0096 | I20: 2023 | J20: ='SMPT_CSR_rég_0,7%'!$D10 -> -0.0050634843 | K20: ='SMPT_rég_1,0%'!$D10 -> -0.0050634843 | L20: -0.0050634843 | M20: ='SMPT_rég_0,7%'!$D10 -> -0.0050634843 | N20: ='SMPT_rég_0,4%'!$D10 -> -0.0050634843 | P20: 2023 | Q20: ='SMPT_CSR_rég_0,7%'!$F10 -> -4.9015748e-05 | R20: ='SMPT_rég_1,0%'!$F10 -> -4.9015748e-05 | S20: -0.037608254 | T20: ='SMPT_rég_0,7%'!$F10 -> -4.9015748e-05 | U20: ='SMPT_rég_0,4%'!$F10 -> -4.9015748e-05 | W20: 2023 | X20: ='SMPT_CSR_rég_0,7%'!$H10 -> -0.01291141 | Y20: ='SMPT_rég_1,0%'!$H10 -> -0.01291141 | Z20: 0.0067922371 | AA20: ='SMPT_rég_0,7%'!$H10 -> -0.01291141 | AB20: ='SMPT_rég_0,4%'!$H10 -> -0.01291141 | AD20: 2023 | AE20: =SMPT_FPE!I10 -> -4.9015748e-05 | AF20: =SMPT_FPE!J10 -> -4.9015748e-05 | AG20: -0.0078485834 | AH20: =SMPT_FPE!K10 -> -4.9015748e-05 | AI20: =SMPT_FPE!L10 -> -4.9015748e-05 | AK20: 2023 | AL20: =TI_SMPT_CNRACL!$I10 -> -0.0096431082 | AM20: =TI_SMPT_CNRACL!J10 -> -0.0096431082 | AN20: 0.0067922371 | AO20: =TI_SMPT_CNRACL!$K10 -> -0.0096431082 | AP20: =TI_SMPT_CNRACL!L10 -> -0.0096431082
B21: =B20+1 -> 2024 | C21: ='SMPT_CSR_rég_0,7%'!$C11 -> 0.0037 | D21: ='SMPT_rég_1,0%'!$C11 -> 0.0037 | E21: 0.0078 | F21: ='SMPT_rég_0,7%'!$C11 -> 0.0037 | G21: ='SMPT_rég_0,4%'!$C11 -> 0.0037 | I21: =I20+1 -> 2024 | J21: ='SMPT_CSR_rég_0,7%'!$D11 -> 0.0088184777 | K21: ='SMPT_rég_1,0%'!$D11 -> 0.0088184777 | L21: 0.0088184777 | M21: ='SMPT_rég_0,7%'!$D11 -> 0.0088184777 | N21: ='SMPT_rég_0,4%'!$D11 -> 0.0088184777 | P21: =P20+1 -> 2024 | Q21: ='SMPT_CSR_rég_0,7%'!$F11 -> -0.015115916 | R21: ='SMPT_rég_1,0%'!$F11 -> -0.015115916 | S21: 0.0054652774 | T21: ='SMPT_rég_0,7%'!$F11 -> -0.015115916 | U21: ='SMPT_rég_0,4%'!$F11 -> -0.015115916 | W21: =W20+1 -> 2024 | X21: ='SMPT_CSR_rég_0,7%'!$H11 -> 0.027281372 | Y21: ='SMPT_rég_1,0%'!$H11 -> 0.027281372 | Z21: 0.0071767379 | AA21: ='SMPT_rég_0,7%'!$H11 -> 0.027281372 | AB21: ='SMPT_rég_0,4%'!$H11 -> 0.027281372 | AD21: =AD20+1 -> 2024 | AE21: =SMPT_FPE!I11 -> 9.3031213e-05 | AF21: =SMPT_FPE!J11 -> 9.3031213e-05 | AG21: 0.0054652774 | AH21: =SMPT_FPE!K11 -> 9.3031213e-05 | AI21: =SMPT_FPE!L11 -> 9.3031213e-05 | AK21: =AK20+1 -> 2024 | AL21: =TI_SMPT_CNRACL!$I11 -> 0.027281372 | AM21: =TI_SMPT_CNRACL!J11 -> 0.027281372 | AN21: 0.0071767379 | AO21: =TI_SMPT_CNRACL!$K11 -> 0.027281372 | AP21: =TI_SMPT_CNRACL!L11 -> 0.027281372
B22: =B21+1 -> 2025 | C22: ='SMPT_CSR_rég_0,7%'!$C12 -> 0.0039 | D22: ='SMPT_rég_1,0%'!$C12 -> 0.0039 | E22: 0.0042 | F22: ='SMPT_rég_0,7%'!$C12 -> 0.0039 | G22: ='SMPT_rég_0,4%'!$C12 -> 0.0039 | I22: =I21+1 -> 2025 | J22: ='SMPT_CSR_rég_0,7%'!$D12 -> 0.0099202863 | K22: ='SMPT_rég_1,0%'!$D12 -> 0.0099202863 | L22: 0.010590863 | M22: ='SMPT_rég_0,7%'!$D12 -> 0.0099202863 | N22: ='SMPT_rég_0,4%'!$D12 -> 0.0099202863 | P22: =P21+1 -> 2025 | Q22: ='SMPT_CSR_rég_0,7%'!$F12 -> 0.0034031539 | R22: ='SMPT_rég_1,0%'!$F12 -> 0.0034031539 | S22: -0.012333498 | T22: ='SMPT_rég_0,7%'!$F12 -> 0.0034031539 | U22: ='SMPT_rég_0,4%'!$F12 -> 0.0034031539 | W22: =W21+1 -> 2025 | X22: ='SMPT_CSR_rég_0,7%'!$H12 -> -0.0027767996 | Y22: ='SMPT_rég_1,0%'!$H12 -> -0.0027767996 | Z22: -0.012212103 | AA22: ='SMPT_rég_0,7%'!$H12 -> -0.0027767996 | AB22: ='SMPT_rég_0,4%'!$H12 -> -0.0027767996 | AD22: =AD21+1 -> 2025 | AE22: =SMPT_FPE!I12 -> 0.0034031539 | AF22: =SMPT_FPE!J12 -> 0.0034031539 | AG22: 0 | AH22: =SMPT_FPE!K12 -> 0.0034031539 | AI22: =SMPT_FPE!L12 -> 0.0034031539 | AK22: =AK21+1 -> 2025 | AL22: =TI_SMPT_CNRACL!$I12 -> -3.052501e-05 | AM22: =TI_SMPT_CNRACL!J12 -> -3.052501e-05 | AN22: 0 | AO22: =TI_SMPT_CNRACL!$K12 -> -3.052501e-05 | AP22: =TI_SMPT_CNRACL!L12 -> -3.052501e-05
B23: =B22+1 -> 2026 | C23: ='SMPT_CSR_rég_0,7%'!$C13 -> -0.002 | D23: ='SMPT_rég_1,0%'!$C13 -> -0.002 | E23: 0.0049 | F23: ='SMPT_rég_0,7%'!$C13 -> -0.002 | G23: ='SMPT_rég_0,4%'!$C13 -> -0.002 | I23: =I22+1 -> 2026 | J23: ='SMPT_CSR_rég_0,7%'!$D13 -> 0.003506506 | K23: ='SMPT_rég_1,0%'!$D13 -> 0.003506506 | L23: 0.012206859 | M23: ='SMPT_rég_0,7%'!$D13 -> 0.003506506 | N23: ='SMPT_rég_0,4%'!$D13 -> 0.003506506 | P23: =P22+1 -> 2026 | Q23: ='SMPT_CSR_rég_0,7%'!$F13 -> -0.017375086 | R23: ='SMPT_rég_1,0%'!$F13 -> -0.017375086 | S23: -0.012917858 | T23: ='SMPT_rég_0,7%'!$F13 -> -0.017375086 | U23: ='SMPT_rég_0,4%'!$F13 -> -0.017375086 | W23: =W22+1 -> 2026 | X23: ='SMPT_CSR_rég_0,7%'!$H13 -> -0.017410065 | Y23: ='SMPT_rég_1,0%'!$H13 -> -0.017410065 | Z23: -0.012917858 | AA23: ='SMPT_rég_0,7%'!$H13 -> -0.017410065 | AB23: ='SMPT_rég_0,4%'!$H13 -> -0.017410065 | AD23: =AD22+1 -> 2026 | AE23: =SMPT_FPE!I13 -> 0 | AF23: =SMPT_FPE!J13 -> 0 | AG23: 0 | AH23: =SMPT_FPE!K13 -> 0 | AI23: =SMPT_FPE!L13 -> 0 | AK23: =AK22+1 -> 2026 | AL23: =TI_SMPT_CNRACL!$I13 -> 0 | AM23: =TI_SMPT_CNRACL!J13 -> 0 | AN23: 0 | AO23: =TI_SMPT_CNRACL!$K13 -> 0 | AP23: =TI_SMPT_CNRACL!L13 -> 0
B24: =B23+1 -> 2027 | C24: ='SMPT_CSR_rég_0,7%'!$C14 -> 0.0048 | D24: ='SMPT_rég_1,0%'!$C14 -> 0.0048 | E24: 0.0053 | F24: ='SMPT_rég_0,7%'!$C14 -> 0.0048 | G24: ='SMPT_rég_0,4%'!$C14 -> 0.0048 | I24: =I23+1 -> 2027 | J24: ='SMPT_CSR_rég_0,7%'!$D14 -> 0.011986399 | K24: ='SMPT_rég_1,0%'!$D14 -> 0.011986399 | L24: 0.010712531 | M24: ='SMPT_rég_0,7%'!$D14 -> 0.011986399 | N24: ='SMPT_rég_0,4%'!$D14 -> 0.011986399 | P24: =P23+1 -> 2027 | Q24: ='SMPT_CSR_rég_0,7%'!$F14 -> 0.0048 | R24: ='SMPT_rég_1,0%'!$F14 -> -0.014860742 | S24: -0.016216216 | T24: ='SMPT_rég_0,7%'!$F14 -> -0.014860742 | U24: ='SMPT_rég_0,4%'!$F14 -> -0.014860742 | W24: =W23+1 -> 2027 | X24: ='SMPT_CSR_rég_0,7%'!$H14 -> 0.0048 | Y24: ='SMPT_rég_1,0%'!$H14 -> -0.014860742 | Z24: -0.016216216 | AA24: ='SMPT_rég_0,7%'!$H14 -> -0.014860742 | AB24: ='SMPT_rég_0,4%'!$H14 -> -0.014860742 | AD24: =AD23+1 -> 2027 | AE24: =SMPT_FPE!I14 -> 0.0048 | AF24: =SMPT_FPE!J14 -> 0 | AG24: 0 | AH24: =SMPT_FPE!K14 -> 0 | AI24: =SMPT_FPE!L14 -> 0 | AK24: =AK23+1 -> 2027 | AL24: =TI_SMPT_CNRACL!$I14 -> 0.0048 | AM24: =TI_SMPT_CNRACL!J14 -> 0 | AN24: 0 | AO24: =TI_SMPT_CNRACL!$K14 -> 0 | AP24: =TI_SMPT_CNRACL!L14 -> 0
B25: =B24+1 -> 2028 | C25: ='SMPT_CSR_rég_0,7%'!$C15 -> 0.0053 | D25: ='SMPT_rég_1,0%'!$C15 -> 0.0053 | E25: 0.006 | F25: ='SMPT_rég_0,7%'!$C15 -> 0.0053 | G25: ='SMPT_rég_0,4%'!$C15 -> 0.0053 | I25: =I24+1 -> 2028 | J25: ='SMPT_CSR_rég_0,7%'!$D15 -> 0.011022416 | K25: ='SMPT_rég_1,0%'!$D15 -> 0.011022416 | L25: 0.010599046 | M25: ='SMPT_rég_0,7%'!$D15 -> 0.011022416 | N25: ='SMPT_rég_0,4%'!$D15 -> 0.011022416 | P25: =P24+1 -> 2028 | Q25: ='SMPT_CSR_rég_0,7%'!$F15 -> 0.0053 | R25: ='SMPT_rég_1,0%'!$F15 -> -0.011252973 | S25: -0.011452973 | T25: ='SMPT_rég_0,7%'!$F15 -> -0.011412973 | U25: ='SMPT_rég_0,4%'!$F15 -> -0.011592973 | W25: =W24+1 -> 2028 | X25: ='SMPT_CSR_rég_0,7%'!$H15 -> 0.0053 | Y25: ='SMPT_rég_1,0%'!$H15 -> -0.011245969 | Z25: -0.011452973 | AA25: ='SMPT_rég_0,7%'!$H15 -> -0.011405969 | AB25: ='SMPT_rég_0,4%'!$H15 -> -0.011585969 | AD25: =AD24+1 -> 2028 | AE25: =SMPT_FPE!I15 -> 0.0053 | AF25: =SMPT_FPE!J15 -> 0.0006192629 | AG25: 0.00182 | AH25: =SMPT_FPE!K15 -> 0.0004592629 | AI25: =SMPT_FPE!L15 -> 0.0002792629 | AK25: =AK24+1 -> 2028 | AL25: =TI_SMPT_CNRACL!$I15 -> 0.0053 | AM25: =TI_SMPT_CNRACL!J15 -> 0.0006192629 | AN25: 0.00182 | AO25: =TI_SMPT_CNRACL!$K15 -> 0.0004592629 | AP25: =TI_SMPT_CNRACL!L15 -> 0.0002792629
B26: =B25+1 -> 2029 | C26: ='SMPT_CSR_rég_0,7%'!$C16 -> 0.006 | D26: ='SMPT_rég_1,0%'!$C16 -> 0.006 | E26: 0.0046 | F26: ='SMPT_rég_0,7%'!$C16 -> 0.006 | G26: ='SMPT_rég_0,4%'!$C16 -> 0.006 | I26: =I25+1 -> 2029 | J26: ='SMPT_CSR_rég_0,7%'!$D16 -> 0.011110881 | K26: ='SMPT_rég_1,0%'!$D16 -> 0.011110881 | L26: 0.0083538084 | M26: ='SMPT_rég_0,7%'!$D16 -> 0.011110881 | N26: ='SMPT_rég_0,4%'!$D16 -> 0.011110881 | P26: =P25+1 -> 2029 | Q26: ='SMPT_CSR_rég_0,7%'!$F16 -> 0.006 | R26: ='SMPT_rég_1,0%'!$F16 -> -0.0062897297 | S26: -0.0066897297 | T26: ='SMPT_rég_0,7%'!$F16 -> -0.0066097297 | U26: ='SMPT_rég_0,4%'!$F16 -> -0.0069697297 | W26: =W25+1 -> 2029 | X26: ='SMPT_CSR_rég_0,7%'!$H16 -> 0.006 | Y26: ='SMPT_rég_1,0%'!$H16 -> -0.0062757214 | Z26: -0.0066897297 | AA26: ='SMPT_rég_0,7%'!$H16 -> -0.0065957214 | AB26: ='SMPT_rég_0,4%'!$H16 -> -0.0069557214 | AD26: =AD25+1 -> 2029 | AE26: =SMPT_FPE!I16 -> 0.006 | AF26: =SMPT_FPE!J16 -> 0.0026144472 | AG26: 0.00364 | AH26: =SMPT_FPE!K16 -> 0.0022944472 | AI26: =SMPT_FPE!L16 -> 0.0019344472 | AK26: =AK25+1 -> 2029 | AL26: =TI_SMPT_CNRACL!$I16 -> 0.006 | AM26: =TI_SMPT_CNRACL!J16 -> 0.0026144472 | AN26: 0.00364 | AO26: =TI_SMPT_CNRACL!$K16 -> 0.0022944472 | AP26: =TI_SMPT_CNRACL!L16 -> 0.0019344472
B27: =B26+1 -> 2030 | C27: ='SMPT_CSR_rég_0,7%'!$C17 -> 0.0079 | D27: ='SMPT_rég_1,0%'!$C17 -> 0.0082 | E27: 0.0093 | F27: ='SMPT_rég_0,7%'!$C17 -> 0.0079 | G27: ='SMPT_rég_0,4%'!$C17 -> 0.0077 | I27: =I26+1 -> 2030 | J27: ='SMPT_CSR_rég_0,7%'!$D17 -> 0.011127211 | K27: ='SMPT_rég_1,0%'!$D17 -> 0.011127211 | L27: 0.0065175602 | M27: ='SMPT_rég_0,7%'!$D17 -> 0.011127211 | N27: ='SMPT_rég_0,4%'!$D17 -> 0.011127211 | P27: =P26+1 -> 2030 | Q27: ='SMPT_CSR_rég_0,7%'!$F17 -> 0.0079 | R27: ='SMPT_rég_1,0%'!$F17 -> -0.0013264865 | S27: -0.0019264865 | T27: ='SMPT_rég_0,7%'!$F17 -> -0.0018064865 | U27: ='SMPT_rég_0,4%'!$F17 -> -0.0023464865 | W27: =W26+1 -> 2030 | X27: ='SMPT_CSR_rég_0,7%'!$H17 -> 0.0079 | Y27: ='SMPT_rég_1,0%'!$H17 -> -0.001305474 | Z27: -0.0019264865 | AA27: ='SMPT_rég_0,7%'!$H17 -> -0.001785474 | AB27: ='SMPT_rég_0,4%'!$H17 -> -0.002325474 | AD27: =AD26+1 -> 2030 | AE27: =SMPT_FPE!I17 -> 0.0079 | AF27: =SMPT_FPE!J17 -> 0.0046096314 | AG27: 0.00546 | AH27: =SMPT_FPE!K17 -> 0.0041296314 | AI27: =SMPT_FPE!L17 -> 0.0035896314 | AK27: =AK26+1 -> 2030 | AL27: =TI_SMPT_CNRACL!$I17 -> 0.0079 | AM27: =TI_SMPT_CNRACL!J17 -> 0.0046096314 | AN27: 0.00546 | AO27: =TI_SMPT_CNRACL!$K17 -> 0.0041296314 | AP27: =TI_SMPT_CNRACL!L17 -> 0.0035896314
B28: =B27+1 -> 2031 | C28: ='SMPT_CSR_rég_0,7%'!$C18 -> 0.0079 | D28: ='SMPT_rég_1,0%'!$C18 -> 0.0084 | E28: 0.0092 | F28: ='SMPT_rég_0,7%'!$C18 -> 0.0079 | G28: ='SMPT_rég_0,4%'!$C18 -> 0.0073 | I28: =I27+1 -> 2031 | J28: ='SMPT_CSR_rég_0,7%'!$D18 -> 0.010338825 | K28: ='SMPT_rég_1,0%'!$D18 -> 0.010733918 | L28: 0.0064310438 | M28: ='SMPT_rég_0,7%'!$D18 -> 0.010333517 | N28: ='SMPT_rég_0,4%'!$D18 -> 0.0099080508 | P28: =P27+1 -> 2031 | Q28: ='SMPT_CSR_rég_0,7%'!$F18 -> 0.0079 | R28: ='SMPT_rég_1,0%'!$F18 -> 0.00098280098 | S28: 0.00098280098 | T28: ='SMPT_rég_0,7%'!$F18 -> 0.00098280098 | U28: ='SMPT_rég_0,4%'!$F18 -> 0.00098280098 | W28: =W27+1 -> 2031 | X28: ='SMPT_CSR_rég_0,7%'!$H18 -> 0.0079 | Y28: ='SMPT_rég_1,0%'!$H18 -> 0.00098280098 | Z28: 0.00098280098 | AA28: ='SMPT_rég_0,7%'!$H18 -> 0.00098280098 | AB28: ='SMPT_rég_0,4%'!$H18 -> 0.00098280098 | AD28: =AD27+1 -> 2031 | AE28: =SMPT_FPE!I18 -> 0.0079 | AF28: =SMPT_FPE!J18 -> 0.0066048157 | AG28: 0.00728 | AH28: =SMPT_FPE!K18 -> 0.0059648157 | AI28: =SMPT_FPE!L18 -> 0.0052448157 | AK28: =AK27+1 -> 2031 | AL28: =TI_SMPT_CNRACL!$I18 -> 0.0079 | AM28: =TI_SMPT_CNRACL!J18 -> 0.0066048157 | AN28: 0.00728 | AO28: =TI_SMPT_CNRACL!$K18 -> 0.0059648157 | AP28: =TI_SMPT_CNRACL!L18 -> 0.0052448157
B29: =B28+1 -> 2032 | C29: ='SMPT_CSR_rég_0,7%'!$C19 -> 0.0078 | D29: ='SMPT_rég_1,0%'!$C19 -> 0.0086 | E29: 0.0091 | F29: ='SMPT_rég_0,7%'!$C19 -> 0.0078 | G29: ='SMPT_rég_0,4%'!$C19 -> 0.0069 | I29: =I28+1 -> 2032 | J29: ='SMPT_CSR_rég_0,7%'!$D19 -> 0.0095504392 | K29: ='SMPT_rég_1,0%'!$D19 -> 0.010340624 | L29: 0.0059392525 | M29: ='SMPT_rég_0,7%'!$D19 -> 0.0095398226 | N29: ='SMPT_rég_0,4%'!$D19 -> 0.0086888905 | P29: =P28+1 -> 2032 | Q29: ='SMPT_CSR_rég_0,7%'!$F19 -> 0.0078 | R29: ='SMPT_rég_1,0%'!$F19 -> 0.00098280098 | S29: 0.00098280098 | T29: ='SMPT_rég_0,7%'!$F19 -> 0.00098280098 | U29: ='SMPT_rég_0,4%'!$F19 -> 0.00098280098 | W29: =W28+1 -> 2032 | X29: ='SMPT_CSR_rég_0,7%'!$H19 -> 0.0078 | Y29: ='SMPT_rég_1,0%'!$H19 -> 0.00098280098 | Z29: 0.00098280098 | AA29: ='SMPT_rég_0,7%'!$H19 -> 0.00098280098 | AB29: ='SMPT_rég_0,4%'!$H19 -> 0.00098280098 | AD29: =AD28+1 -> 2032 | AE29: =SMPT_FPE!I19 -> 0.0078 | AF29: =SMPT_FPE!J19 -> 0.0086 | AG29: 0.0091 | AH29: =SMPT_FPE!K19 -> 0.0078 | AI29: =SMPT_FPE!L19 -> 0.0069 | AK29: =AK28+1 -> 2032 | AL29: =TI_SMPT_CNRACL!$I19 -> 0.0078 | AM29: =TI_SMPT_CNRACL!J19 -> 0.0086 | AN29: 0.0091 | AO29: =TI_SMPT_CNRACL!$K19 -> 0.0078 | AP29: =TI_SMPT_CNRACL!L19 -> 0.0069
B30: =B29+1 -> 2033 | C30: ='SMPT_CSR_rég_0,7%'!$C20 -> 0.0077 | D30: ='SMPT_rég_1,0%'!$C20 -> 0.0088 | E30: 0.0076 | F30: ='SMPT_rég_0,7%'!$C20 -> 0.0077 | G30: ='SMPT_rég_0,4%'!$C20 -> 0.0066 | I30: =I29+1 -> 2033 | J30: ='SMPT_CSR_rég_0,7%'!$D20 -> 0.0087620532 | K30: ='SMPT_rég_1,0%'!$D20 -> 0.0099473307 | L30: 0.0059392525 | M30: ='SMPT_rég_0,7%'!$D20 -> 0.0087461283 | N30: ='SMPT_rég_0,4%'!$D20 -> 0.0074697302 | P30: =P29+1 -> 2033 | Q30: ='SMPT_CSR_rég_0,7%'!$F20 -> 0.0077 | R30: ='SMPT_rég_1,0%'!$F20 -> 0.0026862408 | S30: 0.0022462408 | T30: ='SMPT_rég_0,7%'!$F20 -> 0.0022462408 | U30: ='SMPT_rég_0,4%'!$F20 -> 0.0018062408 | W30: =W29+1 -> 2033 | X30: ='SMPT_CSR_rég_0,7%'!$H20 -> 0.0077 | Y30: ='SMPT_rég_1,0%'!$H20 -> 0.0026862408 | Z30: 0.0022462408 | AA30: ='SMPT_rég_0,7%'!$H20 -> 0.0022462408 | AB30: ='SMPT_rég_0,4%'!$H20 -> 0.0018062408 | AD30: =AD29+1 -> 2033 | AE30: =SMPT_FPE!I20 -> 0.0077 | AF30: =SMPT_FPE!J20 -> 0.0088 | AG30: 0.0076 | AH30: =SMPT_FPE!K20 -> 0.0077 | AI30: =SMPT_FPE!L20 -> 0.0066 | AK30: =AK29+1 -> 2033 | AL30: =TI_SMPT_CNRACL!$I20 -> 0.0077 | AM30: =TI_SMPT_CNRACL!J20 -> 0.0088 | AN30: 0.0076 | AO30: =TI_SMPT_CNRACL!$K20 -> 0.0077 | AP30: =TI_SMPT_CNRACL!L20 -> 0.0066
B31: =B30+1 -> 2034 | C31: ='SMPT_CSR_rég_0,7%'!$C21 -> 0.0075 | D31: ='SMPT_rég_1,0%'!$C21 -> 0.0089 | E31: 0.0075 | F31: ='SMPT_rég_0,7%'!$C21 -> 0.0075 | G31: ='SMPT_rég_0,4%'!$C21 -> 0.0062 | I31: =I30+1 -> 2034 | J31: ='SMPT_CSR_rég_0,7%'!$D21 -> 0.0079736672 | K31: ='SMPT_rég_1,0%'!$D21 -> 0.0095540372 | L31: 0.0074807153 | M31: ='SMPT_rég_0,7%'!$D21 -> 0.007952434 | N31: ='SMPT_rég_0,4%'!$D21 -> 0.0062505698 | P31: =P30+1 -> 2034 | Q31: ='SMPT_CSR_rég_0,7%'!$F21 -> 0.0075 | R31: ='SMPT_rég_1,0%'!$F21 -> 0.0043896806 | S31: 0.0035096806 | T31: ='SMPT_rég_0,7%'!$F21 -> 0.0035096806 | U31: ='SMPT_rég_0,4%'!$F21 -> 0.0026296806 | W31: =W30+1 -> 2034 | X31: ='SMPT_CSR_rég_0,7%'!$H21 -> 0.0075 | Y31: ='SMPT_rég_1,0%'!$H21 -> 0.0043896806 | Z31: 0.0035096806 | AA31: ='SMPT_rég_0,7%'!$H21 -> 0.0035096806 | AB31: ='SMPT_rég_0,4%'!$H21 -> 0.0026296806 | AD31: =AD30+1 -> 2034 | AE31: =SMPT_FPE!I21 -> 0.0075 | AF31: =SMPT_FPE!J21 -> 0.0089 | AG31: 0.0075 | AH31: =SMPT_FPE!K21 -> 0.0075 | AI31: =SMPT_FPE!L21 -> 0.0062 | AK31: =AK30+1 -> 2034 | AL31: =TI_SMPT_CNRACL!$I21 -> 0.0075 | AM31: =TI_SMPT_CNRACL!J21 -> 0.0089 | AN31: 0.0075 | AO31: =TI_SMPT_CNRACL!$K21 -> 0.0075 | AP31: =TI_SMPT_CNRACL!L21 -> 0.0062
B32: =B31+1 -> 2035 | C32: ='SMPT_CSR_rég_0,7%'!$C22 -> 0.0075 | D32: ='SMPT_rég_1,0%'!$C22 -> 0.0091 | E32: 0.0075 | F32: ='SMPT_rég_0,7%'!$C22 -> 0.0075 | G32: ='SMPT_rég_0,4%'!$C22 -> 0.0058 | I32: =I31+1 -> 2035 | J32: ='SMPT_CSR_rég_0,7%'!$D22 -> 0.0079736672 | K32: ='SMPT_rég_1,0%'!$D22 -> 0.0095540372 | L32: 0.0074786049 | M32: ='SMPT_rég_0,7%'!$D22 -> 0.007952434 | N32: ='SMPT_rég_0,4%'!$D22 -> 0.0062505698 | P32: =P31+1 -> 2035 | Q32: ='SMPT_CSR_rég_0,7%'!$F22 -> 0.0075 | R32: ='SMPT_rég_1,0%'!$F22 -> 0.0060931204 | S32: 0.0047731204 | T32: ='SMPT_rég_0,7%'!$F22 -> 0.0047731204 | U32: ='SMPT_rég_0,4%'!$F22 -> 0.0034531204 | W32: =W31+1 -> 2035 | X32: ='SMPT_CSR_rég_0,7%'!$H22 -> 0.0075 | Y32: ='SMPT_rég_1,0%'!$H22 -> 0.0060931204 | Z32: 0.0047731204 | AA32: ='SMPT_rég_0,7%'!$H22 -> 0.0047731204 | AB32: ='SMPT_rég_0,4%'!$H22 -> 0.0034531204 | AD32: =AD31+1 -> 2035 | AE32: =SMPT_FPE!I22 -> 0.0075 | AF32: =SMPT_FPE!J22 -> 0.0091 | AG32: 0.0075 | AH32: =SMPT_FPE!K22 -> 0.0075 | AI32: =SMPT_FPE!L22 -> 0.0058 | AK32: =AK31+1 -> 2035 | AL32: =TI_SMPT_CNRACL!$I22 -> 0.0075 | AM32: =TI_SMPT_CNRACL!J22 -> 0.0091 | AN32: 0.0075 | AO32: =TI_SMPT_CNRACL!$K22 -> 0.0075 | AP32: =TI_SMPT_CNRACL!L22 -> 0.0058
... B67: =B66+1 -> 2070 | C67: ='SMPT_CSR_rég_0,7%'!$C57 -> 0.007 | D67: ='SMPT_rég_1,0%'!$C57 -> 0.01 | E67: 0.007 | F67: ='SMPT_rég_0,7%'!$C57 -> 0.007 | G67: ='SMPT_rég_0,4%'!$C57 -> 0.004 | I67: =I66+1 -> 2070 | J67: ='SMPT_CSR_rég_0,7%'!$D57 -> 0.0071253767 | K67: ='SMPT_rég_1,0%'!$D57 -> 0.010124209 | L67: 0.0068707502 | M67: ='SMPT_rég_0,7%'!$D57 -> 0.0071237735 | N67: ='SMPT_rég_0,4%'!$D57 -> 0.0041233218 | P67: =P66+1 -> 2070 | Q67: ='SMPT_CSR_rég_0,7%'!$F57 -> 0.007 | R67: ='SMPT_rég_1,0%'!$F57 -> 0.01 | S67: 0.007 | T67: ='SMPT_rég_0,7%'!$F57 -> 0.007 | U67: ='SMPT_rég_0,4%'!$F57 -> 0.004 | W67: =W66+1 -> 2070 | X67: ='SMPT_CSR_rég_0,7%'!$H57 -> 0.007 | Y67: ='SMPT_rég_1,0%'!$H57 -> 0.01 | Z67: 0.007 | AA67: ='SMPT_rég_0,7%'!$H57 -> 0.007 | AB67: ='SMPT_rég_0,4%'!$H57 -> 0.004 | AD67: =AD66+1 -> 2070 | AE67: =SMPT_FPE!I57 -> 0.007 | AF67: =SMPT_FPE!J57 -> 0.01 | AG67: 0.007 | AH67: =SMPT_FPE!K57 -> 0.007 | AI67: =SMPT_FPE!L57 -> 0.004 | AK67: =AK66+1 -> 2070 | AL67: =TI_SMPT_CNRACL!$I57 -> 0.007 | AM67: =TI_SMPT_CNRACL!J57 -> 0.01 | AN67: 0.007 | AO67: =TI_SMPT_CNRACL!$K57 -> 0.007 | AP67: =TI_SMPT_CNRACL!L57 -> 0.004

Sheet SMPT_rég_1,0%
B1: Hypothèses de SMPT
B3: Hypothèses de long terme : gains de productivité du travail = 1,0 % ; taux de chômage = 5 % ou 7 %
B4: Année | C4: Évolutions en réel | Y4: Évolutions en nominal
C5: SMPT Ensemble | D5: =Z5 -> CNAV | E5: =AA5 -> MSA_SA | F5: =AB5 -> FPE civils et militaires | G5: =AC5 -> FSPOEIE | H5: =AD5 -> CNRACL | I5: =AE5 -> CANSSM | J5: =AF5 -> SNCF | K5: =AG5 -> RATP | ... X5: =AT5 -> IRCANTEC | Y5: =C5 -> SMPT Ensemble | Z5: CNAV | AA5: MSA_SA | AB5: FPE civils et militaires | AC5: FSPOEIE | AD5: CNRACL | AE5: CANSSM | AF5: SNCF | AG5: RATP | AH5: ENIM | AI5: CNIEG | AJ5: CRPCEN | AK5: BDF | AL5: MSA_EXA | AM5: Régime général des non salariés | AN5: Auto-entrepreneurs SSI | AO5: CNAVPL_RB | AP5: Auto-entrepreneurs CNAVPL | AQ5: CNBF_RB | AR5: CRPNPAC | AS5: AGIRC-ARRCO | AT5: IRCANTEC
B6: 2019 | C6: 0.0061
B7: =B6+1 -> 2020 | C7: -0.0378 | D7: =(1+Z7)/(1+LOOKUP($B7,Prix!$B$6:$B$127,Prix!$J$6:$J$127))-1 -> -0.050256001 | E7: =(1+AA7)/(1+LOOKUP($B7,Prix!$B$6:$B$127,Prix!$J$6:$J$127))-1 -> -0.050794438 | F7: =(1+AB7)/(1+LOOKUP($B7,Prix!$B$6:$B$127,Prix!$J$6:$J$127))-1 -> 0.0077779241 | G7: =(1+AC7)/(1+LOOKUP($B7,Prix!$B$6:$B$127,Prix!$J$6:$J$127))-1 -> -6.0407132e-05 | H7: =(1+AD7)/(1+LOOKUP($B7,Prix!$B$6:$B$127,Prix!$J$6:$J$127))-1 -> 0.011024166 | I7: =(1+AE7)/(1+LOOKUP($B7,Prix!$B$6:$B$127,Prix!$J$6:$J$127))-1 -> -0.015812892 | J7: =(1+AF7)/(1+LOOKUP($B7,Prix!$B$6:$B$127,Prix!$J$6:$J$127))-1 -> -0.082249345 | K7: =(1+AG7)/(1+LOOKUP($B7,Prix!$B$6:$B$127,Prix!$J$6:$J$127))-1 -> -0.068992429 | ... X7: =(1+AT7)/(1+LOOKUP($B7,Prix!$B$6:$B$127,Prix!$J$6:$J$127))-1 -> 0.018640364 | Y7: -0.0457 | Z7: -0.0457 | AA7: -0.04624102 | AB7: 0.012612319 | AC7: 0.0047363865 | AD7: 0.015874133 | AE7: -0.011091664 | AF7: -0.077846819 | AG7: -0.064526308 | AH7: -0.021319894 | AI7: -0.0095883366 | AJ7: -0.086361817 | AK7: 0.024231051 | AL7: 0.019314514 | AM7: -0.023563502 | AN7: 0.45176279 | AO7: -0.050065704 | AP7: 0.15393573 | AQ7: -0.051475955 | AR7: 0 | AS7: -0.0457 | AT7: 0.023526867
B8: =B7+1 -> 2021 | C8: 0.0332 | D8: =(1+Z8)/(1+LOOKUP($B8,Prix!$B$6:$B$127,Prix!$J$6:$J$127))-1 -> 0.049759605 | E8: =(1+AA8)/(1+LOOKUP($B8,Prix!$B$6:$B$127,Prix!$J$6:$J$127))-1 -> 0.049367418 | F8: =(1+AB8)/(1+LOOKUP($B8,Prix!$B$6:$B$127,Prix!$J$6:$J$127))-1 -> -0.015637379 | G8: =(1+AC8)/(1+LOOKUP($B8,Prix!$B$6:$B$127,Prix!$J$6:$J$127))-1 -> -0.0012757323 | H8: =(1+AD8)/(1+LOOKUP($B8,Prix!$B$6:$B$127,Prix!$J$6:$J$127))-1 -> 0.027920394 | I8: =(1+AE8)/(1+LOOKUP($B8,Prix!$B$6:$B$127,Prix!$J$6:$J$127))-1 -> 0.050320895 | J8: =(1+AF8)/(1+LOOKUP($B8,Prix!$B$6:$B$127,Prix!$J$6:$J$127))-1 -> 0.07314357 | K8: =(1+AG8)/(1+LOOKUP($B8,Prix!$B$6:$B$127,Prix!$J$6:$J$127))-1 -> 0.020237978 | ... X8: =(1+AT8)/(1+LOOKUP($B8,Prix!$B$6:$B$127,Prix!$J$6:$J$127))-1 -> 0.00052653187 | Y8: 0.067 | Z8: 0.067 | AA8: 0.066601371 | AB8: 0.00052898901 | AC8: 0.0151265 | AD8: 0.044802119 | AE8: 0.067570508 | AF8: 0.090768003 | AG8: 0.036993534 | AH8: 0.041710862 | AI8: -0.032652914 | AJ8: 0.097951545 | AK8: 0.043604105 | AL8: 0.019915954 | AM8: 0.039156927 | AN8: -0.081762486 | AO8: 0.050354394 | AP8: -0.073156469 | AQ8: 0.088569723 | AR8: 0 | AS8: 0.067 | AT8: 0.016958363
B9: =B8+1 -> 2022 | C9: -0.0002 | D9: =(1+Z9)/(1+LOOKUP($B9,Prix!$B$6:$B$127,Prix!$J$6:$J$127))-1 -> 4.1657185e-05 | E9: =(1+AA9)/(1+LOOKUP($B9,Prix!$B$6:$B$127,Prix!$J$6:$J$127))-1 -> 4.1657185e-05 | F9: =(1+AB9)/(1+LOOKUP($B9,Prix!$B$6:$B$127,Prix!$J$6:$J$127))-1 -> -0.028350085 | G9: =(1+AC9)/(1+LOOKUP($B9,Prix!$B$6:$B$127,Prix!$J$6:$J$127))-1 -> -0.011616203 | H9: =(1+AD9)/(1+LOOKUP($B9,Prix!$B$6:$B$127,Prix!$J$6:$J$127))-1 -> -0.013651355 | I9: =(1+AE9)/(1+LOOKUP($B9,Prix!$B$6:$B$127,Prix!$J$6:$J$127))-1 -> -0.004283947 | J9: =(1+AF9)/(1+LOOKUP($B9,Prix!$B$6:$B$127,Prix!$J$6:$J$127))-1 -> 0.047391513 | K9: =(1+AG9)/(1+LOOKUP($B9,Prix!$B$6:$B$127,Prix!$J$6:$J$127))-1 -> -0.011711785 | ... X9: =(1+AT9)/(1+LOOKUP($B9,Prix!$B$6:$B$127,Prix!$J$6:$J$127))-1 -> -0.021576572 | Y9: 0.052274927 | Z9: 0.052274927 | AA9: 0.052274927 | AB9: 0.022400253 | AC9: 0.040008165 | AD9: 0.037866714 | AE9: 0.047723392 | AF9: 0.10209792 | AG9: 0.03990759 | AH9: 0.03186834 | AI9: -0.023313622 | AJ9: -0.040180906 | AK9: -0.066481461 | AL9: 0.04698477 | AM9: 0.07150741 | AN9: 0.043010874 | AO9: 0.016380574 | AP9: 0.12576971 | AQ9: 0.032200018 | AR9: 0.042145588 | AS9: 0.052274927 | AT9: 0.029527554
B10: =B9+1 -> 2023 | C10: -0.0096 | D10: =(1+Z10)/(1+LOOKUP($B10,Prix!$B$6:$B$127,Prix!$J$6:$J$127))-1 -> -0.0050634843 | E10: =(1+AA10)/(1+LOOKUP($B10,Prix!$B$6:$B$127,Prix!$J$6:$J$127))-1 -> -0.0050634843 | F10: =(1+AB10)/(1+LOOKUP($B10,Prix!$B$6:$B$127,Prix!$J$6:$J$127))-1 -> -4.9015748e-05 | G10: =(1+AC10)/(1+LOOKUP($B10,Prix!$B$6:$B$127,Prix!$J$6:$J$127))-1 -> -0.0041466606 | H10: =(1+AD10)/(1+LOOKUP($B10,Prix!$B$6:$B$127,Prix!$J$6:$J$127))-1 -> -0.01291141 | I10: =(1+AE10)/(1+LOOKUP($B10,Prix!$B$6:$B$127,Prix!$J$6:$J$127))-1 -> -0.0034333822 | J10: =(1+AF10)/(1+LOOKUP($B10,Prix!$B$6:$B$127,Prix!$J$6:$J$127))-1 -> -0.02476616 | K10: =(1+AG10)/(1+LOOKUP($B10,Prix!$B$6:$B$127,Prix!$J$6:$J$127))-1 -> 0.0012654667 | ... X10: =(1+AT10)/(1+LOOKUP($B10,Prix!$B$6:$B$127,Prix!$J$6:$J$127))-1 -> 0.016730304 | Y10: 0.043435341 | Z10: 0.043435341 | AA10: 0.043435341 | AB10: 0.048694243 | AC10: 0.044396855 | AD10: 0.035204863 | AE10: 0.045144903 | AF10: 0.022772245 | AG10: 0.0500728 | AH10: 0.30096846 | AI10: 0.03048777 | AJ10: 0.033485112 | AK10: -0.0769321 | AL10: 0.14439376 | AM10: 0.016885214 | AN10: 0.0032272794 | AO10: 0.011082841 | AP10: 0.016505188 | AQ10: -0.028909572 | AR10: 0.041886791 | AS10: 0.043435341 | AT10: 0.066291481
B11: =B10+1 -> 2024 | C11: 0.0037 | D11: =(1+Z11)/(1+LOOKUP($B11,Prix!$B$6:$B$127,Prix!$J$6:$J$127))-1 -> 0.0088184777 | E11: =(1+AA11)/(1+LOOKUP($B11,Prix!$B$6:$B$127,Prix!$J$6:$J$127))-1 -> 0.0088184777 | F11: =(1+AB11)/(1+LOOKUP($B11,Prix!$B$6:$B$127,Prix!$J$6:$J$127))-1 -> -0.015115916 | G11: =(1+AC11)/(1+LOOKUP($B11,Prix!$B$6:$B$127,Prix!$J$6:$J$127))-1 -> 0.012069784 | H11: =(1+AD11)/(1+LOOKUP($B11,Prix!$B$6:$B$127,Prix!$J$6:$J$127))-1 -> 0.027281372 | I11: =(1+AE11)/(1+LOOKUP($B11,Prix!$B$6:$B$127,Prix!$J$6:$J$127))-1 -> -0.022092103 | J11: =(1+AF11)/(1+LOOKUP($B11,Prix!$B$6:$B$127,Prix!$J$6:$J$127))-1 -> 0.049930879 | K11: =(1+AG11)/(1+LOOKUP($B11,Prix!$B$6:$B$127,Prix!$J$6:$J$127))-1 -> 0.075776208 | ... X11: =(1+AT11)/(1+LOOKUP($B11,Prix!$B$6:$B$127,Prix!$J$6:$J$127))-1 -> 0.011159253 | Y11: =(C11+1)*(1+Prix!I81)-1 -> 0.023779127 | Z11: 0.029 | AA11: 0.029 | AB11: 0.0045867962 | AC11: 0.032316349 | AD11: 0.047832247 | AE11: -0.0025289506 | AF11: 0.070934859 | AG11: 0.097297227 | AH11: -0.021919342 | AI11: 0.038006305 | AJ11: 0.055202398 | AK11: -0.018385455 | AL11: -0.0051331948 | AM11: 0.055892442 | AN11: 0.00059511838 | AO11: 0.084624706 | AP11: 0.21191443 | AQ11: 0.035401057 | AR11: 0.026828696 | AS11: 0.029 | AT11: 0.031387603
B12: =B11+1 -> 2025 | C12: 0.0039 | D12: =(1+Z12)/(1+LOOKUP($B12,Prix!$B$6:$B$127,Prix!$J$6:$J$127))-1 -> 0.0099202863 | E12: =(1+AA12)/(1+LOOKUP($B12,Prix!$B$6:$B$127,Prix!$J$6:$J$127))-1 -> 0.0099202863 | F12: =(1+AB12)/(1+LOOKUP($B12,Prix!$B$6:$B$127,Prix!$J$6:$J$127))-1 -> 0.0034031539 | G12: =(1+AC12)/(1+LOOKUP($B12,Prix!$B$6:$B$127,Prix!$J$6:$J$127))-1 -> -0.0020439012 | H12: =(1+AD12)/(1+LOOKUP($B12,Prix!$B$6:$B$127,Prix!$J$6:$J$127))-1 -> -0.0027767996 | I12: =(1+AE12)/(1+LOOKUP($B12,Prix!$B$6:$B$127,Prix!$J$6:$J$127))-1 -> -0.038487959 | J12: =(1+AF12)/(1+LOOKUP($B12,Prix!$B$6:$B$127,Prix!$J$6:$J$127))-1 -> -0.0011475189 | K12: =(1+AG12)/(1+LOOKUP($B12,Prix!$B$6:$B$127,Prix!$J$6:$J$127))-1 -> 0.011476105 | ... X12: =(1+AT12)/(1+LOOKUP($B12,Prix!$B$6:$B$127,Prix!$J$6:$J$127))-1 -> 0.0014539334 | Y12: =(C12+1)*(1+Prix!I82)-1 -> 0.013367593 | Z12: 0.019444656 | AA12: 0.019444656 | AB12: 0.012866061 | AC12: 0.007367636 | AD12: 0.0066278258 | AE12: -0.029420119 | AF12: 0.008272472 | AG12: 0.021015147 | AH12: 0.056989693 | AI12: 0.010972653 | AJ12: 0.012788784 | AK12: 0.0073049992 | AL12: 0.02727846 | AM12: 0.02727846 | AN12: 0.0275 | AO12: 0.02727846 | AP12: 0.0275 | AQ12: 0.02727846 | AR12: 0.021607482 | AS12: 0.019444656 | AT12: 0.010898458
B13: =B12+1 -> 2026 | C13: -0.002 | D13: =(1+Z13)/(1+LOOKUP($B13,Prix!$B$6:$B$127,Prix!$J$6:$J$127))-1 -> 0.003506506 | E13: =(1+AA13)/(1+LOOKUP($B13,Prix!$B$6:$B$127,Prix!$J$6:$J$127))-1 -> 0.003506506 | F13: =(1+AB13)/(1+LOOKUP($B13,Prix!$B$6:$B$127,Prix!$J$6:$J$127))-1 -> -0.017375086 | G13: =(1+AC13)/(1+LOOKUP($B13,Prix!$B$6:$B$127,Prix!$J$6:$J$127))-1 -> -0.0041914498 | H13: =(1+AD13)/(1+LOOKUP($B13,Prix!$B$6:$B$127,Prix!$J$6:$J$127))-1 -> -0.017410065 | I13: =(1+AE13)/(1+LOOKUP($B13,Prix!$B$6:$B$127,Prix!$J$6:$J$127))-1 -> 0.00031831047 | J13: =(1+AF13)/(1+LOOKUP($B13,Prix!$B$6:$B$127,Prix!$J$6:$J$127))-1 -> 0.013015429 | K13: =(1+AG13)/(1+LOOKUP($B13,Prix!$B$6:$B$127,Prix!$J$6:$J$127))-1 -> 0.0030517071 | ... X13: =(1+AT13)/(1+LOOKUP($B13,Prix!$B$6:$B$127,Prix!$J$6:$J$127))-1 -> -0.00018974343 | Y13: =(C13+1)*(1+Prix!I83)-1 -> 0.0166626 | Z13: 0.022272078 | AA13: 0.022272078 | AB13: 0.001 | AC13: 0.01443017 | AD13: 0.00096436633 | AE13: 0.019024263 | AF13: 0.031958818 | AG13: 0.021808774 | AH13: 0.03252976 | AI13: 0.015149017 | AJ13: 0.0053304904 | AK13: 0.0166626 | AL13: 0.027129902 | AM13: 0.027129902 | AN13: 0.0275 | AO13: 0.027129902 | AP13: 0.0275 | AQ13: 0.027129902 | AR13: 0.018552366 | AS13: 0.022272078 | AT13: 0.018506708
B14: =B13+1 -> 2027 | C14: 0.0048 | D14: =(1+Z14)/(1+LOOKUP($B14,Prix!$B$6:$B$127,Prix!$J$6:$J$127))-1 -> 0.011986399 | E14: =(1+AA14)/(1+LOOKUP($B14,Prix!$B$6:$B$127,Prix!$J$6:$J$127))-1 -> 0.011986399 | F14: =(1+AB14)/(1+LOOKUP($B14,Prix!$B$6:$B$127,Prix!$J$6:$J$127))-1 -> -0.014860742 | G14: =(1+AC14)/(1+LOOKUP($B14,Prix!$B$6:$B$127,Prix!$J$6:$J$127))-1 -> 0.0019379283 | H14: =(1+AD14)/(1+LOOKUP($B14,Prix!$B$6:$B$127,Prix!$J$6:$J$127))-1 -> -0.014860742 | I14: =(1+AE14)/(1+LOOKUP($B14,Prix!$B$6:$B$127,Prix!$J$6:$J$127))-1 -> 0.0057014143 | J14: =(1+AF14)/(1+LOOKUP($B14,Prix!$B$6:$B$127,Prix!$J$6:$J$127))-1 -> 0.016621973 | K14: =(1+AG14)/(1+LOOKUP($B14,Prix!$B$6:$B$127,Prix!$J$6:$J$127))-1 -> 0.0079975638 | ... X14: =(1+AT14)/(1+LOOKUP($B14,Prix!$B$6:$B$127,Prix!$J$6:$J$127))-1 -> -0.0001823898 | Y14: =(C14+1)*(1+Prix!I84)-1 -> 0.02097728 | Z14: 0.02827938 | AA14: 0.02827938 | AB14: 0.001 | AC14: 0.018069129 | AD14: 0.001 | AE14: 0.021893207 | AF14: 0.032989587 | AG14: 0.024226325 | AH14: 0.029793724 | AI14: 0.024342534 | AJ14: 0.0053078556 | AK14: 0.02097728 | AL14: 0.027129902 | AM14: 0.027129902 | AN14: 0.0275 | AO14: 0.027129902 | AP14: 0.0275 | AQ14: 0.027129902 | AR14: 0.023026626 | AS14: 0.02827938 | AT14: 0.015914674
B15: =B14+1 -> 2028 | C15: 0.0053 | D15: =(1+Z15)/(1+LOOKUP($B15,Prix!$B$6:$B$127,Prix!$J$6:$J$127))-1 -> 0.011022416 | E15: =(1+AA15)/(1+LOOKUP($B15,Prix!$B$6:$B$127,Prix!$J$6:$J$127))-1 -> 0.011022416 | F15: =(1+AB15)/(1+LOOKUP($B15,Prix!$B$6:$B$127,Prix!$J$6:$J$127))-1 -> -0.011252973 | G15: =(1+AC15)/(1+LOOKUP($B15,Prix!$B$6:$B$127,Prix!$J$6:$J$127))-1 -> 0.0053 | H15: =(1+AD15)/(1+LOOKUP($B15,Prix!$B$6:$B$127,Prix!$J$6:$J$127))-1 -> -0.011245969 | I15: =(1+AE15)/(1+LOOKUP($B15,Prix!$B$6:$B$127,Prix!$J$6:$J$127))-1 -> 0.0053 | J15: =(1+AF15)/(1+LOOKUP($B15,Prix!$B$6:$B$127,Prix!$J$6:$J$127))-1 -> 0.0053 | K15: =(1+AG15)/(1+LOOKUP($B15,Prix!$B$6:$B$127,Prix!$J$6:$J$127))-1 -> 0.0053 | ... X15: =(1+AT15)/(1+LOOKUP($B15,Prix!$B$6:$B$127,Prix!$J$6:$J$127))-1 -> 0.00049220878 | Y15: =(C15+1)*(1+Prix!I85)-1 -> 0.02289275 | Z15: 0.028715309 | AA15: 0.028715309 | AB15: 0.0060501 | AC15: 0.02289275 | AD15: 0.0060572267 | AE15: 0.02289275 | AF15: 0.02289275 | AG15: 0.02289275 | AH15: 0.02289275 | AI15: 0.02289275 | AJ15: 0.02289275 | AK15: 0.02289275 | AL15: 0.02289275 | AM15: 0.02289275 | AN15: 0.02289275 | AO15: 0.02289275 | AP15: 0.02289275 | AQ15: 0.02289275 | AR15: 0.025560998 | AS15: 0.028715309 | AT15: 0.018000822
B16: =B15+1 -> 2029 | C16: 0.006 | D16: =(1+Z16)/(1+LOOKUP($B16,Prix!$B$6:$B$127,Prix!$J$6:$J$127))-1 -> 0.011110881 | E16: =(1+AA16)/(1+LOOKUP($B16,Prix!$B$6:$B$127,Prix!$J$6:$J$127))-1 -> 0.011110881 | F16: =(1+AB16)/(1+LOOKUP($B16,Prix!$B$6:$B$127,Prix!$J$6:$J$127))-1 -> -0.0062897297 | G16: =(1+AC16)/(1+LOOKUP($B16,Prix!$B$6:$B$127,Prix!$J$6:$J$127))-1 -> 0.006 | H16: =(1+AD16)/(1+LOOKUP($B16,Prix!$B$6:$B$127,Prix!$J$6:$J$127))-1 -> -0.0062757214 | I16: =(1+AE16)/(1+LOOKUP($B16,Prix!$B$6:$B$127,Prix!$J$6:$J$127))-1 -> 0.006 | J16: =(1+AF16)/(1+LOOKUP($B16,Prix!$B$6:$B$127,Prix!$J$6:$J$127))-1 -> 0.006 | K16: =(1+AG16)/(1+LOOKUP($B16,Prix!$B$6:$B$127,Prix!$J$6:$J$127))-1 -> 0.006 | ... X16: =(1+AT16)/(1+LOOKUP($B16,Prix!$B$6:$B$127,Prix!$J$6:$J$127))-1 -> 0.0024902655 | Y16: =(C16+1)*(1+Prix!I86)-1 -> 0.023605 | Z16: 0.028805322 | AA16: 0.028805322 | AB16: 0.0111002 | AC16: 0.023605 | AD16: 0.011114453 | AE16: 0.023605 | AF16: 0.023605 | AG16: 0.023605 | AH16: 0.023605 | AI16: 0.023605 | AJ16: 0.023605 | AK16: 0.023605 | AL16: 0.023605 | AM16: 0.023605 | AN16: 0.023605 | AO16: 0.023605 | AP16: 0.023605 | AQ16: 0.023605 | AR16: 0.025903461 | AS16: 0.028805322 | AT16: 0.020033845
B17: =B16+1 -> 2030 | C17: 0.0082 | D17: =(1+Z17)/(1+LOOKUP($B17,Prix!$B$6:$B$127,Prix!$J$6:$J$127))-1 -> 0.011127211 | E17: =(1+AA17)/(1+LOOKUP($B17,Prix!$B$6:$B$127,Prix!$J$6:$J$127))-1 -> 0.011127211 | F17: =(1+AB17)/(1+LOOKUP($B17,Prix!$B$6:$B$127,Prix!$J$6:$J$127))-1 -> -0.0013264865 | G17: =(1+AC17)/(1+LOOKUP($B17,Prix!$B$6:$B$127,Prix!$J$6:$J$127))-1 -> 0.0082 | H17: =(1+AD17)/(1+LOOKUP($B17,Prix!$B$6:$B$127,Prix!$J$6:$J$127))-1 -> -0.001305474 | I17: =(1+AE17)/(1+LOOKUP($B17,Prix!$B$6:$B$127,Prix!$J$6:$J$127))-1 -> 0.0082 | J17: =(1+AF17)/(1+LOOKUP($B17,Prix!$B$6:$B$127,Prix!$J$6:$J$127))-1 -> 0.0082 | K17: =(1+AG17)/(1+LOOKUP($B17,Prix!$B$6:$B$127,Prix!$J$6:$J$127))-1 -> 0.0082 | ... X17: =(1+AT17)/(1+LOOKUP($B17,Prix!$B$6:$B$127,Prix!$J$6:$J$127))-1 -> 0.0044877842 | Y17: =(C17+1)*(1+Prix!I87)-1 -> 0.0258435 | Z17: 0.028821937 | AA17: 0.028821937 | AB17: 0.0161503 | AC17: 0.0258435 | AD17: 0.01617168 | AE17: 0.0258435 | AF17: 0.0258435 | AG17: 0.0258435 | AH17: 0.0258435 | AI17: 0.0258435 | AJ17: 0.0258435 | AK17: 0.0258435 | AL17: 0.0258435 | AM17: 0.0258435 | AN17: 0.0258435 | AO17: 0.0258435 | AP17: 0.0258435 | AQ17: 0.0258435 | AR17: 0.030252751 | AS17: 0.028821937 | AT17: 0.02206632
B18: =B17+1 -> 2031 | C18: 0.0084 | D18: =(1+Z18)/(1+LOOKUP($B18,Prix!$B$6:$B$127,Prix!$J$6:$J$127))-1 -> 0.010733918 | E18: =(1+AA18)/(1+LOOKUP($B18,Prix!$B$6:$B$127,Prix!$J$6:$J$127))-1 -> 0.010733918 | F18: =(1+AB18)/(1+LOOKUP($B18,Prix!$B$6:$B$127,Prix!$J$6:$J$127))-1 -> 0.00098280098 | G18: =(1+AC18)/(1+LOOKUP($B18,Prix!$B$6:$B$127,Prix!$J$6:$J$127))-1 -> 0.0084 | H18: =(1+AD18)/(1+LOOKUP($B18,Prix!$B$6:$B$127,Prix!$J$6:$J$127))-1 -> 0.00098280098 | I18: =(1+AE18)/(1+LOOKUP($B18,Prix!$B$6:$B$127,Prix!$J$6:$J$127))-1 -> 0.0084 | J18: =(1+AF18)/(1+LOOKUP($B18,Prix!$B$6:$B$127,Prix!$J$6:$J$127))-1 -> 0.0084 | K18: =(1+AG18)/(1+LOOKUP($B18,Prix!$B$6:$B$127,Prix!$J$6:$J$127))-1 -> 0.0084 | ... X18: =(1+AT18)/(1+LOOKUP($B18,Prix!$B$6:$B$127,Prix!$J$6:$J$127))-1 -> 0.0064939562 | Y18: =(C18+1)*(1+Prix!I88)-1 -> 0.026047 | Z18: 0.028421761 | AA18: 0.028421761 | AB18: 0.0185 | AC18: 0.026047 | AD18: 0.0185 | AE18: 0.026047 | AF18: 0.026047 | AG18: 0.026047 | AH18: 0.026047 | AI18: 0.026047 | AJ18: 0.026047 | AK18: 0.026047 | AL18: 0.026047 | AM18: 0.026047 | AN18: 0.026047 | AO18: 0.026047 | AP18: 0.026047 | AQ18: 0.026047 | AR18: 0.02653053 | AS18: 0.02807204 | AT18: 0.0241076
B19: =B18+1 -> 2032 | C19: 0.0086 | D19: =(1+Z19)/(1+LOOKUP($B19,Prix!$B$6:$B$127,Prix!$J$6:$J$127))-1 -> 0.010340624 | E19: =(1+AA19)/(1+LOOKUP($B19,Prix!$B$6:$B$127,Prix!$J$6:$J$127))-1 -> 0.010340624 | F19: =(1+AB19)/(1+LOOKUP($B19,Prix!$B$6:$B$127,Prix!$J$6:$J$127))-1 -> 0.00098280098 | G19: =(1+AC19)/(1+LOOKUP($B19,Prix!$B$6:$B$127,Prix!$J$6:$J$127))-1 -> 0.0086 | H19: =(1+AD19)/(1+LOOKUP($B19,Prix!$B$6:$B$127,Prix!$J$6:$J$127))-1 -> 0.00098280098 | I19: =(1+AE19)/(1+LOOKUP($B19,Prix!$B$6:$B$127,Prix!$J$6:$J$127))-1 -> 0.0086 | J19: =(1+AF19)/(1+LOOKUP($B19,Prix!$B$6:$B$127,Prix!$J$6:$J$127))-1 -> 0.0086 | K19: =(1+AG19)/(1+LOOKUP($B19,Prix!$B$6:$B$127,Prix!$J$6:$J$127))-1 -> 0.0086 | ... X19: =(1+AT19)/(1+LOOKUP($B19,Prix!$B$6:$B$127,Prix!$J$6:$J$127))-1 -> 0.0084835022 | Y19: =(C19+1)*(1+Prix!I89)-1 -> 0.0262505 | Z19: 0.028021585 | AA19: 0.028021585 | AB19: 0.0185 | AC19: 0.0262505 | AD19: 0.0185 | AE19: 0.0262505 | AF19: 0.0262505 | AG19: 0.0262505 | AH19: 0.0262505 | AI19: 0.0262505 | AJ19: 0.0262505 | AK19: 0.0262505 | AL19: 0.0262505 | AM19: 0.0262505 | AN19: 0.0262505 | AO19: 0.0262505 | AP19: 0.0262505 | AQ19: 0.0262505 | AR19: 0.026230047 | AS19: 0.026843668 | AT19: 0.026131963
B20: =B19+1 -> 2033 | C20: 0.0088 | D20: =(1+Z20)/(1+LOOKUP($B20,Prix!$B$6:$B$127,Prix!$J$6:$J$127))-1 -> 0.0099473307 | E20: =(1+AA20)/(1+LOOKUP($B20,Prix!$B$6:$B$127,Prix!$J$6:$J$127))-1 -> 0.0099473307 | F20: =(1+AB20)/(1+LOOKUP($B20,Prix!$B$6:$B$127,Prix!$J$6:$J$127))-1 -> 0.0026862408 | G20: =(1+AC20)/(1+LOOKUP($B20,Prix!$B$6:$B$127,Prix!$J$6:$J$127))-1 -> 0.0088 | H20: =(1+AD20)/(1+LOOKUP($B20,Prix!$B$6:$B$127,Prix!$J$6:$J$127))-1 -> 0.0026862408 | I20: =(1+AE20)/(1+LOOKUP($B20,Prix!$B$6:$B$127,Prix!$J$6:$J$127))-1 -> 0.0088 | J20: =(1+AF20)/(1+LOOKUP($B20,Prix!$B$6:$B$127,Prix!$J$6:$J$127))-1 -> 0.0088 | K20: =(1+AG20)/(1+LOOKUP($B20,Prix!$B$6:$B$127,Prix!$J$6:$J$127))-1 -> 0.0088 | ... X20: =(1+AT20)/(1+LOOKUP($B20,Prix!$B$6:$B$127,Prix!$J$6:$J$127))-1 -> 0.0086994331 | Y20: =(C20+1)*(1+Prix!I90)-1 -> 0.026454 | Z20: 0.027621409 | AA20: 0.027621409 | AB20: 0.02023325 | AC20: 0.026454 | AD20: 0.02023325 | AE20: 0.026454 | AF20: 0.026454 | AG20: 0.026454 | AH20: 0.026454 | AI20: 0.026454 | AJ20: 0.026454 | AK20: 0.026454 | AL20: 0.026454 | AM20: 0.026454 | AN20: 0.026454 | AO20: 0.026454 | AP20: 0.026454 | AQ20: 0.026454 | AR20: 0.026016439 | AS20: 0.02649962 | AT20: 0.026351673
B21: =B20+1 -> 2034 | C21: 0.0089 | D21: =(1+Z21)/(1+LOOKUP($B21,Prix!$B$6:$B$127,Prix!$J$6:$J$127))-1 -> 0.0095540372 | E21: =(1+AA21)/(1+LOOKUP($B21,Prix!$B$6:$B$127,Prix!$J$6:$J$127))-1 -> 0.0095540372 | F21: =(1+AB21)/(1+LOOKUP($B21,Prix!$B$6:$B$127,Prix!$J$6:$J$127))-1 -> 0.0043896806 | G21: =(1+AC21)/(1+LOOKUP($B21,Prix!$B$6:$B$127,Prix!$J$6:$J$127))-1 -> 0.0089 | H21: =(1+AD21)/(1+LOOKUP($B21,Prix!$B$6:$B$127,Prix!$J$6:$J$127))-1 -> 0.0043896806 | I21: =(1+AE21)/(1+LOOKUP($B21,Prix!$B$6:$B$127,Prix!$J$6:$J$127))-1 -> 0.0089 | J21: =(1+AF21)/(1+LOOKUP($B21,Prix!$B$6:$B$127,Prix!$J$6:$J$127))-1 -> 0.0089 | K21: =(1+AG21)/(1+LOOKUP($B21,Prix!$B$6:$B$127,Prix!$J$6:$J$127))-1 -> 0.0089 | ... X21: =(1+AT21)/(1+LOOKUP($B21,Prix!$B$6:$B$127,Prix!$J$6:$J$127))-1 -> 0.0088067746 | Y21: =(C21+1)*(1+Prix!I91)-1 -> 0.02655575 | Z21: 0.027221233 | AA21: 0.027221233 | AB21: 0.0219665 | AC21: 0.02655575 | AD21: 0.0219665 | AE21: 0.02655575 | AF21: 0.02655575 | AG21: 0.02655575 | AH21: 0.02655575 | AI21: 0.02655575 | AJ21: 0.02655575 | AK21: 0.02655575 | AL21: 0.02655575 | AM21: 0.02655575 | AN21: 0.02655575 | AO21: 0.02655575 | AP21: 0.02655575 | AQ21: 0.02655575 | AR21: 0.026561302 | AS21: 0.026718165 | AT21: 0.026460893
B22: =B21+1 -> 2035 | C22: 0.0091 | D22: =(1+Z22)/(1+LOOKUP($B22,Prix!$B$6:$B$127,Prix!$J$6:$J$127))-1 -> 0.0095540372 | E22: =(1+AA22)/(1+LOOKUP($B22,Prix!$B$6:$B$127,Prix!$J$6:$J$127))-1 -> 0.0095540372 | F22: =(1+AB22)/(1+LOOKUP($B22,Prix!$B$6:$B$127,Prix!$J$6:$J$127))-1 -> 0.0060931204 | G22: =(1+AC22)/(1+LOOKUP($B22,Prix!$B$6:$B$127,Prix!$J$6:$J$127))-1 -> 0.0091 | H22: =(1+AD22)/(1+LOOKUP($B22,Prix!$B$6:$B$127,Prix!$J$6:$J$127))-1 -> 0.0060931204 | I22: =(1+AE22)/(1+LOOKUP($B22,Prix!$B$6:$B$127,Prix!$J$6:$J$127))-1 -> 0.0091 | J22: =(1+AF22)/(1+LOOKUP($B22,Prix!$B$6:$B$127,Prix!$J$6:$J$127))-1 -> 0.0091 | K22: =(1+AG22)/(1+LOOKUP($B22,Prix!$B$6:$B$127,Prix!$J$6:$J$127))-1 -> 0.0091 | ... X22: =(1+AT22)/(1+LOOKUP($B22,Prix!$B$6:$B$127,Prix!$J$6:$J$127))-1 -> 0.009027497 | Y22: =(C22+1)*(1+Prix!I92)-1 -> 0.02675925 | Z22: 0.027221233 | AA22: 0.027221233 | AB22: 0.02369975 | AC22: 0.02675925 | AD22: 0.02369975 | AE22: 0.02675925 | AF22: 0.02675925 | AG22: 0.02675925 | AH22: 0.02675925 | AI22: 0.02675925 | AJ22: 0.02675925 | AK22: 0.02675925 | AL22: 0.02675925 | AM22: 0.02675925 | AN22: 0.02675925 | AO22: 0.02675925 | AP22: 0.02675925 | AQ22: 0.02675925 | AR22: 0.026764547 | AS22: 0.026718165 | AT22: 0.026685478
... B57: =B56+1 -> 2070 | C57: 0.01 | D57: =(1+Z57)/(1+LOOKUP($B57,Prix!$B$6:$B$127,Prix!$J$6:$J$127))-1 -> 0.010124209 | E57: =(1+AA57)/(1+LOOKUP($B57,Prix!$B$6:$B$127,Prix!$J$6:$J$127))-1 -> 0.010124209 | F57: =(1+AB57)/(1+LOOKUP($B57,Prix!$B$6:$B$127,Prix!$J$6:$J$127))-1 -> 0.01 | G57: =(1+AC57)/(1+LOOKUP($B57,Prix!$B$6:$B$127,Prix!$J$6:$J$127))-1 -> 0.01 | H57: =(1+AD57)/(1+LOOKUP($B57,Prix!$B$6:$B$127,Prix!$J$6:$J$127))-1 -> 0.01 | I57: =(1+AE57)/(1+LOOKUP($B57,Prix!$B$6:$B$127,Prix!$J$6:$J$127))-1 -> 0.01 | J57: =(1+AF57)/(1+LOOKUP($B57,Prix!$B$6:$B$127,Prix!$J$6:$J$127))-1 -> 0.01 | K57: =(1+AG57)/(1+LOOKUP($B57,Prix!$B$6:$B$127,Prix!$J$6:$J$127))-1 -> 0.01 | ... X57: =(1+AT57)/(1+LOOKUP($B57,Prix!$B$6:$B$127,Prix!$J$6:$J$127))-1 -> 0.01 | Y57: =(C57+1)*(1+Prix!I127)-1 -> 0.027675 | Z57: 0.027801383 | AA57: 0.027801383 | AB57: 0.027675 | AC57: 0.027675 | AD57: 0.027675 | AE57: 0.027675 | AF57: 0.027675 | AG57: 0.027675 | AH57: 0.027675 | AI57: 0.027675 | AJ57: 0.027675 | AK57: 0.027675 | AL57: 0.027675 | AM57: 0.027675 | AN57: 0.027675 | AO57: 0.027675 | AP57: 0.027675 | AQ57: 0.027675 | AR57: 0.02767507 | AS57: 0.027994262 | AT57: 0.027675

Sheet SMPT_rég_0,7%
B1: Hypothèses de SMPT
B3: Hypothèses de long terme : gains de productivité du travail = 0,7 % ; taux de chômage = 5 % ou 7 %
B4: Année | C4: Évolutions en réel | Y4: Évolutions en nominal
C5: SMPT Ensemble | D5: =Z5 -> CNAV | E5: =AA5 -> MSA_SA | F5: =AB5 -> FPE civils et militaires | G5: =AC5 -> FSPOEIE | H5: =AD5 -> CNRACL | I5: =AE5 -> CANSSM | J5: =AF5 -> SNCF | K5: =AG5 -> RATP | ... X5: =AT5 -> IRCANTEC | Y5: =C5 -> SMPT Ensemble | Z5: CNAV | AA5: MSA_SA | AB5: FPE civils et militaires | AC5: FSPOEIE | AD5: CNRACL | AE5: CANSSM | AF5: SNCF | AG5: RATP | AH5: ENIM | AI5: CNIEG | AJ5: CRPCEN | AK5: BDF | AL5: MSA_EXA | AM5: Régime général des non salariés | AN5: Auto-entrepreneurs SSI | AO5: CNAVPL_RB | AP5: Auto-entrepreneurs CNAVPL | AQ5: CNBF_RB | AR5: CRPNPAC | AS5: AGIRC-ARRCO | AT5: IRCANTEC
B6: 2019 | C6: 0.0061
B7: =B6+1 -> 2020 | C7: -0.0378 | D7: =(1+Z7)/(1+LOOKUP($B7,Prix!$B$6:$B$127,Prix!$K$6:$K$127))-1 -> -0.050256001 | E7: =(1+AA7)/(1+LOOKUP($B7,Prix!$B$6:$B$127,Prix!$K$6:$K$127))-1 -> -0.050794438 | F7: =(1+AB7)/(1+LOOKUP($B7,Prix!$B$6:$B$127,Prix!$K$6:$K$127))-1 -> 0.0077779241 | G7: =(1+AC7)/(1+LOOKUP($B7,Prix!$B$6:$B$127,Prix!$K$6:$K$127))-1 -> -6.0407132e-05 | H7: =(1+AD7)/(1+LOOKUP($B7,Prix!$B$6:$B$127,Prix!$K$6:$K$127))-1 -> 0.011024166 | I7: =(1+AE7)/(1+LOOKUP($B7,Prix!$B$6:$B$127,Prix!$K$6:$K$127))-1 -> -0.015812892 | J7: =(1+AF7)/(1+LOOKUP($B7,Prix!$B$6:$B$127,Prix!$K$6:$K$127))-1 -> -0.082249345 | K7: =(1+AG7)/(1+LOOKUP($B7,Prix!$B$6:$B$127,Prix!$K$6:$K$127))-1 -> -0.068992429 | ... X7: =(1+AT7)/(1+LOOKUP($B7,Prix!$B$6:$B$127,Prix!$K$6:$K$127))-1 -> 0.018640364 | Y7: -0.0457 | Z7: -0.0457 | AA7: -0.04624102 | AB7: 0.012612319 | AC7: 0.0047363865 | AD7: 0.015874133 | AE7: -0.011091664 | AF7: -0.077846819 | AG7: -0.064526308 | AH7: -0.021319894 | AI7: -0.0095883366 | AJ7: -0.086361817 | AK7: 0.024231051 | AL7: 0.019314514 | AM7: -0.023563502 | AN7: 0.45176279 | AO7: -0.050065704 | AP7: 0.15393573 | AQ7: -0.051475955 | AR7: 0 | AS7: -0.0457 | AT7: 0.023526867
B8: =B7+1 -> 2021 | C8: 0.0332 | D8: =(1+Z8)/(1+LOOKUP($B8,Prix!$B$6:$B$127,Prix!$K$6:$K$127))-1 -> 0.049759605 | E8: =(1+AA8)/(1+LOOKUP($B8,Prix!$B$6:$B$127,Prix!$K$6:$K$127))-1 -> 0.049367418 | F8: =(1+AB8)/(1+LOOKUP($B8,Prix!$B$6:$B$127,Prix!$K$6:$K$127))-1 -> -0.015637379 | G8: =(1+AC8)/(1+LOOKUP($B8,Prix!$B$6:$B$127,Prix!$K$6:$K$127))-1 -> -0.0012757323 | H8: =(1+AD8)/(1+LOOKUP($B8,Prix!$B$6:$B$127,Prix!$K$6:$K$127))-1 -> 0.027920394 | I8: =(1+AE8)/(1+LOOKUP($B8,Prix!$B$6:$B$127,Prix!$K$6:$K$127))-1 -> 0.050320895 | J8: =(1+AF8)/(1+LOOKUP($B8,Prix!$B$6:$B$127,Prix!$K$6:$K$127))-1 -> 0.07314357 | K8: =(1+AG8)/(1+LOOKUP($B8,Prix!$B$6:$B$127,Prix!$K$6:$K$127))-1 -> 0.020237978 | ... X8: =(1+AT8)/(1+LOOKUP($B8,Prix!$B$6:$B$127,Prix!$K$6:$K$127))-1 -> 0.00052653187 | Y8: 0.067 | Z8: 0.067 | AA8: 0.066601371 | AB8: 0.00052898901 | AC8: 0.0151265 | AD8: 0.044802119 | AE8: 0.067570508 | AF8: 0.090768003 | AG8: 0.036993534 | AH8: 0.041710862 | AI8: -0.032652914 | AJ8: 0.097951545 | AK8: 0.043604105 | AL8: 0.019915954 | AM8: 0.039156927 | AN8: -0.081762486 | AO8: 0.050354394 | AP8: -0.073156469 | AQ8: 0.088569723 | AR8: 0 | AS8: 0.067 | AT8: 0.016958363
B9: =B8+1 -> 2022 | C9: -0.0002 | D9: =(1+Z9)/(1+LOOKUP($B9,Prix!$B$6:$B$127,Prix!$K$6:$K$127))-1 -> 4.1657185e-05 | E9: =(1+AA9)/(1+LOOKUP($B9,Prix!$B$6:$B$127,Prix!$K$6:$K$127))-1 -> 4.1657185e-05 | F9: =(1+AB9)/(1+LOOKUP($B9,Prix!$B$6:$B$127,Prix!$K$6:$K$127))-1 -> -0.028350085 | G9: =(1+AC9)/(1+LOOKUP($B9,Prix!$B$6:$B$127,Prix!$K$6:$K$127))-1 -> -0.011616203 | H9: =(1+AD9)/(1+LOOKUP($B9,Prix!$B$6:$B$127,Prix!$K$6:$K$127))-1 -> -0.013651355 | I9: =(1+AE9)/(1+LOOKUP($B9,Prix!$B$6:$B$127,Prix!$K$6:$K$127))-1 -> -0.004283947 | J9: =(1+AF9)/(1+LOOKUP($B9,Prix!$B$6:$B$127,Prix!$K$6:$K$127))-1 -> 0.047391513 | K9: =(1+AG9)/(1+LOOKUP($B9,Prix!$B$6:$B$127,Prix!$K$6:$K$127))-1 -> -0.011711785 | ... X9: =(1+AT9)/(1+LOOKUP($B9,Prix!$B$6:$B$127,Prix!$K$6:$K$127))-1 -> -0.021576572 | Y9: 0.052274927 | Z9: 0.052274927 | AA9: 0.052274927 | AB9: 0.022400253 | AC9: 0.040008165 | AD9: 0.037866714 | AE9: 0.047723392 | AF9: 0.10209792 | AG9: 0.03990759 | AH9: 0.03186834 | AI9: -0.023313622 | AJ9: -0.040180906 | AK9: -0.066481461 | AL9: 0.04698477 | AM9: 0.07150741 | AN9: 0.043010874 | AO9: 0.016380574 | AP9: 0.12576971 | AQ9: 0.032200018 | AR9: 0.042145588 | AS9: 0.052274927 | AT9: 0.029527554
B10: =B9+1 -> 2023 | C10: -0.0096 | D10: =(1+Z10)/(1+LOOKUP($B10,Prix!$B$6:$B$127,Prix!$K$6:$K$127))-1 -> -0.0050634843 | E10: =(1+AA10)/(1+LOOKUP($B10,Prix!$B$6:$B$127,Prix!$K$6:$K$127))-1 -> -0.0050634843 | F10: =(1+AB10)/(1+LOOKUP($B10,Prix!$B$6:$B$127,Prix!$K$6:$K$127))-1 -> -4.9015748e-05 | G10: =(1+AC10)/(1+LOOKUP($B10,Prix!$B$6:$B$127,Prix!$K$6:$K$127))-1 -> -0.0041466606 | H10: =(1+AD10)/(1+LOOKUP($B10,Prix!$B$6:$B$127,Prix!$K$6:$K$127))-1 -> -0.01291141 | I10: =(1+AE10)/(1+LOOKUP($B10,Prix!$B$6:$B$127,Prix!$K$6:$K$127))-1 -> -0.0034333822 | J10: =(1+AF10)/(1+LOOKUP($B10,Prix!$B$6:$B$127,Prix!$K$6:$K$127))-1 -> -0.02476616 | K10: =(1+AG10)/(1+LOOKUP($B10,Prix!$B$6:$B$127,Prix!$K$6:$K$127))-1 -> 0.0012654667 | ... X10: =(1+AT10)/(1+LOOKUP($B10,Prix!$B$6:$B$127,Prix!$K$6:$K$127))-1 -> 0.016730304 | Y10: 0.043435341 | Z10: 0.043435341 | AA10: 0.043435341 | AB10: 0.048694243 | AC10: 0.044396855 | AD10: 0.035204863 | AE10: 0.045144903 | AF10: 0.022772245 | AG10: 0.0500728 | AH10: 0.30096846 | AI10: 0.03048777 | AJ10: 0.033485112 | AK10: -0.0769321 | AL10: 0.14439376 | AM10: 0.016885214 | AN10: 0.0032272794 | AO10: 0.011082841 | AP10: 0.016505188 | AQ10: -0.028909572 | AR10: 0.041886791 | AS10: 0.043435341 | AT10: 0.066291481
B11: =B10+1 -> 2024 | C11: 0.0037 | D11: =(1+Z11)/(1+LOOKUP($B11,Prix!$B$6:$B$127,Prix!$K$6:$K$127))-1 -> 0.0088184777 | E11: =(1+AA11)/(1+LOOKUP($B11,Prix!$B$6:$B$127,Prix!$K$6:$K$127))-1 -> 0.0088184777 | F11: =(1+AB11)/(1+LOOKUP($B11,Prix!$B$6:$B$127,Prix!$K$6:$K$127))-1 -> -0.015115916 | G11: =(1+AC11)/(1+LOOKUP($B11,Prix!$B$6:$B$127,Prix!$K$6:$K$127))-1 -> 0.012069784 | H11: =(1+AD11)/(1+LOOKUP($B11,Prix!$B$6:$B$127,Prix!$K$6:$K$127))-1 -> 0.027281372 | I11: =(1+AE11)/(1+LOOKUP($B11,Prix!$B$6:$B$127,Prix!$K$6:$K$127))-1 -> -0.022092103 | J11: =(1+AF11)/(1+LOOKUP($B11,Prix!$B$6:$B$127,Prix!$K$6:$K$127))-1 -> 0.049930879 | K11: =(1+AG11)/(1+LOOKUP($B11,Prix!$B$6:$B$127,Prix!$K$6:$K$127))-1 -> 0.075776208 | ... X11: =(1+AT11)/(1+LOOKUP($B11,Prix!$B$6:$B$127,Prix!$K$6:$K$127))-1 -> 0.011159253 | Y11: =(C11+1)*(1+Prix!I81)-1 -> 0.023779127 | Z11: 0.029 | AA11: 0.029 | AB11: 0.0045867962 | AC11: 0.032316349 | AD11: 0.047832247 | AE11: -0.0025289506 | AF11: 0.070934859 | AG11: 0.097297227 | AH11: -0.021919342 | AI11: 0.038006305 | AJ11: 0.055202398 | AK11: -0.018385455 | AL11: -0.0051331948 | AM11: 0.055892442 | AN11: 0.00059511838 | AO11: 0.084624706 | AP11: 0.21191443 | AQ11: 0.035401057 | AR11: 0.026828696 | AS11: 0.029 | AT11: 0.031387603
B12: =B11+1 -> 2025 | C12: 0.0039 | D12: =(1+Z12)/(1+LOOKUP($B12,Prix!$B$6:$B$127,Prix!$K$6:$K$127))-1 -> 0.0099202863 | E12: =(1+AA12)/(1+LOOKUP($B12,Prix!$B$6:$B$127,Prix!$K$6:$K$127))-1 -> 0.0099202863 | F12: =(1+AB12)/(1+LOOKUP($B12,Prix!$B$6:$B$127,Prix!$K$6:$K$127))-1 -> 0.0034031539 | G12: =(1+AC12)/(1+LOOKUP($B12,Prix!$B$6:$B$127,Prix!$K$6:$K$127))-1 -> -0.0020439012 | H12: =(1+AD12)/(1+LOOKUP($B12,Prix!$B$6:$B$127,Prix!$K$6:$K$127))-1 -> -0.0027767996 | I12: =(1+AE12)/(1+LOOKUP($B12,Prix!$B$6:$B$127,Prix!$K$6:$K$127))-1 -> -0.038487959 | J12: =(1+AF12)/(1+LOOKUP($B12,Prix!$B$6:$B$127,Prix!$K$6:$K$127))-1 -> -0.0011475189 | K12: =(1+AG12)/(1+LOOKUP($B12,Prix!$B$6:$B$127,Prix!$K$6:$K$127))-1 -> 0.011476105 | ... X12: =(1+AT12)/(1+LOOKUP($B12,Prix!$B$6:$B$127,Prix!$K$6:$K$127))-1 -> 0.0014539334 | Y12: =(C12+1)*(1+Prix!I82)-1 -> 0.013367593 | Z12: 0.019444656 | AA12: 0.019444656 | AB12: 0.012866061 | AC12: 0.007367636 | AD12: 0.0066278258 | AE12: -0.029420119 | AF12: 0.008272472 | AG12: 0.021015147 | AH12: 0.056989693 | AI12: 0.010972653 | AJ12: 0.012788784 | AK12: 0.0073049992 | AL12: 0.02727846 | AM12: 0.02727846 | AN12: 0.0275 | AO12: 0.02727846 | AP12: 0.0275 | AQ12: 0.02727846 | AR12: 0.021607482 | AS12: 0.019444656 | AT12: 0.010898458
B13: =B12+1 -> 2026 | C13: -0.002 | D13: =(1+Z13)/(1+LOOKUP($B13,Prix!$B$6:$B$127,Prix!$K$6:$K$127))-1 -> 0.003506506 | E13: =(1+AA13)/(1+LOOKUP($B13,Prix!$B$6:$B$127,Prix!$K$6:$K$127))-1 -> 0.003506506 | F13: =(1+AB13)/(1+LOOKUP($B13,Prix!$B$6:$B$127,Prix!$K$6:$K$127))-1 -> -0.017375086 | G13: =(1+AC13)/(1+LOOKUP($B13,Prix!$B$6:$B$127,Prix!$K$6:$K$127))-1 -> -0.0041914498 | H13: =(1+AD13)/(1+LOOKUP($B13,Prix!$B$6:$B$127,Prix!$K$6:$K$127))-1 -> -0.017410065 | I13: =(1+AE13)/(1+LOOKUP($B13,Prix!$B$6:$B$127,Prix!$K$6:$K$127))-1 -> 0.00031831047 | J13: =(1+AF13)/(1+LOOKUP($B13,Prix!$B$6:$B$127,Prix!$K$6:$K$127))-1 -> 0.013015429 | K13: =(1+AG13)/(1+LOOKUP($B13,Prix!$B$6:$B$127,Prix!$K$6:$K$127))-1 -> 0.0030517071 | ... X13: =(1+AT13)/(1+LOOKUP($B13,Prix!$B$6:$B$127,Prix!$K$6:$K$127))-1 -> -0.00018974343 | Y13: =(C13+1)*(1+Prix!I83)-1 -> 0.0166626 | Z13: 0.022272078 | AA13: 0.022272078 | AB13: 0.001 | AC13: 0.01443017 | AD13: 0.00096436633 | AE13: 0.019024263 | AF13: 0.031958818 | AG13: 0.021808774 | AH13: 0.03252976 | AI13: 0.015149017 | AJ13: 0.0053304904 | AK13: 0.0166626 | AL13: 0.027129902 | AM13: 0.027129902 | AN13: 0.0275 | AO13: 0.027129902 | AP13: 0.0275 | AQ13: 0.027129902 | AR13: 0.018552366 | AS13: 0.022272078 | AT13: 0.018506708
B14: =B13+1 -> 2027 | C14: 0.0048 | D14: =(1+Z14)/(1+LOOKUP($B14,Prix!$B$6:$B$127,Prix!$K$6:$K$127))-1 -> 0.011986399 | E14: =(1+AA14)/(1+LOOKUP($B14,Prix!$B$6:$B$127,Prix!$K$6:$K$127))-1 -> 0.011986399 | F14: =(1+AB14)/(1+LOOKUP($B14,Prix!$B$6:$B$127,Prix!$K$6:$K$127))-1 -> -0.014860742 | G14: =(1+AC14)/(1+LOOKUP($B14,Prix!$B$6:$B$127,Prix!$K$6:$K$127))-1 -> 0.0019379283 | H14: =(1+AD14)/(1+LOOKUP($B14,Prix!$B$6:$B$127,Prix!$K$6:$K$127))-1 -> -0.014860742 | I14: =(1+AE14)/(1+LOOKUP($B14,Prix!$B$6:$B$127,Prix!$K$6:$K$127))-1 -> 0.0057014143 | J14: =(1+AF14)/(1+LOOKUP($B14,Prix!$B$6:$B$127,Prix!$K$6:$K$127))-1 -> 0.016621973 | K14: =(1+AG14)/(1+LOOKUP($B14,Prix!$B$6:$B$127,Prix!$K$6:$K$127))-1 -> 0.0079975638 | ... X14: =(1+AT14)/(1+LOOKUP($B14,Prix!$B$6:$B$127,Prix!$K$6:$K$127))-1 -> -0.0001823898 | Y14: =(C14+1)*(1+Prix!I84)-1 -> 0.02097728 | Z14: 0.02827938 | AA14: 0.02827938 | AB14: 0.001 | AC14: 0.018069129 | AD14: 0.001 | AE14: 0.021893207 | AF14: 0.032989587 | AG14: 0.024226325 | AH14: 0.029793724 | AI14: 0.024342534 | AJ14: 0.0053078556 | AK14: 0.02097728 | AL14: 0.027129902 | AM14: 0.027129902 | AN14: 0.0275 | AO14: 0.027129902 | AP14: 0.0275 | AQ14: 0.027129902 | AR14: 0.023026626 | AS14: 0.02827938 | AT14: 0.015914674
B15: =B14+1 -> 2028 | C15: 0.0053 | D15: =(1+Z15)/(1+LOOKUP($B15,Prix!$B$6:$B$127,Prix!$K$6:$K$127))-1 -> 0.011022416 | E15: =(1+AA15)/(1+LOOKUP($B15,Prix!$B$6:$B$127,Prix!$K$6:$K$127))-1 -> 0.011022416 | F15: =(1+AB15)/(1+LOOKUP($B15,Prix!$B$6:$B$127,Prix!$K$6:$K$127))-1 -> -0.011412973 | G15: =(1+AC15)/(1+LOOKUP($B15,Prix!$B$6:$B$127,Prix!$K$6:$K$127))-1 -> 0.0053 | H15: =(1+AD15)/(1+LOOKUP($B15,Prix!$B$6:$B$127,Prix!$K$6:$K$127))-1 -> -0.011405969 | I15: =(1+AE15)/(1+LOOKUP($B15,Prix!$B$6:$B$127,Prix!$K$6:$K$127))-1 -> 0.0053 | J15: =(1+AF15)/(1+LOOKUP($B15,Prix!$B$6:$B$127,Prix!$K$6:$K$127))-1 -> 0.0053 | K15: =(1+AG15)/(1+LOOKUP($B15,Prix!$B$6:$B$127,Prix!$K$6:$K$127))-1 -> 0.0053 | ... X15: =(1+AT15)/(1+LOOKUP($B15,Prix!$B$6:$B$127,Prix!$K$6:$K$127))-1 -> 0.00040754811 | Y15: =(C15+1)*(1+Prix!I85)-1 -> 0.02289275 | Z15: 0.028715309 | AA15: 0.028715309 | AB15: 0.0058873 | AC15: 0.02289275 | AD15: 0.0058944267 | AE15: 0.02289275 | AF15: 0.02289275 | AG15: 0.02289275 | AH15: 0.02289275 | AI15: 0.02289275 | AJ15: 0.02289275 | AK15: 0.02289275 | AL15: 0.02289275 | AM15: 0.02289275 | AN15: 0.02289275 | AO15: 0.02289275 | AP15: 0.02289275 | AQ15: 0.02289275 | AR15: 0.025560998 | AS15: 0.028715309 | AT15: 0.01791468
B16: =B15+1 -> 2029 | C16: 0.006 | D16: =(1+Z16)/(1+LOOKUP($B16,Prix!$B$6:$B$127,Prix!$K$6:$K$127))-1 -> 0.011110881 | E16: =(1+AA16)/(1+LOOKUP($B16,Prix!$B$6:$B$127,Prix!$K$6:$K$127))-1 -> 0.011110881 | F16: =(1+AB16)/(1+LOOKUP($B16,Prix!$B$6:$B$127,Prix!$K$6:$K$127))-1 -> -0.0066097297 | G16: =(1+AC16)/(1+LOOKUP($B16,Prix!$B$6:$B$127,Prix!$K$6:$K$127))-1 -> 0.006 | H16: =(1+AD16)/(1+LOOKUP($B16,Prix!$B$6:$B$127,Prix!$K$6:$K$127))-1 -> -0.0065957214 | I16: =(1+AE16)/(1+LOOKUP($B16,Prix!$B$6:$B$127,Prix!$K$6:$K$127))-1 -> 0.006 | J16: =(1+AF16)/(1+LOOKUP($B16,Prix!$B$6:$B$127,Prix!$K$6:$K$127))-1 -> 0.006 | K16: =(1+AG16)/(1+LOOKUP($B16,Prix!$B$6:$B$127,Prix!$K$6:$K$127))-1 -> 0.006 | ... X16: =(1+AT16)/(1+LOOKUP($B16,Prix!$B$6:$B$127,Prix!$K$6:$K$127))-1 -> 0.0023212261 | Y16: =(C16+1)*(1+Prix!I86)-1 -> 0.023605 | Z16: 0.028805322 | AA16: 0.028805322 | AB16: 0.0107746 | AC16: 0.023605 | AD16: 0.010788853 | AE16: 0.023605 | AF16: 0.023605 | AG16: 0.023605 | AH16: 0.023605 | AI16: 0.023605 | AJ16: 0.023605 | AK16: 0.023605 | AL16: 0.023605 | AM16: 0.023605 | AN16: 0.023605 | AO16: 0.023605 | AP16: 0.023605 | AQ16: 0.023605 | AR16: 0.025903461 | AS16: 0.028805322 | AT16: 0.019861848
B17: =B16+1 -> 2030 | C17: 0.0079 | D17: =(1+Z17)/(1+LOOKUP($B17,Prix!$B$6:$B$127,Prix!$K$6:$K$127))-1 -> 0.011127211 | E17: =(1+AA17)/(1+LOOKUP($B17,Prix!$B$6:$B$127,Prix!$K$6:$K$127))-1 -> 0.011127211 | F17: =(1+AB17)/(1+LOOKUP($B17,Prix!$B$6:$B$127,Prix!$K$6:$K$127))-1 -> -0.0018064865 | G17: =(1+AC17)/(1+LOOKUP($B17,Prix!$B$6:$B$127,Prix!$K$6:$K$127))-1 -> 0.0079 | H17: =(1+AD17)/(1+LOOKUP($B17,Prix!$B$6:$B$127,Prix!$K$6:$K$127))-1 -> -0.001785474 | I17: =(1+AE17)/(1+LOOKUP($B17,Prix!$B$6:$B$127,Prix!$K$6:$K$127))-1 -> 0.0079 | J17: =(1+AF17)/(1+LOOKUP($B17,Prix!$B$6:$B$127,Prix!$K$6:$K$127))-1 -> 0.0079 | K17: =(1+AG17)/(1+LOOKUP($B17,Prix!$B$6:$B$127,Prix!$K$6:$K$127))-1 -> 0.0079 | ... X17: =(1+AT17)/(1+LOOKUP($B17,Prix!$B$6:$B$127,Prix!$K$6:$K$127))-1 -> 0.0042346563 | Y17: =(C17+1)*(1+Prix!I87)-1 -> 0.02553825 | Z17: 0.028821937 | AA17: 0.028821937 | AB17: 0.0156619 | AC17: 0.02553825 | AD17: 0.01568328 | AE17: 0.02553825 | AF17: 0.02553825 | AG17: 0.02553825 | AH17: 0.02553825 | AI17: 0.02553825 | AJ17: 0.02553825 | AK17: 0.02553825 | AL17: 0.02553825 | AM17: 0.02553825 | AN17: 0.02553825 | AO17: 0.02553825 | AP17: 0.02553825 | AQ17: 0.02553825 | AR17: 0.029946189 | AS17: 0.028821937 | AT17: 0.021808763
B18: =B17+1 -> 2031 | C18: 0.0079 | D18: =(1+Z18)/(1+LOOKUP($B18,Prix!$B$6:$B$127,Prix!$K$6:$K$127))-1 -> 0.010333517 | E18: =(1+AA18)/(1+LOOKUP($B18,Prix!$B$6:$B$127,Prix!$K$6:$K$127))-1 -> 0.010333517 | F18: =(1+AB18)/(1+LOOKUP($B18,Prix!$B$6:$B$127,Prix!$K$6:$K$127))-1 -> 0.00098280098 | G18: =(1+AC18)/(1+LOOKUP($B18,Prix!$B$6:$B$127,Prix!$K$6:$K$127))-1 -> 0.0079 | H18: =(1+AD18)/(1+LOOKUP($B18,Prix!$B$6:$B$127,Prix!$K$6:$K$127))-1 -> 0.00098280098 | I18: =(1+AE18)/(1+LOOKUP($B18,Prix!$B$6:$B$127,Prix!$K$6:$K$127))-1 -> 0.0079 | J18: =(1+AF18)/(1+LOOKUP($B18,Prix!$B$6:$B$127,Prix!$K$6:$K$127))-1 -> 0.0079 | K18: =(1+AG18)/(1+LOOKUP($B18,Prix!$B$6:$B$127,Prix!$K$6:$K$127))-1 -> 0.0079 | ... X18: =(1+AT18)/(1+LOOKUP($B18,Prix!$B$6:$B$127,Prix!$K$6:$K$127))-1 -> 0.0061569725 | Y18: =(C18+1)*(1+Prix!I88)-1 -> 0.02553825 | Z18: 0.028014353 | AA18: 0.028014353 | AB18: 0.0185 | AC18: 0.02553825 | AD18: 0.0185 | AE18: 0.02553825 | AF18: 0.02553825 | AG18: 0.02553825 | AH18: 0.02553825 | AI18: 0.02553825 | AJ18: 0.02553825 | AK18: 0.02553825 | AL18: 0.02553825 | AM18: 0.02553825 | AN18: 0.02553825 | AO18: 0.02553825 | AP18: 0.02553825 | AQ18: 0.02553825 | AR18: 0.02602154 | AS18: 0.027665168 | AT18: 0.023764719
B19: =B18+1 -> 2032 | C19: 0.0078 | D19: =(1+Z19)/(1+LOOKUP($B19,Prix!$B$6:$B$127,Prix!$K$6:$K$127))-1 -> 0.0095398226 | E19: =(1+AA19)/(1+LOOKUP($B19,Prix!$B$6:$B$127,Prix!$K$6:$K$127))-1 -> 0.0095398226 | F19: =(1+AB19)/(1+LOOKUP($B19,Prix!$B$6:$B$127,Prix!$K$6:$K$127))-1 -> 0.00098280098 | G19: =(1+AC19)/(1+LOOKUP($B19,Prix!$B$6:$B$127,Prix!$K$6:$K$127))-1 -> 0.0078 | H19: =(1+AD19)/(1+LOOKUP($B19,Prix!$B$6:$B$127,Prix!$K$6:$K$127))-1 -> 0.00098280098 | I19: =(1+AE19)/(1+LOOKUP($B19,Prix!$B$6:$B$127,Prix!$K$6:$K$127))-1 -> 0.0078 | J19: =(1+AF19)/(1+LOOKUP($B19,Prix!$B$6:$B$127,Prix!$K$6:$K$127))-1 -> 0.0078 | K19: =(1+AG19)/(1+LOOKUP($B19,Prix!$B$6:$B$127,Prix!$K$6:$K$127))-1 -> 0.0078 | ... X19: =(1+AT19)/(1+LOOKUP($B19,Prix!$B$6:$B$127,Prix!$K$6:$K$127))-1 -> 0.0080630609 | Y19: =(C19+1)*(1+Prix!I89)-1 -> 0.0254365 | Z19: 0.027206769 | AA19: 0.027206769 | AB19: 0.0185 | AC19: 0.0254365 | AD19: 0.0185 | AE19: 0.0254365 | AF19: 0.0254365 | AG19: 0.0254365 | AH19: 0.0254365 | AI19: 0.0254365 | AJ19: 0.0254365 | AK19: 0.0254365 | AL19: 0.0254365 | AM19: 0.0254365 | AN19: 0.0254365 | AO19: 0.0254365 | AP19: 0.0254365 | AQ19: 0.0254365 | AR19: 0.025416063 | AS19: 0.026028509 | AT19: 0.025704164
